Workbook

Sheet Mau A2 P Bảo
N1: Mẫu A2
C2: ỦY BAN NHÂN DÂN TP.HCM | J2: CỘNG HÒA XÃ HỘI CHỦ NGHĨA VIỆT NAM
C3: TRƯỜNG CĐ KỸ THUẬT LÝ TỰ TRỌNG | J3: Độc lập - Tự do - Hạnh phúc
A5: BẢNG KÊ KHỐI LƯỢNG CÔNG TÁC GIẢNG DẠY CỦA GIÁO VIÊN - GIẢNG VIÊN
A6: TRONG HỌC KỲ 2 - NĂM HỌC 2013 - 2014
B7: Họ và tên giáo viên : | D7: Hoàng | E7: Phúc Bảo | H7: Tổ : | I7: Điện ô tô | L7: Khoa : | M7: Động Lực
M8: (Đơn vị tính : tiết)
A10: TT | B10: Từ ngày ……. tháng ….. đến ngày ……. tháng ….. | C10: Số tuần thực dạy | D10: Môn dạy | E10: Lớp dạy | J10: Thực hiện | N10: Ghi chú
F11: Thực Giảng dạy | K11: Kiêm nhiệm | L11: Khối lượng công tác cộng thêm | M11: Tổng thực hiện
F12: Chưa nhân hệ số | H12: Tổng hệ số | J12: Quy đổi và đã nhân hệ số
F13: LT | G13: TH | H13: LT | I13: TH
A14: (1) | B14: (2) | C14: (3) | D14: (4) | E14: (5) | F14: (6) | G14: (7) | H14: (8) | I14: (9) | J14: (10) | K14: (11) | L14: (12) | M14: (13) | N14: (14)
A15: 1 | B15: 13/2-5/4/2014 | C15: 9 | D15: TT điện ô tô 2 | E15: 11CĐ Ô7 (N2) | G15: 90 | I15: 1 | J15: =ROUND(IF(F15>0,F15*H15,"0")+IF(G15>0,(G15/1.5)*I15,"0"),1) -> 60 | M15: =ROUND(J15+K15+L15,1) -> 60
A16: 2 | B16: 10/3-19/4/2014 | C16: 6 | D16: TTHT điện thân xe | E16: 12TC Ô | G16: 120 | I16: 1 | J16: =ROUND(IF(F16>0,F16*H16,"0")+IF(G16>0,(G16/1.5)*I16,"0"),1) -> 80 | M16: =ROUND(J16+K16+L16,1) -> 80
A17: 3 | D17: GVCN lớp 12CĐ Ô2 | J17: =ROUND(IF(F17>0,F17*H17,"0")+IF(G17>0,(G17/1.5)*I17,"0"),1) -> 0 | K17: =15%*130 -> 19.5 | M17: =ROUND(J17+K17+L17,1) -> 19.5
A18: 4 | D18: TT động cơ 1 | E18: 12CĐ Ô2 | G18: 6 | I18: 1 | J18: =ROUND(IF(F18>0,F18*H18,"0")+IF(G18>0,(G18/1.5)*I18,"0"),1) -> 4 | M18: =ROUND(J18+K18+L18,1) -> 4 | N18: Dạy thay thầy Nguyên ngày 22/5
D19: TT động cơ 1 | E19: 12CĐ Ô2 N1 | G19: 90 | I19: 1 | J19: =ROUND(IF(F19>0,F19*H19,"0")+IF(G19>0,(G19/1.5)*I19,"0"),1) -> 60 | M19: =ROUND(J19+K19+L19,1) -> 60
A20: 6 | J20: =ROUND(IF(F20>0,F20*H20,"0")+IF(G20>0,(G20/1.5)*I20,"0"),1) -> 0 | M20: =ROUND(J20+K20+L20,1) -> 0
A21: 7 | J21: =ROUND(IF(F21>0,F21*H21,"0")+IF(G21>0,(G21/1.5)*I21,"0"),1) -> 0 | M21: =ROUND(J21+K21+L21,1) -> 0
A22: 8 | J22: =ROUND(IF(F22>0,F22*H22,"0")+IF(G22>0,(G22/1.5)*I22,"0"),1) -> 0 | M22: =ROUND(J22+K22+L22,1) -> 0
A23: 9 | J23: =ROUND(IF(F23>0,F23*H23,"0")+IF(G23>0,(G23/1.5)*I23,"0"),1) -> 0 | M23: =ROUND(J23+K23+L23,1) -> 0
A24: 10 | J24: =ROUND(IF(F24>0,F24*H24,"0")+IF(G24>0,(G24/1.5)*I24,"0"),1) -> 0 | M24: =ROUND(J24+K24+L24,1) -> 0
A25: 11 | J25: =ROUND(IF(F25>0,F25*H25,"0")+IF(G25>0,(G25/1.5)*I25,"0"),1) -> 0 | M25: =ROUND(J25+K25+L25,1) -> 0
A26: 12 | J26: =ROUND(IF(F26>0,F26*H26,"0")+IF(G26>0,(G26/1.5)*I26,"0"),1) -> 0 | M26: =ROUND(J26+K26+L26,1) -> 0
A27: 13 | J27: =ROUND(IF(F27>0,F27*H27,"0")+IF(G27>0,(G27/1.5)*I27,"0"),1) -> 0 | M27: =ROUND(J27+K27+L27,1) -> 0
A28: 14 | J28: =ROUND(IF(F28>0,F28*H28,"0")+IF(G28>0,(G28/1.5)*I28,"0"),1) -> 0 | M28: =ROUND(J28+K28+L28,1) -> 0
A29: 15 | J29: =ROUND(IF(F29>0,F29*H29,"0")+IF(G29>0,(G29/1.5)*I29,"0"),1) -> 0 | M29: =ROUND(J29+K29+L29,1) -> 0
A30: 16 | J30: =ROUND(IF(F30>0,F30*H30,"0")+IF(G30>0,(G30/1.5)*I30,"0"),1) -> 0 | M30: =ROUND(J30+K30+L30,1) -> 0
A31: 17 | J31: =ROUND(IF(F31>0,F31*H31,"0")+IF(G31>0,(G31/1.5)*I31,"0"),1) -> 0 | M31: =ROUND(J31+K31+L31,1) -> 0
... A34: 20 | J34: =ROUND(IF(F34>0,F34*H34,"0")+IF(G34>0,(G34/1.5)*I34,"0"),1) -> 0 | M34: =ROUND(J34+K34+L34,1) -> 0
A35: TỔNG CỘNG (theo tiết) | F35: =SUM(F15:F34) -> 0 | G35: =SUM(G15:G34) -> 306 | J35: =SUM(J15:J34) -> 204 | K35: =SUM(K15:K34) -> 19.5 | L35: =SUM(L15:L34) -> 0 | M35: =SUM(M15:M34) -> 223.5
M36: Ngày ……. tháng …... năm 2014
C37: TRƯỞNG KHOA | H37: TRƯỞNG TỔ | M37: GV
B43: NGUYỄN NGỌC PHƯƠNG | F43: TRIỆU PHÚ NGUYÊN | L43: HOÀNG PHÚC BẢO

Sheet Mau A1 P Bảo
N1: Mẫu A1
C2: ỦY BAN NHÂN DÂN TP.HCM | J2: CỘNG HÒA XÃ HỘI CHỦ NGHĨA VIỆT NAM
C3: TRƯỜNG CĐ KỸ THUẬT LÝ TỰ TRỌNG | J3: Độc lập - Tự do - Hạnh phúc
A5: BẢNG KÊ KHỐI LƯỢNG CÔNG TÁC GIẢNG DẠY CỦA GIÁO VIÊN - GIẢNG VIÊN
A6: TRONG HỌC KỲ 1 - NĂM HỌC 2013 - 2014
B7: Họ và tên giáo viên : | D7: Hoàng | E7: Phúc Bảo | H7: Tổ : | I7: Động cơ xăng | L7: Khoa : | M7: Động Lực
M8: (Đơn vị tính : tiết)
A10: TT | B10: Từ ngày ……. tháng ….. đến ngày ……. tháng ….. | C10: Số tuần thực dạy | D10: Môn dạy | E10: Lớp dạy | J10: Thực hiện | N10: Ghi chú
F11: Thực Giảng dạy | K11: Kiêm nhiệm | L11: Khối lượng công tác cộng thêm | M11: Tổng thực hiện
F12: Chưa nhân hệ số | H12: Tổng hệ số | J12: Quy đổi và đã nhân hệ số
F13: LT | G13: TH | H13: LT | I13: TH
A14: (1) | B14: (2) | C14: (3) | D14: (4) | E14: (5) | F14: (6) | G14: (7) | H14: (8) | I14: (9) | J14: (10) | K14: (11) | L14: (12) | M14: (13) | N14: (14)
A15: 1 | B15: 9/9-21/12/2013 | C15: 15 | D15: TT đcơ xăng | E15: 11CĐÔ1 (N1) | G15: 90 | I15: 1 | J15: =ROUND(IF(F15>0,F15*H15,"0")+IF(G15>0,(G15/1.5)*I15,"0"),1) -> 60 | M15: =ROUND(J15+K15+L15,1) -> 60
A16: 2 | B16: 9/9-21/12/2013 | C16: 15 | D16: TT đcơ xăng | E16: 11CĐÔ6 (N1) | G16: 90 | I16: 1 | J16: =ROUND(IF(F16>0,F16*H16,"0")+IF(G16>0,(G16/1.5)*I16,"0"),1) -> 60 | M16: =ROUND(J16+K16+L16,1) -> 60
A17: 3 | B17: 23/9-14/12/2013 | C17: 12 | D17: TT đcơ đốt trong | E17: 12TCÔ (N2) | G17: 90 | I17: 1 | J17: =ROUND(IF(F17>0,F17*H17,"0")+IF(G17>0,(G17/1.5)*I17,"0"),1) -> 60 | M17: =ROUND(J17+K17+L17,1) -> 60
A18: 4 | D18: Ô tô 1 | E18: 11CĐ Ô5 | F18: 5 | H18: 1 | J18: =ROUND(IF(F18>0,F18*H18,"0")+IF(G18>0,(G18/1.5)*I18,"0"),1) -> 5 | M18: =ROUND(J18+K18+L18,1) -> 5 | N18: Dạy thay thầy Kiệt ngày 13/12
A19: 5 | D19: TT đcơ đốt trong | E19: 12TC Ô(N1) | G19: 5 | I19: 1 | J19: =ROUND(IF(F19>0,F19*H19,"0")+IF(G19>0,(G19/1.5)*I19,"0"),1) -> 3.3 | M19: =ROUND(J19+K19+L19,1) -> 3.3 | N19: Dạy thay thầy Nguyên ngày 28/12
A20: 6 | J20: =ROUND(IF(F20>0,F20*H20,"0")+IF(G20>0,(G20/1.5)*I20,"0"),1) -> 0 | M20: =ROUND(J20+K20+L20,1) -> 0
A21: 7 | J21: =ROUND(IF(F21>0,F21*H21,"0")+IF(G21>0,(G21/1.5)*I21,"0"),1) -> 0 | M21: =ROUND(J21+K21+L21,1) -> 0
A22: 8 | J22: =ROUND(IF(F22>0,F22*H22,"0")+IF(G22>0,(G22/1.5)*I22,"0"),1) -> 0 | M22: =ROUND(J22+K22+L22,1) -> 0
A23: 9 | J23: =ROUND(IF(F23>0,F23*H23,"0")+IF(G23>0,(G23/1.5)*I23,"0"),1) -> 0 | M23: =ROUND(J23+K23+L23,1) -> 0
A24: 10 | J24: =ROUND(IF(F24>0,F24*H24,"0")+IF(G24>0,(G24/1.5)*I24,"0"),1) -> 0 | M24: =ROUND(J24+K24+L24,1) -> 0
A25: 11 | J25: =ROUND(IF(F25>0,F25*H25,"0")+IF(G25>0,(G25/1.5)*I25,"0"),1) -> 0 | M25: =ROUND(J25+K25+L25,1) -> 0
A26: 12 | J26: =ROUND(IF(F26>0,F26*H26,"0")+IF(G26>0,(G26/1.5)*I26,"0"),1) -> 0 | M26: =ROUND(J26+K26+L26,1) -> 0
A27: 13 | J27: =ROUND(IF(F27>0,F27*H27,"0")+IF(G27>0,(G27/1.5)*I27,"0"),1) -> 0 | M27: =ROUND(J27+K27+L27,1) -> 0
A28: 14 | J28: =ROUND(IF(F28>0,F28*H28,"0")+IF(G28>0,(G28/1.5)*I28,"0"),1) -> 0 | M28: =ROUND(J28+K28+L28,1) -> 0
A29: 15 | J29: =ROUND(IF(F29>0,F29*H29,"0")+IF(G29>0,(G29/1.5)*I29,"0"),1) -> 0 | M29: =ROUND(J29+K29+L29,1) -> 0
A30: 16 | J30: =ROUND(IF(F30>0,F30*H30,"0")+IF(G30>0,(G30/1.5)*I30,"0"),1) -> 0 | M30: =ROUND(J30+K30+L30,1) -> 0
A31: 17 | J31: =ROUND(IF(F31>0,F31*H31,"0")+IF(G31>0,(G31/1.5)*I31,"0"),1) -> 0 | M31: =ROUND(J31+K31+L31,1) -> 0
... A34: 20 | J34: =ROUND(IF(F34>0,F34*H34,"0")+IF(G34>0,(G34/1.5)*I34,"0"),1) -> 0 | M34: =ROUND(J34+K34+L34,1) -> 0
A35: TỔNG CỘNG (theo tiết) | F35: =SUM(F15:F34) -> 5 | G35: =SUM(G15:G34) -> 275 | J35: =SUM(J15:J34) -> 188.3 | K35: =SUM(K15:K34) -> 0 | L35: =SUM(L15:L34) -> 0 | M35: =SUM(M15:M34) -> 188.3
M36: Ngày ……. tháng …... năm 2014
C37: TRƯỞNG KHOA | H37: TRƯỞNG TỔ | M37: GV
B43: NGUYỄN NGỌC PHƯƠNG | F43: TRIỆU PHÚ NGUYÊN | L43: HOÀNG PHÚC BẢO

Sheet Mau A2 Đức
N1: Mẫu A2
C2: ỦY BAN NHÂN DÂN TP.HCM | J2: CỘNG HÒA XÃ HỘI CHỦ NGHĨA VIỆT NAM
C3: TRƯỜNG CĐ KỸ THUẬT LÝ TỰ TRỌNG | J3: Độc lập - Tự do - Hạnh phúc
A5: BẢNG KÊ KHỐI LƯỢNG CÔNG TÁC GIẢNG DẠY CỦA GIÁO VIÊN - GIẢNG VIÊN
A6: TRONG HỌC KỲ 2 - NĂM HỌC 2013 - 2014
B7: Họ và tên giáo viên : | D7: Nguyễn Thành | E7: Đức | H7: Tổ : | I7: Điện Ô tô | L7: Khoa : | M7: Động Lực
M8: (Đơn vị tính : tiết)
A10: TT | B10: Từ ngày ……. tháng ….. đến ngày ……. tháng ….. | C10: Số tuần thực dạy | D10: Môn dạy | E10: Lớp dạy | J10: Thực hiện | N10: Ghi chú
F11: Thực Giảng dạy | K11: Kiêm nhiệm | L11: Khối lượng công tác cộng thêm | M11: Tổng thực hiện
F12: Chưa nhân hệ số | H12: Tổng hệ số | J12: Quy đổi và đã nhân hệ số
F13: LT | G13: TH | H13: LT | I13: TH
A14: (1) | B14: (2) | C14: (3) | D14: (4) | E14: (5) | F14: (6) | G14: (7) | H14: (8) | I14: (9) | J14: (10) | K14: (11) | L14: (12) | M14: (13) | N14: (14)
A15: 1 | B15: 13/1/2014-5/4/2014 | C15: 9 | D15: Thực tập điện ô tô 2 | E15: 11CĐ Ô2 (N1) | G15: 90 | I15: 1 | J15: =ROUND(IF('Mau A1 Đức'!F15>0,'Mau A1 Đức'!F15*'Mau A1 Đức'!H15,"0")+IF('Mau A1 Đức'!G15>0,('Mau A1 Đức'!G15/1.5)*'Mau A1 Đức'!I15,"0"),1) -> 60 | M15: =ROUND(J15+K15+L15,1) -> 60
A16: 2 | B16: 13/1/2014-5/4/2014 | C16: 9 | D16: Thực tập điện ô tô 2 | E16: 11CĐ Ô5 (N2) | G16: 90 | I16: 1 | J16: =ROUND(IF('Mau A1 Đức'!F16>0,'Mau A1 Đức'!F16*'Mau A1 Đức'!H16,"0")+IF('Mau A1 Đức'!G16>0,('Mau A1 Đức'!G16/1.5)*'Mau A1 Đức'!I16,"0"),1) -> 60 | M16: =ROUND(J16+K16+L16,1) -> 60
A17: 3 | D17: Ôn thi TN khóa 12TC Ô | F17: 10 | H17: 1 | J17: =ROUND(IF(F17>0,F17*H17,"0")+IF(G17>0,(G17/1.5)*I17,"0"),1) -> 10 | M17: =ROUND(J17+K17+L17,1) -> 10
A18: 4 | J18: =ROUND(IF(F18>0,F18*H18,"0")+IF(G18>0,(G18/1.5)*I18,"0"),1) -> 0 | M18: =ROUND(J18+K18+L18,1) -> 0
J19: =ROUND(IF(F19>0,F19*H19,"0")+IF(G19>0,(G19/1.5)*I19,"0"),1) -> 0 | M19: =ROUND(J19+K19+L19,1) -> 0
A20: 6 | J20: =ROUND(IF(F20>0,F20*H20,"0")+IF(G20>0,(G20/1.5)*I20,"0"),1) -> 0 | M20: =ROUND(J20+K20+L20,1) -> 0
A21: 7 | J21: =ROUND(IF(F21>0,F21*H21,"0")+IF(G21>0,(G21/1.5)*I21,"0"),1) -> 0 | M21: =ROUND(J21+K21+L21,1) -> 0
A22: 8 | J22: =ROUND(IF(F22>0,F22*H22,"0")+IF(G22>0,(G22/1.5)*I22,"0"),1) -> 0 | M22: =ROUND(J22+K22+L22,1) -> 0
A23: 9 | J23: =ROUND(IF(F23>0,F23*H23,"0")+IF(G23>0,(G23/1.5)*I23,"0"),1) -> 0 | M23: =ROUND(J23+K23+L23,1) -> 0
A24: 10 | J24: =ROUND(IF(F24>0,F24*H24,"0")+IF(G24>0,(G24/1.5)*I24,"0"),1) -> 0 | M24: =ROUND(J24+K24+L24,1) -> 0
A25: 11 | J25: =ROUND(IF(F25>0,F25*H25,"0")+IF(G25>0,(G25/1.5)*I25,"0"),1) -> 0 | M25: =ROUND(J25+K25+L25,1) -> 0
A26: 12 | J26: =ROUND(IF(F26>0,F26*H26,"0")+IF(G26>0,(G26/1.5)*I26,"0"),1) -> 0 | M26: =ROUND(J26+K26+L26,1) -> 0
A27: 13 | J27: =ROUND(IF(F27>0,F27*H27,"0")+IF(G27>0,(G27/1.5)*I27,"0"),1) -> 0 | M27: =ROUND(J27+K27+L27,1) -> 0
A28: 14 | J28: =ROUND(IF(F28>0,F28*H28,"0")+IF(G28>0,(G28/1.5)*I28,"0"),1) -> 0 | M28: =ROUND(J28+K28+L28,1) -> 0
A29: 15 | J29: =ROUND(IF(F29>0,F29*H29,"0")+IF(G29>0,(G29/1.5)*I29,"0"),1) -> 0 | M29: =ROUND(J29+K29+L29,1) -> 0
A30: 16 | J30: =ROUND(IF(F30>0,F30*H30,"0")+IF(G30>0,(G30/1.5)*I30,"0"),1) -> 0 | M30: =ROUND(J30+K30+L30,1) -> 0
A31: 17 | J31: =ROUND(IF(F31>0,F31*H31,"0")+IF(G31>0,(G31/1.5)*I31,"0"),1) -> 0 | M31: =ROUND(J31+K31+L31,1) -> 0
... A34: 20 | J34: =ROUND(IF(F34>0,F34*H34,"0")+IF(G34>0,(G34/1.5)*I34,"0"),1) -> 0 | M34: =ROUND(J34+K34+L34,1) -> 0
A35: TỔNG CỘNG (theo tiết) | F35: =SUM(F20:F34) -> 0 | G35: =SUM(G15:G34) -> 180 | J35: =SUM(J15:J34) -> 130 | K35: =SUM(K15:K34) -> 0 | L35: =SUM(L15:L34) -> 0 | M35: =SUM(M15:M34) -> 130
M39: Ngày ……. tháng …... năm 2014
C40: TRƯỞNG KHOA | H40: TRƯỞNG TỔ | M40: GV
B46: NGUYỄN NGỌC PHƯƠNG | F46: NGUYỄN ANH TUẤN | L46: NGUYỄN THÀNH ĐỨC

Sheet Mau A1 Đức
N1: Mẫu A1
C2: ỦY BAN NHÂN DÂN TP.HCM | J2: CỘNG HÒA XÃ HỘI CHỦ NGHĨA VIỆT NAM
C3: TRƯỜNG CĐ KỸ THUẬT LÝ TỰ TRỌNG | J3: Độc lập - Tự do - Hạnh phúc
A5: BẢNG KÊ KHỐI LƯỢNG CÔNG TÁC GIẢNG DẠY CỦA GIÁO VIÊN - GIẢNG VIÊN
A6: TRONG HỌC KỲ 1 - NĂM HỌC 2013 - 2014
B7: Họ và tên giáo viên : | D7: Nguyễn Thành | E7: Đức | H7: Tổ : | I7: Điện ô tô | L7: Khoa : | M7: Động Lực
M8: (Đơn vị tính : tiết)
A10: TT | B10: Từ ngày ……. tháng ….. đến ngày ……. tháng ….. | C10: Số tuần thực dạy | D10: Môn dạy | E10: Lớp dạy | J10: Thực hiện | N10: Ghi chú
F11: Thực Giảng dạy | K11: Kiêm nhiệm | L11: Khối lượng công tác cộng thêm | M11: Tổng thực hiện
F12: Chưa nhân hệ số | H12: Tổng hệ số | J12: Quy đổi và đã nhân hệ số
F13: LT | G13: TH | H13: LT | I13: TH
A14: (1) | B14: (2) | C14: (3) | D14: (4) | E14: (5) | F14: (6) | G14: (7) | H14: (8) | I14: (9) | J14: (10) | K14: (11) | L14: (12) | M14: (13) | N14: (14)
A15: 1 | B15: 9/9-21/12/2013 | C15: 15 | D15: TT điện ô tô 1 | E15: 11CĐ Ô2(N1) | G15: 90 | I15: 1 | J15: =ROUND(IF(F15>0,F15*H15,"0")+IF(G15>0,(G15/1.5)*I15,"0"),1) -> 60 | M15: =ROUND(J15+K15+L15,1) -> 60
A16: 2 | B16: 9/9-21/12/2013 | C16: 15 | D16: TT điện ô tô 1 | E16: 11CĐ Ô5(N2) | G16: 90 | I16: 1 | J16: =ROUND(IF(F16>0,F16*H16,"0")+IF(G16>0,(G16/1.5)*I16,"0"),1) -> 60 | M16: =ROUND(J16+K16+L16,1) -> 60
A17: 3 | B17: 9/9-21/12/2013 | C17: 15 | D17: TT điện ô tô 1 | E17: 11CĐ Ô7(N1) | G17: 90 | I17: 1 | J17: =ROUND(IF(F17>0,F17*H17,"0")+IF(G17>0,(G17/1.5)*I17,"0"),1) -> 60 | M17: =ROUND(J17+K17+L17,1) -> 60
A18: 4 | B18: 9/9-21/12/2013 | C18: 15 | D18: TT động cơ xăng | E18: 11CĐ Ô7 (N2) | G18: 90 | I18: 1 | J18: =ROUND(IF(F18>0,F18*H18,"0")+IF(G18>0,(G18/1.5)*I18,"0"),1) -> 60 | M18: =ROUND(J18+K18+L18,1) -> 60
A19: 5 | B19: 9/9-21/12/2013 | C19: 15 | D19: HT điện và điện tử ô tô | E19: 11CĐ Ô5 | F19: 75 | H19: 1 | J19: =ROUND(IF(F19>0,F19*H19,"0")+IF(G19>0,(G19/1.5)*I19,"0"),1) -> 75 | M19: =ROUND(J19+K19+L19,1) -> 75
A20: 6 | D20: TT kỹ thuật lái xe | E20: 13CĐ Ô3(N2) | G20: 5 | I20: 1.2 | J20: =ROUND(IF(F20>0,F20*H20,"0")+IF(G20>0,(G20/1.5)*I20,"0"),1) -> 4 | M20: =ROUND(J20+K20+L20,1) -> 4 | N20: Dạy thay thầy Nguyên 5t ngày 28/12
A21: 7 | D21: Ô tô 1 | E21: 11CĐ Ô6 | F21: 5 | H21: 1 | J21: =ROUND(IF(F21>0,F21*H21,"0")+IF(G21>0,(G21/1.5)*I21,"0"),1) -> 5 | M21: =ROUND(J21+K21+L21,1) -> 5 | N21: Dạy thay thầy Tín ngày 13/9
A22: 8 | J22: =ROUND(IF(F22>0,F22*H22,"0")+IF(G22>0,(G22/1.5)*I22,"0"),1) -> 0 | M22: =ROUND(J22+K22+L22,1) -> 0
A23: 9 | J23: =ROUND(IF(F23>0,F23*H23,"0")+IF(G23>0,(G23/1.5)*I23,"0"),1) -> 0 | M23: =ROUND(J23+K23+L23,1) -> 0
A24: 10 | J24: =ROUND(IF(F24>0,F24*H24,"0")+IF(G24>0,(G24/1.5)*I24,"0"),1) -> 0 | M24: =ROUND(J24+K24+L24,1) -> 0
A25: 11 | J25: =ROUND(IF(F25>0,F25*H25,"0")+IF(G25>0,(G25/1.5)*I25,"0"),1) -> 0 | M25: =ROUND(J25+K25+L25,1) -> 0
A26: 12 | J26: =ROUND(IF(F26>0,F26*H26,"0")+IF(G26>0,(G26/1.5)*I26,"0"),1) -> 0 | M26: =ROUND(J26+K26+L26,1) -> 0
A27: 13 | J27: =ROUND(IF(F27>0,F27*H27,"0")+IF(G27>0,(G27/1.5)*I27,"0"),1) -> 0 | M27: =ROUND(J27+K27+L27,1) -> 0
A28: 14 | J28: =ROUND(IF(F28>0,F28*H28,"0")+IF(G28>0,(G28/1.5)*I28,"0"),1) -> 0 | M28: =ROUND(J28+K28+L28,1) -> 0
A29: 15 | J29: =ROUND(IF(F29>0,F29*H29,"0")+IF(G29>0,(G29/1.5)*I29,"0"),1) -> 0 | M29: =ROUND(J29+K29+L29,1) -> 0
A30: 16 | J30: =ROUND(IF(F30>0,F30*H30,"0")+IF(G30>0,(G30/1.5)*I30,"0"),1) -> 0 | M30: =ROUND(J30+K30+L30,1) -> 0
A31: 17 | J31: =ROUND(IF(F31>0,F31*H31,"0")+IF(G31>0,(G31/1.5)*I31,"0"),1) -> 0 | M31: =ROUND(J31+K31+L31,1) -> 0
A32: 18 | J32: =ROUND(IF(F32>0,F32*H32,"0")+IF(G32>0,(G32/1.5)*I32,"0"),1) -> 0 | M32: =ROUND(J32+K32+L32,1) -> 0
A33: 19 | J33: =ROUND(IF(F33>0,F33*H33,"0")+IF(G33>0,(G33/1.5)*I33,"0"),1) -> 0 | M33: =ROUND(J33+K33+L33,1) -> 0
A34: 20 | J34: =ROUND(IF(F34>0,F34*H34,"0")+IF(G34>0,(G34/1.5)*I34,"0"),1) -> 0 | M34: =ROUND(J34+K34+L34,1) -> 0
A35: TỔNG CỘNG (theo tiết) | F35: =SUM(F15:F34) -> 80 | G35: =SUM(G15:G34) -> 365 | J35: =SUM(J15:J34) -> 324 | K35: =SUM(K15:K34) -> 0 | L35: =SUM(L15:L34) -> 0 | M35: =SUM(M15:M34) -> 324
M36: Ngày ……. tháng …... năm 2014
C37: TRƯỞNG KHOA | H37: TRƯỞNG TỔ | M37: GV
B44: NGUYỄN NGỌC PHƯƠNG | F44: NGUYỄN ANH TUẤN | L44: NGUYỄN THÀNH ĐỨC

Sheet Mau A2 Mạnh
N1: Mẫu A2
C2: ỦY BAN NHÂN DÂN TP.HCM | J2: CỘNG HÒA XÃ HỘI CHỦ NGHĨA VIỆT NAM
C3: TRƯỜNG CĐ KỸ THUẬT LÝ TỰ TRỌNG | J3: Độc lập - Tự do - Hạnh phúc
A5: BẢNG KÊ KHỐI LƯỢNG CÔNG TÁC GIẢNG DẠY CỦA GIÁO VIÊN - GIẢNG VIÊN
A6: TRONG HỌC KỲ 2 - NĂM HỌC 2013 - 2014
B7: Họ và tên giáo viên : | D7: Nguyễn Hữu | E7: Mạnh | H7: Tổ : | I7: Gầm | L7: Khoa : | M7: Động Lực
M8: (Đơn vị tính : tiết)
A10: TT | B10: Từ ngày ……. tháng ….. đến ngày ……. tháng ….. | C10: Số tuần thực dạy | D10: Môn dạy | E10: Lớp dạy | J10: Thực hiện | N10: Ghi chú
F11: Thực Giảng dạy | K11: Kiêm nhiệm | L11: Khối lượng công tác cộng thêm | M11: Tổng thực hiện
F12: Chưa nhân hệ số | H12: Tổng hệ số | J12: Quy đổi và đã nhân hệ số
F13: LT | G13: TH | H13: LT | I13: TH
A14: (1) | B14: (2) | C14: (3) | D14: (4) | E14: (5) | F14: (6) | G14: (7) | H14: (8) | I14: (9) | J14: (10) | K14: (11) | L14: (12) | M14: (13) | N14: (14)
A15: 1 | B15: 13/1/2014-5/4/2014 | C15: 9 | D15: Thực tập ô tô 2 | E15: 11CĐ Ô2 (N1) | G15: 80 | I15: 1 | J15: =ROUND(IF(F15>0,F15*H15,"0")+IF(G15>0,(G15/1.5)*I15,"0"),1) -> 53.3 | M15: =ROUND(J15+K15+L15,1) -> 53.3 | N15: Thấy Hóa dạy thay 10 tiết ngày 28,29/3
A16: 2 | B16: 13/1/2014-5/4/2014 | C16: 9 | D16: Thực tập ô tô 2 | E16: 11CĐ Ô2 (N2) | G16: 80 | I16: 1 | J16: =ROUND(IF(F16>0,F16*H16,"0")+IF(G16>0,(G16/1.5)*I16,"0"),1) -> 53.3 | M16: =ROUND(J16+K16+L16,1) -> 53.3 | N16: Thấy Hóa dạy thay 10 tiết ngày 28,29/3
A17: 3 | B17: 13/1/2014-5/4/2014 | C17: 9 | D17: Thực tập ô tô 2 | E17: 11CĐ Ô3 (N1) | G17: 85 | I17: 1 | J17: =ROUND(IF(F17>0,F17*H17,"0")+IF(G17>0,(G17/1.5)*I17,"0"),1) -> 56.7 | M17: =ROUND(J17+K17+L17,1) -> 56.7 | N17: Thầy Hùng dạy thay 5 tiết ngày 4/1/14
A18: 4 | B18: 13/1/2014-5/4/2014 | C18: 9 | D18: Thực tập ô tô 2 | E18: 11CĐ Ô3 (N2) | G18: 85 | I18: 1 | J18: =ROUND(IF(F18>0,F18*H18,"0")+IF(G18>0,(G18/1.5)*I18,"0"),1) -> 56.7 | M18: =ROUND(J18+K18+L18,1) -> 56.7 | N18: Thầy Hùng dạy thay 5 tiết ngày 4/1/14
A19: 5 | D19: Tổ trưởng | J19: =ROUND(IF(F19>0,F19*H19,"0")+IF(G19>0,(G19/1.5)*I19,"0"),1) -> 0 | K19: =20%*130 -> 26 | M19: =ROUND(J19+K19+L19,1) -> 26
A20: 6 | D20: Ôn thi TN khóa 11CDO và 12LTO | F20: 25 | H20: 1 | J20: =ROUND(IF(F20>0,F20*H20,"0")+IF(G20>0,(G20/1.5)*I20,"0"),1) -> 25 | M20: =ROUND(J20+K20+L20,1) -> 25
A21: 7 | J21: =ROUND(IF(F21>0,F21*H21,"0")+IF(G21>0,(G21/1.5)*I21,"0"),1) -> 0 | M21: =ROUND(J21+K21+L21,1) -> 0
A22: 8 | J22: =ROUND(IF(F22>0,F22*H22,"0")+IF(G22>0,(G22/1.5)*I22,"0"),1) -> 0 | M22: =ROUND(J22+K22+L22,1) -> 0
A23: 9 | J23: =ROUND(IF(F23>0,F23*H23,"0")+IF(G23>0,(G23/1.5)*I23,"0"),1) -> 0 | M23: =ROUND(J23+K23+L23,1) -> 0
A24: 10 | J24: =ROUND(IF(F24>0,F24*H24,"0")+IF(G24>0,(G24/1.5)*I24,"0"),1) -> 0 | M24: =ROUND(J24+K24+L24,1) -> 0
A25: 11 | J25: =ROUND(IF(F25>0,F25*H25,"0")+IF(G25>0,(G25/1.5)*I25,"0"),1) -> 0 | M25: =ROUND(J25+K25+L25,1) -> 0
A26: 12 | J26: =ROUND(IF(F26>0,F26*H26,"0")+IF(G26>0,(G26/1.5)*I26,"0"),1) -> 0 | M26: =ROUND(J26+K26+L26,1) -> 0
A27: 13 | J27: =ROUND(IF(F27>0,F27*H27,"0")+IF(G27>0,(G27/1.5)*I27,"0"),1) -> 0 | M27: =ROUND(J27+K27+L27,1) -> 0
A28: 14 | J28: =ROUND(IF(F28>0,F28*H28,"0")+IF(G28>0,(G28/1.5)*I28,"0"),1) -> 0 | M28: =ROUND(J28+K28+L28,1) -> 0
A29: 15 | J29: =ROUND(IF(F29>0,F29*H29,"0")+IF(G29>0,(G29/1.5)*I29,"0"),1) -> 0 | M29: =ROUND(J29+K29+L29,1) -> 0
A30: 16 | J30: =ROUND(IF(F30>0,F30*H30,"0")+IF(G30>0,(G30/1.5)*I30,"0"),1) -> 0 | M30: =ROUND(J30+K30+L30,1) -> 0
A31: 17 | J31: =ROUND(IF(F31>0,F31*H31,"0")+IF(G31>0,(G31/1.5)*I31,"0"),1) -> 0 | M31: =ROUND(J31+K31+L31,1) -> 0
A32: 18 | J32: =ROUND(IF(F32>0,F32*H32,"0")+IF(G32>0,(G32/1.5)*I32,"0"),1) -> 0 | M32: =ROUND(J32+K32+L32,1) -> 0
... A34: 20 | J34: =ROUND(IF(F34>0,F34*H34,"0")+IF(G34>0,(G34/1.5)*I34,"0"),1) -> 0 | M34: =ROUND(J34+K34+L34,1) -> 0
A35: TỔNG CỘNG (theo tiết) | F35: =SUM(F15:F34) -> 25 | G35: =SUM(G15:G34) -> 330 | J35: =SUM(J15:J34) -> 245 | K35: =SUM(K15:K34) -> 26 | L35: =SUM(L15:L34) -> 0 | M35: =SUM(M15:M34) -> 271
M39: Ngày ……. tháng …... năm 2014
C40: TRƯỞNG KHOA | H40: TRƯỞNG TỔ | M40: GV
B44: NGUYỄN NGỌC PHƯƠNG | F44: NGUYỄN HỮU MẠNH | L44: NGUYỄN HỮU MẠNH

Sheet Mau A1 Mạnh
N1: Mẫu A1
C2: ỦY BAN NHÂN DÂN TP.HCM | J2: CỘNG HÒA XÃ HỘI CHỦ NGHĨA VIỆT NAM
C3: TRƯỜNG CĐ KỸ THUẬT LÝ TỰ TRỌNG | J3: Độc lập - Tự do - Hạnh phúc
A5: BẢNG KÊ KHỐI LƯỢNG CÔNG TÁC GIẢNG DẠY CỦA GIÁO VIÊN - GIẢNG VIÊN
A6: TRONG HỌC KỲ 1 - NĂM HỌC 2013 - 2014
B7: Họ và tên giáo viên : | D7: Nguyễn Hữu | E7: Mạnh | H7: Tổ : | I7: Gầm Ô Tô | L7: Khoa : | M7: Động Lực
M8: (Đơn vị tính : tiết)
A10: TT | B10: Từ ngày ……. tháng ….. đến ngày ……. tháng ….. | C10: Số tuần thực dạy | D10: Môn dạy | E10: Lớp dạy | J10: Thực hiện | N10: Ghi chú
F11: Thực Giảng dạy | K11: Kiêm nhiệm | L11: Khối lượng công tác cộng thêm | M11: Tổng thực hiện
F12: Chưa nhân hệ số | H12: Tổng hệ số | J12: Quy đổi và đã nhân hệ số
F13: LT | G13: TH | H13: LT | I13: TH
A14: (1) | B14: (2) | C14: (3) | D14: (4) | E14: (5) | F14: (6) | G14: (7) | H14: (8) | I14: (9) | J14: (10) | K14: (11) | L14: (12) | M14: (13) | N14: (14)
A15: 1 | B15: 9/9-21/12/2013 | C15: 15 | D15: TT ô tô 1 | E15: 11CĐ Ô3(N1) | G15: 84 | I15: 1 | J15: =ROUND(IF(F15>0,F15*H15,"0")+IF(G15>0,(G15/1.5)*I15,"0"),1) -> 56 | M15: =ROUND(J15+K15+L15,1) -> 56 | N15: Thấy Hóa dạy thay tôi 6 tiết ngày 16/9
A16: 2 | B16: 9/9-21/12/2013 | C16: 15 | D16: TT ô tô 1 | E16: 11CĐ Ô3(N2) | G16: 84 | I16: 1 | J16: =ROUND(IF(F16>0,F16*H16,"0")+IF(G16>0,(G16/1.5)*I16,"0"),1) -> 56 | M16: =ROUND(J16+K16+L16,1) -> 56 | N16: Thấy Hùng dạy thay tôi 6 tiết ngày 16/9
A17: 3 | B17: 9/9-21/12/2013 | C17: 15 | D17: Ô tô 2 | E17: 11CĐ Ô3 | F17: 28 | H17: 1 | J17: =ROUND(IF(F17>0,F17*H17,"0")+IF(G17>0,(G17/1.5)*I17,"0"),1) -> 28 | M17: =ROUND(J17+K17+L17,1) -> 28 | N17: Thấy Bình dạy thay tôi 2 tiết ngày 17/9
A18: 4 | B18: 14/10-22/2/2014 | C18: 15 | D18: Đồ án kết cấu ô tô | E18: 12TC Ô | F18: 60 | H18: 1 | J18: =ROUND(IF(F18>0,F18*H18,"0")+IF(G18>0,(G18/1.5)*I18,"0"),1) -> 60 | M18: =ROUND(J18+K18+L18,1) -> 60
A19: 5 | D19: Tổ trưởng | K19: =20%*130 -> 26 | M19: =ROUND(J19+K19+L19,1) -> 26
A20: 6
A21: 7 | J21: =ROUND(IF(F21>0,F21*H21,"0")+IF(G21>0,(G21/1.5)*I21,"0"),1) -> 0 | M21: =ROUND(J21+K21+L21,1) -> 0
A22: 8 | J22: =ROUND(IF(F22>0,F22*H22,"0")+IF(G22>0,(G22/1.5)*I22,"0"),1) -> 0 | M22: =ROUND(J22+K22+L22,1) -> 0
A23: 9 | J23: =ROUND(IF(F23>0,F23*H23,"0")+IF(G23>0,(G23/1.5)*I23,"0"),1) -> 0 | M23: =ROUND(J23+K23+L23,1) -> 0
A24: 10 | J24: =ROUND(IF(F24>0,F24*H24,"0")+IF(G24>0,(G24/1.5)*I24,"0"),1) -> 0 | M24: =ROUND(J24+K24+L24,1) -> 0
A25: 11 | J25: =ROUND(IF(F25>0,F25*H25,"0")+IF(G25>0,(G25/1.5)*I25,"0"),1) -> 0 | M25: =ROUND(J25+K25+L25,1) -> 0
A26: 12 | J26: =ROUND(IF(F26>0,F26*H26,"0")+IF(G26>0,(G26/1.5)*I26,"0"),1) -> 0 | M26: =ROUND(J26+K26+L26,1) -> 0
A27: 13 | J27: =ROUND(IF(F27>0,F27*H27,"0")+IF(G27>0,(G27/1.5)*I27,"0"),1) -> 0 | M27: =ROUND(J27+K27+L27,1) -> 0
A28: 14 | J28: =ROUND(IF(F28>0,F28*H28,"0")+IF(G28>0,(G28/1.5)*I28,"0"),1) -> 0 | M28: =ROUND(J28+K28+L28,1) -> 0
A29: 15 | J29: =ROUND(IF(F29>0,F29*H29,"0")+IF(G29>0,(G29/1.5)*I29,"0"),1) -> 0 | M29: =ROUND(J29+K29+L29,1) -> 0
A30: 16 | J30: =ROUND(IF(F30>0,F30*H30,"0")+IF(G30>0,(G30/1.5)*I30,"0"),1) -> 0 | M30: =ROUND(J30+K30+L30,1) -> 0
A31: 17 | J31: =ROUND(IF(F31>0,F31*H31,"0")+IF(G31>0,(G31/1.5)*I31,"0"),1) -> 0 | M31: =ROUND(J31+K31+L31,1) -> 0
A32: 18 | J32: =ROUND(IF(F32>0,F32*H32,"0")+IF(G32>0,(G32/1.5)*I32,"0"),1) -> 0 | M32: =ROUND(J32+K32+L32,1) -> 0
... A34: 20 | J34: =ROUND(IF(F34>0,F34*H34,"0")+IF(G34>0,(G34/1.5)*I34,"0"),1) -> 0 | M34: =ROUND(J34+K34+L34,1) -> 0
A35: TỔNG CỘNG (theo tiết) | F35: =SUM(F15:F34) -> 88 | G35: =SUM(G15:G34) -> 168 | J35: =SUM(J15:J34) -> 200 | K35: =SUM(K15:K34) -> 26 | L35: =SUM(L15:L34) -> 0 | M35: =SUM(M15:M34) -> 226
M36: Ngày ……. tháng …... năm 2014
C37: TRƯỞNG KHOA | H37: TRƯỞNG TỔ | M37: GV
B43: NGUYỄN NGỌC PHƯƠNG | F43: NGUYỄN HỮU MẠNH | L43: NGUYỄN HỮU MẠNH

Sheet Mau A2 Bình
N1: Mẫu A2
C2: ỦY BAN NHÂN DÂN TP.HCM | J2: CỘNG HÒA XÃ HỘI CHỦ NGHĨA VIỆT NAM
C3: TRƯỜNG CĐ KỸ THUẬT LÝ TỰ TRỌNG | J3: Độc lập - Tự do - Hạnh phúc
A5: BẢNG KÊ KHỐI LƯỢNG CÔNG TÁC GIẢNG DẠY CỦA GIÁO VIÊN - GIẢNG VIÊN
A6: TRONG HỌC KỲ 2 - NĂM HỌC 2013 - 2014
B7: Họ và tên giáo viên : | D7: Nguyễn Thái | E7: Bình | H7: Tổ : | I7: Gầm | L7: Khoa : | M7: Động Lực
M8: (Đơn vị tính : tiết)
A10: TT | B10: Từ ngày ……. tháng ….. đến ngày ……. tháng ….. | C10: Số tuần thực dạy | D10: Môn dạy | E10: Lớp dạy | J10: Thực hiện | N10: Ghi chú
F11: Thực Giảng dạy | K11: Kiêm nhiệm | L11: Khối lượng công tác cộng thêm | M11: Tổng thực hiện
F12: Chưa nhân hệ số | H12: Tổng hệ số | J12: Quy đổi và đã nhân hệ số
F13: LT | G13: TH | H13: LT | I13: TH
A14: (1) | B14: (2) | C14: (3) | D14: (4) | E14: (5) | F14: (6) | G14: (7) | H14: (8) | I14: (9) | J14: (10) | K14: (11) | L14: (12) | M14: (13) | N14: (14)
A15: 1 | B15: 13/1-5/4/2014 | C15: 9 | D15: Thực tập ô tô 2 | E15: 11CĐ Ô7 (N1) | G15: 90 | I15: 1 | J15: =ROUND(IF(F15>0,F15*H15,"0")+IF(G15>0,(G15/1.5)*I15,"0"),1) -> 60 | M15: =ROUND(J15+K15+L15,1) -> 60
A16: 2 | B16: 13/1/2013-5/4/2014 | C16: 9 | D16: Thực tập ô tô 2 | E16: 11CĐ Ô7 (N2) | G16: 90 | I16: 1 | J16: =ROUND(IF(F16>0,F16*H16,"0")+IF(G16>0,(G16/1.5)*I16,"0"),1) -> 60 | M16: =ROUND(J16+K16+L16,1) -> 60
A17: 3 | B17: 10/3/2013-26/4/2014 | C17: 7 | D17: Thực tập kết cấu ô tô | E17: 12TC Ô (N2) | G17: 90 | I17: 1 | J17: =ROUND(IF(F17>0,F17*H17,"0")+IF(G17>0,(G17/1.5)*I17,"0"),1) -> 60 | M17: =ROUND(J17+K17+L17,1) -> 60
A18: 4 | B18: 10/2/2014-24/5/2014 | C18: 15 | D18: Lý thuyết ô tô | E18: 12LT Ô | F18: 30 | H18: 1 | J18: =ROUND(IF(F18>0,F18*H18,"0")+IF(G18>0,(G18/1.5)*I18,"0"),1) -> 30 | M18: =ROUND(J18+K18+L18,1) -> 30
A19: 5 | B19: 10/2/2014-24/5/2014 | C19: 15 | D19: Thực tập ô tô | E19: 12LT Ô | G19: 90 | I19: 1 | J19: =ROUND(IF(F19>0,F19*H19,"0")+IF(G19>0,(G19/1.5)*I19,"0"),1) -> 60 | M19: =ROUND(J19+K19+L19,1) -> 60
A20: 6 | B20: 31/4/2014-26/7/2014 | C20: 17 | D20: Lý thuyết ô tô | E20: 13TC Ô1,2 | F20: 45 | H20: 1.5 | J20: =ROUND(IF(F20>0,F20*H20,"0")+IF(G20>0,(G20/1.5)*I20,"0"),1) -> 67.5 | M20: =ROUND(J20+K20+L20,1) -> 67.5 | N20: lớp ghép
A21: 7 | D21: GVCN lớp 11CĐ Ô7 | J21: =ROUND(IF(F21>0,F21*H21,"0")+IF(G21>0,(G21/1.5)*I21,"0"),1) -> 0 | K21: =15%*130 -> 19.5 | M21: =ROUND(J21+K21+L21,1) -> 19.5
A22: 8 | D22: Ôn thi TN khóa 11CD Ô | F22: 20 | H22: 1 | J22: =ROUND(IF(F22>0,F22*H22,"0")+IF(G22>0,(G22/1.5)*I22,"0"),1) -> 20 | M22: =ROUND(J22+K22+L22,1) -> 20
A23: 9 | D23: Ôn thi TN khóa 12TC Ô | G23: 5 | I23: 1.5 | J23: =ROUND(IF(F23>0,F23*H23,"0")+IF(G23>0,(G23/1.5)*I23,"0"),1) -> 5 | M23: =ROUND(J23+K23+L23,1) -> 5
A24: 10 | J24: =ROUND(IF(F24>0,F24*H24,"0")+IF(G24>0,(G24/1.5)*I24,"0"),1) -> 0 | M24: =ROUND(J24+K24+L24,1) -> 0
A25: 11 | J25: =ROUND(IF(F25>0,F25*H25,"0")+IF(G25>0,(G25/1.5)*I25,"0"),1) -> 0 | M25: =ROUND(J25+K25+L25,1) -> 0
A26: 12 | J26: =ROUND(IF(F26>0,F26*H26,"0")+IF(G26>0,(G26/1.5)*I26,"0"),1) -> 0 | M26: =ROUND(J26+K26+L26,1) -> 0
A27: 13 | J27: =ROUND(IF(F27>0,F27*H27,"0")+IF(G27>0,(G27/1.5)*I27,"0"),1) -> 0 | M27: =ROUND(J27+K27+L27,1) -> 0
A28: 14 | J28: =ROUND(IF(F28>0,F28*H28,"0")+IF(G28>0,(G28/1.5)*I28,"0"),1) -> 0 | M28: =ROUND(J28+K28+L28,1) -> 0
A29: 15 | J29: =ROUND(IF(F29>0,F29*H29,"0")+IF(G29>0,(G29/1.5)*I29,"0"),1) -> 0 | M29: =ROUND(J29+K29+L29,1) -> 0
A30: 16 | J30: =ROUND(IF(F30>0,F30*H30,"0")+IF(G30>0,(G30/1.5)*I30,"0"),1) -> 0 | M30: =ROUND(J30+K30+L30,1) -> 0
A31: 17 | J31: =ROUND(IF(F31>0,F31*H31,"0")+IF(G31>0,(G31/1.5)*I31,"0"),1) -> 0 | M31: =ROUND(J31+K31+L31,1) -> 0
A32: 18 | J32: =ROUND(IF(F32>0,F32*H32,"0")+IF(G32>0,(G32/1.5)*I32,"0"),1) -> 0 | M32: =ROUND(J32+K32+L32,1) -> 0
A33: 19 | J33: =ROUND(IF(F33>0,F33*H33,"0")+IF(G33>0,(G33/1.5)*I33,"0"),1) -> 0 | M33: =ROUND(J33+K33+L33,1) -> 0
A34: 20 | J34: =ROUND(IF(F34>0,F34*H34,"0")+IF(G34>0,(G34/1.5)*I34,"0"),1) -> 0 | M34: =ROUND(J34+K34+L34,1) -> 0
A35: TỔNG CỘNG (theo tiết) | F35: =SUM(F15:F34) -> 95 | G35: =SUM(G15:G34) -> 365 | J35: =SUM(J15:J34) -> 362.5 | K35: =SUM(K15:K34) -> 19.5 | L35: =SUM(L15:L34) -> 0 | M35: =SUM(M15:M34) -> 382
B36: CÁCH TÍNH: | C36: Cột (6), (7): Nhập đúng số tiết thực dạy
C37: Cột (8), (9): Tổng hệ số = 1+ (Hệ số thứ nhất - 1 + Hệ số thứ hai - 1 + … -1), không kể hệ số quy đổi TH sang tiết chuẩn
C38: Cột (12): Khối lượng công tác cộng thêm (nếu có) theo điều 16 Quy định 1863.
M39: Ngày ……. tháng …... năm 2014
C40: TRƯỞNG KHOA | H40: TRƯỞNG TỔ | M40: GV
B44: NGUYỄN NGỌC PHƯƠNG | F44: NGUYỄN HỮU MẠNH | L44: NGUYỄN THÁI BÌNH

Sheet Mau A1 Bình
N1: Mẫu A1
C2: ỦY BAN NHÂN DÂN TP.HCM | J2: CỘNG HÒA XÃ HỘI CHỦ NGHĨA VIỆT NAM
C3: TRƯỜNG CĐ KỸ THUẬT LÝ TỰ TRỌNG | J3: Độc lập - Tự do - Hạnh phúc
A5: BẢNG KÊ KHỐI LƯỢNG CÔNG TÁC GIẢNG DẠY CỦA GIÁO VIÊN - GIẢNG VIÊN
A6: TRONG HỌC KỲ 1 - NĂM HỌC 2013 - 2014
B7: Họ và tên giáo viên : | D7: Nguyễn Thái | E7: Bình | H7: Tổ : | I7: Gầm Ô Tô | L7: Khoa : | M7: Động Lực
M8: (Đơn vị tính : tiết)
A10: TT | B10: Từ ngày ……. tháng ….. đến ngày ……. tháng ….. | C10: Số tuần thực dạy | D10: Môn dạy | E10: Lớp dạy | J10: Thực hiện | N10: Ghi chú
F11: Thực Giảng dạy | K11: Kiêm nhiệm | L11: Khối lượng công tác cộng thêm | M11: Tổng thực hiện
F12: Chưa nhân hệ số | H12: Tổng hệ số | J12: Quy đổi và đã nhân hệ số
F13: LT | G13: TH | H13: LT | I13: TH
A14: (1) | B14: (2) | C14: (3) | D14: (4) | E14: (5) | F14: (6) | G14: (7) | H14: (8) | I14: (9) | J14: (10) | K14: (11) | L14: (12) | M14: (13) | N14: (14)
A15: 1 | B15: 9/9-21/12/2013 | C15: 15 | D15: TT ô tô 1 | E15: 11CĐÔ7(N2) | G15: 90 | I15: 1 | J15: =ROUND(IF(F15>0,F15*H15,"0")+IF(G15>0,(G15/1.5)*I15,"0"),1) -> 60 | M15: =ROUND(J15+K15+L15,1) -> 60
A16: 2 | B16: 14/10-21/12/2013 | C16: 10 | D16: TT ô tô 1 | E16: 11CĐÔ7(N1) | G16: 30 | I16: 1 | J16: =ROUND(IF(F16>0,F16*H16,"0")+IF(G16>0,(G16/1.5)*I16,"0"),1) -> 20 | M16: =ROUND(J16+K16+L16,1) -> 20
A17: 3 | B17: 14/10-21/12/2013 | C17: 10 | D17: TT ô tô 1 | E17: 11CĐÔ7(N2) | G17: 30 | I17: 1 | J17: =ROUND(IF(F17>0,F17*H17,"0")+IF(G17>0,(G17/1.5)*I17,"0"),1) -> 20 | M17: =ROUND(J17+K17+L17,1) -> 20
A18: 4 | B18: 9/9-21/12/2013 | C18: 15 | D18: Ô tô 2 | E18: 11CĐ Ô7 | F18: 30 | H18: 1 | J18: =ROUND(IF(F18>0,F18*H18,"0")+IF(G18>0,(G18/1.5)*I18,"0"),1) -> 30 | M18: =ROUND(J18+K18+L18,1) -> 30
A19: 5 | D19: TT kỹ thuật lái xe | E19: 13CĐÔ3(N1) | G19: 5 | I19: 1.3 | J19: =ROUND(IF(F19>0,F19*H19,"0")+IF(G19>0,(G19/1.5)*I19,"0"),1) -> 4.3 | M19: =ROUND(J19+K19+L19,1) -> 4.3 | N19: Dạy thay thầy Nguyên ngày 28/12
A20: 6 | D20: Ô tô 2 | E20: 11CĐ Ô3 | F20: 2 | H20: 1 | J20: =ROUND(IF(F20>0,F20*H20,"0")+IF(G20>0,(G20/1.5)*I20,"0"),1) -> 2 | M20: =ROUND(J20+K20+L20,1) -> 2 | N20: Dạy thay thầy Mạnh ngày 17/9
A21: 7 | D21: GVCN lớp 11CĐ Ô7 | J21: =ROUND(IF(F21>0,F21*H21,"0")+IF(G21>0,(G21/1.5)*I21,"0"),1) -> 0 | K21: =15%*130 -> 19.5 | M21: =ROUND(J21+K21+L21,1) -> 19.5
A22: 8 | J22: =ROUND(IF(F22>0,F22*H22,"0")+IF(G22>0,(G22/1.5)*I22,"0"),1) -> 0 | M22: =ROUND(J22+K22+L22,1) -> 0
A23: 9 | J23: =ROUND(IF(F23>0,F23*H23,"0")+IF(G23>0,(G23/1.5)*I23,"0"),1) -> 0 | M23: =ROUND(J23+K23+L23,1) -> 0
A24: 10 | J24: =ROUND(IF(F24>0,F24*H24,"0")+IF(G24>0,(G24/1.5)*I24,"0"),1) -> 0 | M24: =ROUND(J24+K24+L24,1) -> 0
A25: 11 | J25: =ROUND(IF(F25>0,F25*H25,"0")+IF(G25>0,(G25/1.5)*I25,"0"),1) -> 0 | M25: =ROUND(J25+K25+L25,1) -> 0
A26: 12 | J26: =ROUND(IF(F26>0,F26*H26,"0")+IF(G26>0,(G26/1.5)*I26,"0"),1) -> 0 | M26: =ROUND(J26+K26+L26,1) -> 0
A27: 13 | J27: =ROUND(IF(F27>0,F27*H27,"0")+IF(G27>0,(G27/1.5)*I27,"0"),1) -> 0 | M27: =ROUND(J27+K27+L27,1) -> 0
A28: 14 | J28: =ROUND(IF(F28>0,F28*H28,"0")+IF(G28>0,(G28/1.5)*I28,"0"),1) -> 0 | M28: =ROUND(J28+K28+L28,1) -> 0
A29: 15 | J29: =ROUND(IF(F29>0,F29*H29,"0")+IF(G29>0,(G29/1.5)*I29,"0"),1) -> 0 | M29: =ROUND(J29+K29+L29,1) -> 0
A30: 16 | J30: =ROUND(IF(F30>0,F30*H30,"0")+IF(G30>0,(G30/1.5)*I30,"0"),1) -> 0 | M30: =ROUND(J30+K30+L30,1) -> 0
A31: 17 | J31: =ROUND(IF(F31>0,F31*H31,"0")+IF(G31>0,(G31/1.5)*I31,"0"),1) -> 0 | M31: =ROUND(J31+K31+L31,1) -> 0
A32: 18 | J32: =ROUND(IF(F32>0,F32*H32,"0")+IF(G32>0,(G32/1.5)*I32,"0"),1) -> 0 | M32: =ROUND(J32+K32+L32,1) -> 0
A33: 19 | J33: =ROUND(IF(F33>0,F33*H33,"0")+IF(G33>0,(G33/1.5)*I33,"0"),1) -> 0 | M33: =ROUND(J33+K33+L33,1) -> 0
A34: 20 | J34: =ROUND(IF(F34>0,F34*H34,"0")+IF(G34>0,(G34/1.5)*I34,"0"),1) -> 0 | M34: =ROUND(J34+K34+L34,1) -> 0
A35: TỔNG CỘNG (theo tiết) | F35: =SUM(F15:F34) -> 32 | G35: =SUM(G15:G34) -> 155 | J35: =SUM(J15:J34) -> 136.3 | K35: =SUM(K15:K34) -> 19.5 | L35: =SUM(L15:L34) -> 0 | M35: =SUM(M15:M34) -> 155.8
M36: Ngày ……. tháng …... năm 2014
C37: TRƯỞNG KHOA | H37: TRƯỞNG TỔ | M37: GV
B42: NGUYỄN NGỌC PHƯƠNG | F42: NGUYỄN HỮU MẠNH | L42: NGUYỄN THÁI BÌNH

Sheet Mau A2 Thái
N1: Mẫu A2
C2: ỦY BAN NHÂN DÂN TP.HCM | J2: CỘNG HÒA XÃ HỘI CHỦ NGHĨA VIỆT NAM
C3: TRƯỜNG CĐ KỸ THUẬT LÝ TỰ TRỌNG | J3: Độc lập - Tự do - Hạnh phúc
A5: BẢNG KÊ KHỐI LƯỢNG CÔNG TÁC GIẢNG DẠY CỦA GIÁO VIÊN - GIẢNG VIÊN
A6: TRONG HỌC KỲ 2 - NĂM HỌC 2013 - 2014
B7: Họ và tên giáo viên : | D7: Nguyễn Minh | E7: Thái | H7: Tổ : | I7: Động Cơ Dầu | L7: Khoa : | M7: Động Lực
M8: (Đơn vị tính : tiết)
A10: TT | B10: Từ ngày ……. tháng ….. đến ngày ……. tháng ….. | C10: Số tuần thực dạy | D10: Môn dạy | E10: Lớp dạy | J10: Thực hiện | N10: Ghi chú
F11: Thực Giảng dạy | K11: Kiêm nhiệm | L11: Khối lượng công tác cộng thêm | M11: Tổng thực hiện
F12: Chưa nhân hệ số | H12: Tổng hệ số | J12: Quy đổi và đã nhân hệ số
F13: LT | G13: TH | H13: LT | I13: TH
A14: (1) | B14: (2) | C14: (3) | D14: (4) | E14: (5) | F14: (6) | G14: (7) | H14: (8) | I14: (9) | J14: (10) | K14: (11) | L14: (12) | M14: (13) | N14: (14)
A15: 1 | B15: 13/1/2014-5/4/2014 | C15: 9 | D15: Thực tập động cơ diesel | E15: 11CĐ Ô4 (N1) | G15: 90 | I15: 1 | J15: =ROUND(IF(F15>0,F15*H15,"0")+IF(G15>0,(G15/1.5)*I15,"0"),1) -> 60 | M15: =ROUND(J15+K15+L15,1) -> 60
A16: 2 | B16: 13/1/2014-5/4/2014 | C16: 9 | D16: Thực tập động cơ diesel | E16: 11CĐ Ô4 (N2) | G16: 90 | I16: 1 | J16: =ROUND(IF(F16>0,F16*H16,"0")+IF(G16>0,(G16/1.5)*I16,"0"),1) -> 60 | M16: =ROUND(J16+K16+L16,1) -> 60
A17: 3 | B17: 13/1/2014-5/4/2014 | C17: 9 | D17: Thực tập động cơ diesel | E17: 11CĐ Ô6 (N1) | G17: 90 | I17: 1 | J17: =ROUND(IF(F17>0,F17*H17,"0")+IF(G17>0,(G17/1.5)*I17,"0"),1) -> 60 | M17: =ROUND(J17+K17+L17,1) -> 60
A18: 4 | B18: 13/1/2014-5/4/2014 | C18: 9 | D18: Thực tập động cơ diesel | E18: 11CĐ Ô6 (N2) | G18: 90 | I18: 1 | J18: =ROUND(IF(F18>0,F18*H18,"0")+IF(G18>0,(G18/1.5)*I18,"0"),1) -> 60 | M18: =ROUND(J18+K18+L18,1) -> 60
A19: 5 | D19: GVCN lớp 13CĐ Ô2 | J19: =ROUND(IF(F19>0,F19*H19,"0")+IF(G19>0,(G19/1.5)*I19,"0"),1) -> 0 | K19: =15%*130 -> 19.5 | M19: =ROUND(J19+K19+L19,1) -> 19.5
A20: 6 | D20: Ôn thi TN khóa 11CDO | F20: 20 | H20: 1 | J20: =ROUND(IF(F20>0,F20*H20,"0")+IF(G20>0,(G20/1.5)*I20,"0"),1) -> 20 | M20: =ROUND(J20+K20+L20,1) -> 20
A21: 7 | J21: =ROUND(IF(F21>0,F21*H21,"0")+IF(G21>0,(G21/1.5)*I21,"0"),1) -> 0 | M21: =ROUND(J21+K21+L21,1) -> 0
A22: 8 | J22: =ROUND(IF(F22>0,F22*H22,"0")+IF(G22>0,(G22/1.5)*I22,"0"),1) -> 0 | M22: =ROUND(J22+K22+L22,1) -> 0
A23: 9 | J23: =ROUND(IF(F23>0,F23*H23,"0")+IF(G23>0,(G23/1.5)*I23,"0"),1) -> 0 | M23: =ROUND(J23+K23+L23,1) -> 0
A24: 10 | J24: =ROUND(IF(F24>0,F24*H24,"0")+IF(G24>0,(G24/1.5)*I24,"0"),1) -> 0 | M24: =ROUND(J24+K24+L24,1) -> 0
A25: 11 | J25: =ROUND(IF(F25>0,F25*H25,"0")+IF(G25>0,(G25/1.5)*I25,"0"),1) -> 0 | M25: =ROUND(J25+K25+L25,1) -> 0
A26: 12 | J26: =ROUND(IF(F26>0,F26*H26,"0")+IF(G26>0,(G26/1.5)*I26,"0"),1) -> 0 | M26: =ROUND(J26+K26+L26,1) -> 0
A27: 13 | J27: =ROUND(IF(F27>0,F27*H27,"0")+IF(G27>0,(G27/1.5)*I27,"0"),1) -> 0 | M27: =ROUND(J27+K27+L27,1) -> 0
A28: 14 | J28: =ROUND(IF(F28>0,F28*H28,"0")+IF(G28>0,(G28/1.5)*I28,"0"),1) -> 0 | M28: =ROUND(J28+K28+L28,1) -> 0
A29: 15 | J29: =ROUND(IF(F29>0,F29*H29,"0")+IF(G29>0,(G29/1.5)*I29,"0"),1) -> 0 | M29: =ROUND(J29+K29+L29,1) -> 0
A30: 16 | J30: =ROUND(IF(F30>0,F30*H30,"0")+IF(G30>0,(G30/1.5)*I30,"0"),1) -> 0 | M30: =ROUND(J30+K30+L30,1) -> 0
A31: 17 | J31: =ROUND(IF(F31>0,F31*H31,"0")+IF(G31>0,(G31/1.5)*I31,"0"),1) -> 0 | M31: =ROUND(J31+K31+L31,1) -> 0
A32: 18 | J32: =ROUND(IF(F32>0,F32*H32,"0")+IF(G32>0,(G32/1.5)*I32,"0"),1) -> 0 | M32: =ROUND(J32+K32+L32,1) -> 0
... A34: 20 | J34: =ROUND(IF(F34>0,F34*H34,"0")+IF(G34>0,(G34/1.5)*I34,"0"),1) -> 0 | M34: =ROUND(J34+K34+L34,1) -> 0
A35: TỔNG CỘNG (theo tiết) | F35: =SUM(F15:F34) -> 20 | G35: =SUM(G15:G34) -> 360 | J35: =SUM(J15:J34) -> 260 | K35: =SUM(K15:K34) -> 19.5 | L35: =SUM(L15:L34) -> 0 | M35: =SUM(M15:M34) -> 279.5
B36: CÁCH TÍNH: | C36: Cột (6), (7): Nhập đúng số tiết thực dạy
C37: Cột (8), (9): Tổng hệ số = 1+ (Hệ số thứ nhất - 1 + Hệ số thứ hai - 1 + … -1), không kể hệ số quy đổi TH sang tiết chuẩn
C38: Cột (12): Khối lượng công tác cộng thêm (nếu có) theo điều 16 Quy định 1863.
M39: Ngày ……. tháng …... năm 2014
C40: TRƯỞNG KHOA | H40: TRƯỞNG TỔ | M40: GV
B46: NGUYỄN NGỌC PHƯƠNG | F46: PHAN ANH TUẤN KIỆT | L46: NGUYỄN MINH THÁI

Sheet Mau A1 Thái
N1: Mẫu A1
C2: ỦY BAN NHÂN DÂN TP.HCM | J2: CỘNG HÒA XÃ HỘI CHỦ NGHĨA VIỆT NAM
C3: TRƯỜNG CĐ KỸ THUẬT LÝ TỰ TRỌNG | J3: Độc lập - Tự do - Hạnh phúc
A5: BẢNG KÊ KHỐI LƯỢNG CÔNG TÁC GIẢNG DẠY CỦA GIÁO VIÊN - GIẢNG VIÊN
A6: TRONG HỌC KỲ 1 - NĂM HỌC 2014 - 2015
B7: Họ và tên giáo viên : | D7: Nguyễn Minh Thái | H7: Tổ : | I7: Động Cơ Dầu | L7: Khoa : | M7: Động Lực
M8: (Đơn vị tính : tiết)
A10: TT | B10: Từ ngày ……. tháng ….. đến ngày ……. tháng ….. | C10: Số tuần thực dạy | D10: Môn dạy | E10: Lớp dạy | J10: Thực hiện | N10: Ghi chú
F11: Thực Giảng dạy | K11: Kiêm nhiệm | L11: Khối lượng công tác cộng thêm | M11: Tổng thực hiện
F12: Chưa nhân hệ số | H12: Tổng hệ số | J12: Quy đổi và đã nhân hệ số
F13: LT | G13: TH | H13: LT | I13: TH
A14: (1) | B14: (2) | C14: (3) | D14: (4) | E14: (5) | F14: (6) | G14: (7) | H14: (8) | I14: (9) | J14: (10) | K14: (11) | L14: (12) | M14: (13) | N14: (14)
A15: 1 | B15: 8/9/14-20/12/14 | C15: 15 | D15: động cơ đốt trong | E15: 13CĐÔ2 | F15: 45 | H15: 1 | J15: =ROUND(IF(F15>0,F15*H15,"0")+IF(G15>0,(G15/1.5)*I15,"0"),1) -> 45 | M15: =ROUND(J15+K15+L15,1) -> 45
A16: 2 | B16: 8/9/14-20/12/14 | C16: 15 | D16: TT động cơ 2 | E16: 12CĐÔ1 | G16: 90 | I16: 1 | J16: =ROUND(IF(F16>0,F16*H16,"0")+IF(G16>0,(G16/1.5)*I16,"0"),1) -> 60 | M16: =ROUND(J16+K16+L16,1) -> 60
A17: 3 | B17: 15/9/14-27/12/14 | C17: 15 | D17: thực tập động cơ diesel | E17: 13TCÔ1 | G17: 60 | I17: 1 | J17: =ROUND(IF(F17>0,F17*H17,"0")+IF(G17>0,(G17/1.5)*I17,"0"),1) -> 40 | M17: =ROUND(J17+K17+L17,1) -> 40
A18: 4 | C18: 15 | D18: TT ô tô 1 | E18: 11CĐÔ4(N1) | J18: =ROUND(IF(F18>0,F18*H18,"0")+IF(G18>0,(G18/1.5)*I18,"0"),1) -> 0 | M18: =ROUND(J18+K18+L18,1) -> 0
A19: 5 | C19: 15 | D19: TT đcơ xăng | E19: 11CĐÔ4(N1) | J19: =ROUND(IF(F19>0,F19*H19,"0")+IF(G19>0,(G19/1.5)*I19,"0"),1) -> 0 | M19: =ROUND(J19+K19+L19,1) -> 0
A20: 6 | C20: 15 | D20: Ô tô 2 | E20: 11CĐÔ4 | J20: =ROUND(IF(F20>0,F20*H20,"0")+IF(G20>0,(G20/1.5)*I20,"0"),1) -> 0 | M20: =ROUND(J20+K20+L20,1) -> 0
A21: 7 | D21: TT kỹ thuật lái xe | E21: 13CĐÔ2(N1) | J21: =ROUND(IF(F21>0,F21*H21,"0")+IF(G21>0,(G21/1.5)*I21,"0"),1) -> 0 | M21: =ROUND(J21+K21+L21,1) -> 0
A22: 4 | B22: 15/9/14-11/10/14 | C22: 4 | D22: thực tập động cơ xăng | E22: 13TC-Ô2 (N2) | G22: 20 | I22: 1 | J22: =ROUND(IF(F22>0,F22*H22,"0")+IF(G22>0,(G22/1.5)*I22,"0"),1) -> 13.3
A23: 8 | D23: GVCN | E23: 13CĐÔ4 | J23: =ROUND(IF(F23>0,F23*H23,"0")+IF(G23>0,(G23/1.5)*I23,"0"),1) -> 0 | K23: =15%*130 -> 19.5 | M23: =ROUND(J23+K23+L23,1) -> 19.5
A24: 9 | D24: NMNCN ô tô | E24: 13CĐ Ô2 | J24: =ROUND(IF(F24>0,F24*H24,"0")+IF(G24>0,(G24/1.5)*I24,"0"),1) -> 0 | M24: =ROUND(J24+K24+L24,1) -> 0 | N24: Dạy thay thầy Phương ngày 21/10
A25: 8 | J25: =ROUND(IF(F25>0,F25*H25,"0")+IF(G25>0,(G25/1.5)*I25,"0"),1) -> 0 | M25: =ROUND(J25+K25+L25,1) -> 0
A26: 9 | J26: =ROUND(IF(F26>0,F26*H26,"0")+IF(G26>0,(G26/1.5)*I26,"0"),1) -> 0 | M26: =ROUND(J26+K26+L26,1) -> 0
A27: 10 | J27: =ROUND(IF(F27>0,F27*H27,"0")+IF(G27>0,(G27/1.5)*I27,"0"),1) -> 0 | M27: =ROUND(J27+K27+L27,1) -> 0
A28: 11 | J28: =ROUND(IF(F28>0,F28*H28,"0")+IF(G28>0,(G28/1.5)*I28,"0"),1) -> 0 | M28: =ROUND(J28+K28+L28,1) -> 0
A29: 12 | J29: =ROUND(IF(F29>0,F29*H29,"0")+IF(G29>0,(G29/1.5)*I29,"0"),1) -> 0 | M29: =ROUND(J29+K29+L29,1) -> 0
A30: 13 | J30: =ROUND(IF(F30>0,F30*H30,"0")+IF(G30>0,(G30/1.5)*I30,"0"),1) -> 0 | M30: =ROUND(J30+K30+L30,1) -> 0
A31: 14 | J31: =ROUND(IF(F31>0,F31*H31,"0")+IF(G31>0,(G31/1.5)*I31,"0"),1) -> 0 | M31: =ROUND(J31+K31+L31,1) -> 0
A32: 15 | J32: =ROUND(IF(F32>0,F32*H32,"0")+IF(G32>0,(G32/1.5)*I32,"0"),1) -> 0 | M32: =ROUND(J32+K32+L32,1) -> 0
A33: 16 | J33: =ROUND(IF(F33>0,F33*H33,"0")+IF(G33>0,(G33/1.5)*I33,"0"),1) -> 0 | M33: =ROUND(J33+K33+L33,1) -> 0
A34: 17 | J34: =ROUND(IF(F34>0,F34*H34,"0")+IF(G34>0,(G34/1.5)*I34,"0"),1) -> 0 | M34: =ROUND(J34+K34+L34,1) -> 0
A35: 18 | J35: =ROUND(IF(F35>0,F35*H35,"0")+IF(G35>0,(G35/1.5)*I35,"0"),1) -> 0 | M35: =ROUND(J35+K35+L35,1) -> 0
A36: 19 | J36: =ROUND(IF(F36>0,F36*H36,"0")+IF(G36>0,(G36/1.5)*I36,"0"),1) -> 0 | M36: =ROUND(J36+K36+L36,1) -> 0
A37: 20 | J37: =ROUND(IF(F37>0,F37*H37,"0")+IF(G37>0,(G37/1.5)*I37,"0"),1) -> 0 | M37: =ROUND(J37+K37+L37,1) -> 0
A38: TỔNG CỘNG (theo tiết) | F38: =SUM(F15:F37) -> 45 | G38: =SUM(G15:G37) -> 170 | J38: =SUM(J15:J37) -> 158.3 | K38: =SUM(K15:K37) -> 19.5 | L38: =SUM(L15:L37) -> 0 | M38: =SUM(M15:M37) -> 164.5
K39: Ngày 12 tháng 01 năm 2015
C40: TRƯỞNG KHOA | H40: TRƯỞNG TỔ | M40: GV
B45: NGUYỄN NGỌC PHƯƠNG | F45: PHAN ANH TUẤN KIỆT | L45: NGUYỄN MINH THÁI

Sheet Mau A2 Thịnh
N1: Mẫu A2
C2: ỦY BAN NHÂN DÂN TP.HCM | J2: CỘNG HÒA XÃ HỘI CHỦ NGHĨA VIỆT NAM
C3: TRƯỜNG CĐ KỸ THUẬT LÝ TỰ TRỌNG | J3: Độc lập - Tự do - Hạnh phúc
A5: BẢNG KÊ KHỐI LƯỢNG CÔNG TÁC GIẢNG DẠY CỦA GIÁO VIÊN - GIẢNG VIÊN
A6: TRONG HỌC KỲ 2 - NĂM HỌC 2013 - 2014
B7: Họ và tên giáo viên : | D7: Võ Đắc | E7: Thịnh | H7: Tổ : | I7: Động Cơ Dầu | L7: Khoa : | M7: Động Lực
M8: (Đơn vị tính : tiết)
A10: TT | B10: Từ ngày ……. tháng ….. đến ngày ……. tháng ….. | C10: Số tuần thực dạy | D10: Môn dạy | E10: Lớp dạy | J10: Thực hiện | N10: Ghi chú
F11: Thực Giảng dạy | K11: Kiêm nhiệm | L11: Khối lượng công tác cộng thêm | M11: Tổng thực hiện
F12: Chưa nhân hệ số | H12: Tổng hệ số | J12: Quy đổi và đã nhân hệ số
F13: LT | G13: TH | H13: LT | I13: TH
A14: (1) | B14: (2) | C14: (3) | D14: (4) | E14: (5) | F14: (6) | G14: (7) | H14: (8) | I14: (9) | J14: (10) | K14: (11) | L14: (12) | M14: (13) | N14: (14)
A15: 2 | B15: 13/1/2013-5/4/2014 | C15: 9 | D15: Thực tập động cơ diesel | E15: 11CĐ Ô1 (N1) | G15: 90 | I15: 1 | J15: =ROUND(IF(F15>0,F15*H15,"0")+IF(G15>0,(G15/1.5)*I15,"0"),1) -> 60 | M15: =ROUND(J15+K15+L15,1) -> 60
A16: 3 | B16: 13/1/2013-5/4/2014 | C16: 9 | D16: Thực tập động cơ diesel | E16: 11CĐ Ô1 (N2) | G16: 90 | I16: 1 | J16: =ROUND(IF(F16>0,F16*H16,"0")+IF(G16>0,(G16/1.5)*I16,"0"),1) -> 60 | M16: =ROUND(J16+K16+L16,1) -> 60
A17: 4 | B17: 13/1/2013-5/4/2014 | C17: 9 | D17: Thực tập động cơ diesel | E17: 11CĐ Ô3 (N1) | G17: 90 | I17: 1 | J17: =ROUND(IF(F17>0,F17*H17,"0")+IF(G17>0,(G17/1.5)*I17,"0"),1) -> 60 | M17: =ROUND(J17+K17+L17,1) -> 60
A18: 5 | D18: Phó khoa | J18: =ROUND(IF(F18>0,F18*H18,"0")+IF(G18>0,(G18/1.5)*I18,"0"),1) -> 0 | K18: =25%*145 -> 36.25 | M18: =ROUND(J18+K18+L18,1) -> 36.3
A19: 6 | D19: Ôn thi TN khóa 11CDO | F19: 20 | H19: 1 | J19: =ROUND(IF(F19>0,F19*H19,"0")+IF(G19>0,(G19/1.5)*I19,"0"),1) -> 20 | M19: =ROUND(J19+K19+L19,1) -> 20
A20: 7 | J20: =ROUND(IF(F20>0,F20*H20,"0")+IF(G20>0,(G20/1.5)*I20,"0"),1) -> 0 | M20: =ROUND(J20+K20+L20,1) -> 0
A21: 8 | J21: =ROUND(IF(F21>0,F21*H21,"0")+IF(G21>0,(G21/1.5)*I21,"0"),1) -> 0 | M21: =ROUND(J21+K21+L21,1) -> 0
A22: 9 | J22: =ROUND(IF(F22>0,F22*H22,"0")+IF(G22>0,(G22/1.5)*I22,"0"),1) -> 0 | M22: =ROUND(J22+K22+L22,1) -> 0
A23: 10 | J23: =ROUND(IF(F23>0,F23*H23,"0")+IF(G23>0,(G23/1.5)*I23,"0"),1) -> 0 | M23: =ROUND(J23+K23+L23,1) -> 0
A24: 11 | J24: =ROUND(IF(F24>0,F24*H24,"0")+IF(G24>0,(G24/1.5)*I24,"0"),1) -> 0 | M24: =ROUND(J24+K24+L24,1) -> 0
A25: 12 | J25: =ROUND(IF(F25>0,F25*H25,"0")+IF(G25>0,(G25/1.5)*I25,"0"),1) -> 0 | M25: =ROUND(J25+K25+L25,1) -> 0
A26: 13 | J26: =ROUND(IF(F26>0,F26*H26,"0")+IF(G26>0,(G26/1.5)*I26,"0"),1) -> 0 | M26: =ROUND(J26+K26+L26,1) -> 0
A27: 14 | J27: =ROUND(IF(F27>0,F27*H27,"0")+IF(G27>0,(G27/1.5)*I27,"0"),1) -> 0 | M27: =ROUND(J27+K27+L27,1) -> 0
A28: 15 | J28: =ROUND(IF(F28>0,F28*H28,"0")+IF(G28>0,(G28/1.5)*I28,"0"),1) -> 0 | M28: =ROUND(J28+K28+L28,1) -> 0
A29: 16 | J29: =ROUND(IF(F29>0,F29*H29,"0")+IF(G29>0,(G29/1.5)*I29,"0"),1) -> 0 | M29: =ROUND(J29+K29+L29,1) -> 0
A30: 17 | J30: =ROUND(IF(F30>0,F30*H30,"0")+IF(G30>0,(G30/1.5)*I30,"0"),1) -> 0 | M30: =ROUND(J30+K30+L30,1) -> 0
A31: 18 | J31: =ROUND(IF(F31>0,F31*H31,"0")+IF(G31>0,(G31/1.5)*I31,"0"),1) -> 0 | M31: =ROUND(J31+K31+L31,1) -> 0
... A33: 20 | J33: =ROUND(IF(F33>0,F33*H33,"0")+IF(G33>0,(G33/1.5)*I33,"0"),1) -> 0 | M33: =ROUND(J33+K33+L33,1) -> 0
A34: TỔNG CỘNG (theo tiết) | F34: =SUM(F15:F33) -> 20 | G34: =SUM(G15:G33) -> 270 | J34: =SUM(J15:J33) -> 200 | K34: =SUM(K15:K33) -> 36.25 | L34: =SUM(L15:L33) -> 0 | M34: =SUM(M15:M33) -> 236.3
M38: Ngày ……. tháng …... năm 2014
C39: TRƯỞNG KHOA | H39: TRƯỞNG TỔ | L39: GV
B45: NGUYỄN NGỌC PHƯƠNG | F45: TRIỆU PHÚ NGUYÊN | L45: VÕ ĐẮC THỊNH

Sheet Mau A1 Thịnh
N1: Mẫu A1
C2: ỦY BAN NHÂN DÂN TP.HCM | J2: CỘNG HÒA XÃ HỘI CHỦ NGHĨA VIỆT NAM
C3: TRƯỜNG CĐ KỸ THUẬT LÝ TỰ TRỌNG | J3: Độc lập - Tự do - Hạnh phúc
A5: BẢNG KÊ KHỐI LƯỢNG CÔNG TÁC GIẢNG DẠY CỦA GIÁO VIÊN - GIẢNG VIÊN
A6: TRONG HỌC KỲ 1 - NĂM HỌC 2013 - 2014
B7: Họ và tên giáo viên : | D7: Võ Đắc | E7: Thịnh | H7: Tổ : | I7: Động Cơ Xăng | L7: Khoa : | M7: Động Lực
M8: (Đơn vị tính : tiết)
A10: TT | B10: Từ ngày ……. tháng ….. đến ngày ……. tháng ….. | C10: Số tuần thực dạy | D10: Môn dạy | E10: Lớp dạy | J10: Thực hiện | N10: Ghi chú
F11: Thực Giảng dạy | K11: Kiêm nhiệm | L11: Khối lượng công tác cộng thêm | M11: Tổng thực hiện
F12: Chưa nhân hệ số | H12: Tổng hệ số | J12: Quy đổi và đã nhân hệ số
F13: LT | G13: TH | H13: LT | I13: TH
A14: (1) | B14: (2) | C14: (3) | D14: (4) | E14: (5) | F14: (6) | G14: (7) | H14: (8) | I14: (9) | J14: (10) | K14: (11) | L14: (12) | M14: (13) | N14: (14)
A15: 1 | B15: 9/9-21/12/2013 | C15: 15 | D15: Ô tô 1 | E15: 11CĐ Ô1 | F15: 75 | H15: 1 | J15: =ROUND(IF(F15>0,F15*H15,"0")+IF(G15>0,(G15/1.5)*I15,"0"),1) -> 75 | M15: =ROUND(J15+K15+L15,1) -> 75
A16: 2 | B16: 9/9-21/12/2013 | C16: 15 | D16: Ô tô 2 | E16: 11CĐ Ô1 | F16: 28 | H16: 1 | J16: =ROUND(IF(F16>0,F16*H16,"0")+IF(G16>0,(G16/1.5)*I16,"0"),1) -> 28 | L16: 2 | M16: =ROUND(J16+K16+L16,1) -> 30 | N16: Thầy Hóa dạy thay 2 tiết ngày 30/10
A17: 3 | B17: 9/9-21/12/2013 | C17: 15 | D17: TT ô tô 1 | E17: 11CĐÔ1(N2) | G17: 27 | I17: 1 | J17: =ROUND(IF(F17>0,F17*H17,"0")+IF(G17>0,(G17/1.5)*I17,"0"),1) -> 18 | L17: 2 | M17: =ROUND(J17+K17+L17,1) -> 20 | N17: Thầy Hóa dạy thay 3 tiết ngày 30/10
A18: 4 | B18: 9/9-21/12/2013 | C18: 15 | D18: TT điện ô tô 1 | E18: 11CĐÔ1(N2) | G18: 90 | I18: 1 | J18: =ROUND(IF(F18>0,F18*H18,"0")+IF(G18>0,(G18/1.5)*I18,"0"),1) -> 60 | M18: =ROUND(J18+K18+L18,1) -> 60
A19: 5 | B19: 9/9-21/12/2013 | C19: 15 | D19: TT điện ô tô 1 | E19: 11CĐÔ4(N2) | G19: 90 | I19: 1 | J19: =ROUND(IF(F19>0,F19*H19,"0")+IF(G19>0,(G19/1.5)*I19,"0"),1) -> 60 | M19: =ROUND(J19+K19+L19,1) -> 60
A20: 6 | B20: 23/9-22/12/2014 | C20: 12 | D20: TT động cơ diesel | E20: 12TC Ô | G20: 60 | I20: 1 | J20: =ROUND(IF(F20>0,F20*H20,"0")+IF(G20>0,(G20/1.5)*I20,"0"),1) -> 40 | M20: =ROUND(J20+K20+L20,1) -> 40
A21: 7 | B21: 23/9-22/12/2014 | C21: 12 | D21: Điều hòa không khí trên ô tô | E21: 12TC Ô | F21: 30 | H21: 1 | J21: =ROUND(IF(F21>0,F21*H21,"0")+IF(G21>0,(G21/1.5)*I21,"0"),1) -> 30 | M21: =ROUND(J21+K21+L21,1) -> 30
A22: 8 | B22: 14/10-15/2/2013 | C22: 15 | D22: NMNCN ô tô | E22: 13CĐ Ô5 | F22: 30 | H22: 1.3 | J22: =ROUND(IF(F22>0,F22*H22,"0")+IF(G22>0,(G22/1.5)*I22,"0"),1) -> 39 | M22: =ROUND(J22+K22+L22,1) -> 39
A23: 9 | D23: Phó khoa | K23: =25%*145 -> 36.25 | M23: =ROUND(J23+K23+L23,1) -> 36.3
A24: 12 | J24: =ROUND(IF(F24>0,F24*H24,"0")+IF(G24>0,(G24/1.5)*I24,"0"),1) -> 0 | M24: =ROUND(J24+K24+L24,1) -> 0
A25: 13 | J25: =ROUND(IF(F25>0,F25*H25,"0")+IF(G25>0,(G25/1.5)*I25,"0"),1) -> 0 | M25: =ROUND(J25+K25+L25,1) -> 0
A26: 14 | J26: =ROUND(IF(F26>0,F26*H26,"0")+IF(G26>0,(G26/1.5)*I26,"0"),1) -> 0 | M26: =ROUND(J26+K26+L26,1) -> 0
A27: 15 | J27: =ROUND(IF(F27>0,F27*H27,"0")+IF(G27>0,(G27/1.5)*I27,"0"),1) -> 0 | M27: =ROUND(J27+K27+L27,1) -> 0
A28: 16 | J28: =ROUND(IF(F28>0,F28*H28,"0")+IF(G28>0,(G28/1.5)*I28,"0"),1) -> 0 | M28: =ROUND(J28+K28+L28,1) -> 0
A29: 17 | J29: =ROUND(IF(F29>0,F29*H29,"0")+IF(G29>0,(G29/1.5)*I29,"0"),1) -> 0 | M29: =ROUND(J29+K29+L29,1) -> 0
A30: 18 | J30: =ROUND(IF(F30>0,F30*H30,"0")+IF(G30>0,(G30/1.5)*I30,"0"),1) -> 0 | M30: =ROUND(J30+K30+L30,1) -> 0
A31: 19 | J31: =ROUND(IF(F31>0,F31*H31,"0")+IF(G31>0,(G31/1.5)*I31,"0"),1) -> 0 | M31: =ROUND(J31+K31+L31,1) -> 0
A32: TỔNG CỘNG (theo tiết) | F32: =SUM(F15:F31) -> 163 | G32: =SUM(G15:G31) -> 267 | J32: =SUM(J15:J31) -> 350 | K32: =SUM(K15:K31) -> 36.25 | L32: =SUM(L15:L31) -> 4 | M32: =SUM(M15:M31) -> 390.3
B33: CÁCH TÍNH: | C33: Cột (6), (7): Nhập đúng số tiết thực dạy
C34: Cột (8), (9): Tổng hệ số = 1+ (Hệ số thứ nhất - 1 + Hệ số thứ hai - 1 + … -1), không kể hệ số quy đổi TH sang tiết chuẩn
C35: Cột (12): Khối lượng công tác cộng thêm (nếu có) theo điều 16 Quy định 1863.
M36: Ngày ……. tháng …... năm 2014
C37: TRƯỞNG KHOA | H37: TRƯỞNG TỔ | M37: GV
B42: NGUYỄN NGỌC PHƯƠNG | F42: TRIỆU PHÚ NGUYÊN | L42: VÕ ĐẮC THỊNH

Sheet Mau A2 Phương
N1: Mẫu A2
C2: ỦY BAN NHÂN DÂN TP.HCM | J2: CỘNG HÒA XÃ HỘI CHỦ NGHĨA VIỆT NAM
C3: TRƯỜNG CĐ KỸ THUẬT LÝ TỰ TRỌNG | J3: Độc lập - Tự do - Hạnh phúc
A5: BẢNG KÊ KHỐI LƯỢNG CÔNG TÁC GIẢNG DẠY CỦA GIÁO VIÊN - GIẢNG VIÊN
A6: TRONG HỌC KỲ 2 - NĂM HỌC 2013 - 2014
B7: Họ và tên giáo viên : | D7: Nguyễn Ngọc | E7: Phương | H7: Tổ : | I7: Động cơ Dầu | L7: Khoa : | M7: Động Lực
M8: (Đơn vị tính : tiết)
A10: TT | B10: Từ ngày ……. tháng ….. đến ngày ……. tháng ….. | C10: Số tuần thực dạy | D10: Môn dạy | E10: Lớp dạy | J10: Thực hiện | N10: Ghi chú
F11: Thực Giảng dạy | K11: Kiêm nhiệm | L11: Khối lượng công tác cộng thêm | M11: Tổng thực hiện
F12: Chưa nhân hệ số | H12: Tổng hệ số | J12: Quy đổi và đã nhân hệ số
F13: LT | G13: TH | H13: LT | I13: TH
A14: (1) | B14: (2) | C14: (3) | D14: (4) | E14: (5) | F14: (6) | G14: (7) | H14: (8) | I14: (9) | J14: (10) | K14: (11) | L14: (12) | M14: (13) | N14: (14)
A15: 1 | B15: 10/2-24/5/2014 | C15: 15 | D15: Ô tô sử dụng năng lương mới | E15: 12LT Ô | F15: 30 | H15: 1 | J15: =ROUND(IF(F15>0,F15*H15,"0")+IF(G15>0,(G15/1.5)*I15,"0"),1) -> 30 | M15: =ROUND(J15+K15+L15,1) -> 30
A16: 2 | B16: 10/2-24/5/2014 | C16: 15 | D16: Kiểm định và chẩn đoán kỹ thuật ô tô | E16: 12LT Ô | F16: 30 | H16: 1 | J16: =ROUND(IF(F16>0,F16*H16,"0")+IF(G16>0,(G16/1.5)*I16,"0"),1) -> 30 | M16: =ROUND(J16+K16+L16,1) -> 30
A17: 3 | D17: Trưởng khoa | J17: =ROUND(IF(F17>0,F17*H17,"0")+IF(G17>0,(G17/1.5)*I17,"0"),1) -> 0 | K17: =30%*155 -> 46.5 | M17: =ROUND(J17+K17+L17,1) -> 46.5
A18: 4 | J18: =ROUND(IF(F18>0,F18*H18,"0")+IF(G18>0,(G18/1.5)*I18,"0"),1) -> 0 | M18: =ROUND(J18+K18+L18,1) -> 0
A19: 5 | J19: =ROUND(IF(F19>0,F19*H19,"0")+IF(G19>0,(G19/1.5)*I19,"0"),1) -> 0 | M19: =ROUND(J19+K19+L19,1) -> 0
A20: 6 | J20: =ROUND(IF(F20>0,F20*H20,"0")+IF(G20>0,(G20/1.5)*I20,"0"),1) -> 0 | M20: =ROUND(J20+K20+L20,1) -> 0
A21: 7 | J21: =ROUND(IF(F21>0,F21*H21,"0")+IF(G21>0,(G21/1.5)*I21,"0"),1) -> 0 | M21: =ROUND(J21+K21+L21,1) -> 0
A22: 8 | J22: =ROUND(IF(F22>0,F22*H22,"0")+IF(G22>0,(G22/1.5)*I22,"0"),1) -> 0 | M22: =ROUND(J22+K22+L22,1) -> 0
A23: 9 | J23: =ROUND(IF(F23>0,F23*H23,"0")+IF(G23>0,(G23/1.5)*I23,"0"),1) -> 0 | M23: =ROUND(J23+K23+L23,1) -> 0
A24: 10 | J24: =ROUND(IF(F24>0,F24*H24,"0")+IF(G24>0,(G24/1.5)*I24,"0"),1) -> 0 | M24: =ROUND(J24+K24+L24,1) -> 0
A25: 11 | J25: =ROUND(IF(F25>0,F25*H25,"0")+IF(G25>0,(G25/1.5)*I25,"0"),1) -> 0 | M25: =ROUND(J25+K25+L25,1) -> 0
A26: 12 | J26: =ROUND(IF(F26>0,F26*H26,"0")+IF(G26>0,(G26/1.5)*I26,"0"),1) -> 0 | M26: =ROUND(J26+K26+L26,1) -> 0
A27: 13 | J27: =ROUND(IF(F27>0,F27*H27,"0")+IF(G27>0,(G27/1.5)*I27,"0"),1) -> 0 | M27: =ROUND(J27+K27+L27,1) -> 0
A28: 14 | J28: =ROUND(IF(F28>0,F28*H28,"0")+IF(G28>0,(G28/1.5)*I28,"0"),1) -> 0 | M28: =ROUND(J28+K28+L28,1) -> 0
A29: 15 | J29: =ROUND(IF(F29>0,F29*H29,"0")+IF(G29>0,(G29/1.5)*I29,"0"),1) -> 0 | M29: =ROUND(J29+K29+L29,1) -> 0
... A34: 20 | J34: =ROUND(IF(F34>0,F34*H34,"0")+IF(G34>0,(G34/1.5)*I34,"0"),1) -> 0 | M34: =ROUND(J34+K34+L34,1) -> 0
A35: TỔNG CỘNG (theo tiết) | F35: =SUM(F15:F34) -> 60 | G35: =SUM(G15:G34) -> 0 | J35: =SUM(J15:J34) -> 60 | K35: =SUM(K15:K34) -> 46.5 | L35: =SUM(L15:L34) -> 0 | M35: =SUM(M15:M34) -> 106.5
M39: Ngày ……. tháng …... năm 2014
C40: TRƯỞNG KHOA | H40: TRƯỞNG TỔ | M40: GV
B45: NGUYỄN NGỌC PHƯƠNG | F45: NGUYỄN ANH TUẤN KIỆT | L45: NGUYỄN NGỌC PHƯƠNG

Sheet Mau A1 Phương
N1: Mẫu A1
C2: ỦY BAN NHÂN DÂN TP.HCM | J2: CỘNG HÒA XÃ HỘI CHỦ NGHĨA VIỆT NAM
C3: TRƯỜNG CĐ KỸ THUẬT LÝ TỰ TRỌNG | J3: Độc lập - Tự do - Hạnh phúc
A5: BẢNG KÊ KHỐI LƯỢNG CÔNG TÁC GIẢNG DẠY CỦA GIÁO VIÊN - GIẢNG VIÊN
A6: TRONG HỌC KỲ 1 - NĂM HỌC 2013 - 2014
B7: Họ và tên giáo viên : | D7: Nguyễn Ngọc | E7: Phương | H7: Tổ : ………………………… | I7: Động cơ dầu | L7: Khoa : …………………………. | M7: Động Lực
M8: (Đơn vị tính : tiết)
A10: TT | B10: Từ ngày ……. tháng ….. đến ngày ……. tháng ….. | C10: Số tuần thực dạy | D10: Môn dạy | E10: Lớp dạy | J10: Thực hiện | N10: Ghi chú
F11: Thực Giảng dạy | K11: Kiêm nhiệm | L11: Khối lượng công tác cộng thêm | M11: Tổng thực hiện
F12: Chưa nhân hệ số | H12: Tổng hệ số | J12: Quy đổi và đã nhân hệ số
F13: LT | G13: TH | H13: LT | I13: TH
A14: (1) | B14: (2) | C14: (3) | D14: (4) | E14: (5) | F14: (6) | G14: (7) | H14: (8) | I14: (9) | J14: (10) | K14: (11) | L14: (12) | M14: (13) | N14: (14)
A15: 1 | B15: 14/10-21/12/13 | C15: 10 | D15: TT ô tô 1 | E15: 11CĐÔ3(N1) | G15: 27 | I15: 1 | J15: =ROUND(IF(F15>0,F15*H15,"0")+IF(G15>0,(G15/1.5)*I15,"0"),1) -> 18 | L15: 2 | M15: =ROUND(J15+K15+L15,1) -> 20 | N15: Thầy Trung dạy thay 3 tiết ngày 22/10
A16: 2 | B16: 9/9-21/12/2013 | C16: 15 | D16: PP nghiên cứu khoa học | E16: 12CĐ Ô2 | F16: 28 | H16: 1 | J16: =ROUND(IF(F16>0,F16*H16,"0")+IF(G16>0,(G16/1.5)*I16,"0"),1) -> 28 | L16: 2 | M16: =ROUND(J16+K16+L16,1) -> 30 | N16: Thầy Kiệt dạy thay 2 tiết ngày 23/10
A17: 3 | B17: 9/9-21/12/2013 | C17: 15 | D17: PP nghiên cứu khoa học | E17: 12CĐ Ô1 | F17: 28 | H17: 1 | J17: =ROUND(IF(F17>0,F17*H17,"0")+IF(G17>0,(G17/1.5)*I17,"0"),1) -> 28 | L17: 2 | M17: =ROUND(J17+K17+L17,1) -> 30 | N17: Thầy Kiệt dạy thay 2 tiết ngày 23/10
A18: 4 | B18: 9/9-21/12/2013 | C18: 15 | D18: PP nghiên cứu khoa học | E18: 12LT Ô | F18: 30 | H18: 1 | J18: =ROUND(IF(F18>0,F18*H18,"0")+IF(G18>0,(G18/1.5)*I18,"0"),1) -> 30 | M18: =ROUND(J18+K18+L18,1) -> 30
A19: 5 | B19: 9/9-21/12/2013 | C19: 15 | D19: NMNCN ô tô | E19: 12LT Ô | F19: 30 | H19: 1 | J19: =ROUND(IF(F19>0,F19*H19,"0")+IF(G19>0,(G19/1.5)*I19,"0"),1) -> 30 | M19: =ROUND(J19+K19+L19,1) -> 30
A20: 6 | B20: 14/10-22/2/2013 | C20: 14 | D20: NMNCN ô tô | E20: 13CĐ Ô1 | F20: 30 | H20: 1.3 | J20: =ROUND(IF(F20>0,F20*H20,"0")+IF(G20>0,(G20/1.5)*I20,"0"),1) -> 39 | M20: =ROUND(J20+K20+L20,1) -> 39
A21: 7 | B21: 14/10-22/2/2013 | C21: 14 | D21: NMNCN ô tô | E21: 13CĐ Ô2 | F21: 28 | H21: 1.3 | J21: =ROUND(IF(F21>0,F21*H21,"0")+IF(G21>0,(G21/1.5)*I21,"0"),1) -> 36.4 | L21: 2 | M21: =ROUND(J21+K21+L21,1) -> 38.4 | N21: Thầy Thái dạy thay 2 tiết ngày 21/10
A22: 8 | B22: 14/10-22/2/2014 | C22: 15 | D22: NMNCN ô tô | E22: 13CĐ Ô3 | F22: 30 | H22: 1.3 | J22: =ROUND(IF(F22>0,F22*H22,"0")+IF(G22>0,(G22/1.5)*I22,"0"),1) -> 39 | M22: =ROUND(J22+K22+L22,1) -> 39
A23: 9 | B23: 14/10-22/2/2014 | C23: 15 | D23: NMNCN ô tô | E23: 13CĐ Ô4 | F23: 28 | H23: 1.3 | J23: =ROUND(IF(F23>0,F23*H23,"0")+IF(G23>0,(G23/1.5)*I23,"0"),1) -> 36.4 | L23: 2 | M23: =ROUND(J23+K23+L23,1) -> 38.4 | N23: Thầy Trung dạy thay 2 tiết ngày 21/10
A24: 10 | B24: 14/10-23/11/13 | C24: 6 | D24: TT kỹ thuật lái xe | E24: 13CĐ Ô4(N2) | G24: 30 | I24: 1.2 | J24: =ROUND(IF(F24>0,F24*H24,"0")+IF(G24>0,(G24/1.5)*I24,"0"),1) -> 24 | M24: =ROUND(J24+K24+L24,1) -> 24
A25: 11 | D25: Trưởng khoa | J25: =ROUND(IF(F25>0,F25*H25,"0")+IF(G25>0,(G25/1.5)*I25,"0"),1) -> 0 | K25: =30%*155 -> 46.5 | M25: =ROUND(J25+K25+L25,1) -> 46.5
A26: 12 | J26: =ROUND(IF(F26>0,F26*H26,"0")+IF(G26>0,(G26/1.5)*I26,"0"),1) -> 0 | M26: =ROUND(J26+K26+L26,1) -> 0
A27: 13 | J27: =ROUND(IF(F27>0,F27*H27,"0")+IF(G27>0,(G27/1.5)*I27,"0"),1) -> 0 | M27: =ROUND(J27+K27+L27,1) -> 0
A28: 14 | J28: =ROUND(IF(F28>0,F28*H28,"0")+IF(G28>0,(G28/1.5)*I28,"0"),1) -> 0 | M28: =ROUND(J28+K28+L28,1) -> 0
A29: 15 | J29: =ROUND(IF(F29>0,F29*H29,"0")+IF(G29>0,(G29/1.5)*I29,"0"),1) -> 0 | M29: =ROUND(J29+K29+L29,1) -> 0
A30: 16 | J30: =ROUND(IF(F30>0,F30*H30,"0")+IF(G30>0,(G30/1.5)*I30,"0"),1) -> 0 | M30: =ROUND(J30+K30+L30,1) -> 0
A31: 17 | J31: =ROUND(IF(F31>0,F31*H31,"0")+IF(G31>0,(G31/1.5)*I31,"0"),1) -> 0 | M31: =ROUND(J31+K31+L31,1) -> 0
A32: 18 | J32: =ROUND(IF(F32>0,F32*H32,"0")+IF(G32>0,(G32/1.5)*I32,"0"),1) -> 0 | M32: =ROUND(J32+K32+L32,1) -> 0
A33: 19 | J33: =ROUND(IF(F33>0,F33*H33,"0")+IF(G33>0,(G33/1.5)*I33,"0"),1) -> 0 | M33: =ROUND(J33+K33+L33,1) -> 0
A34: 20 | J34: =ROUND(IF(F34>0,F34*H34,"0")+IF(G34>0,(G34/1.5)*I34,"0"),1) -> 0 | M34: =ROUND(J34+K34+L34,1) -> 0
A35: TỔNG CỘNG (theo tiết) | F35: =SUM(F15:F34) -> 232 | G35: =SUM(G15:G34) -> 57 | J35: =SUM(J15:J34) -> 308.8 | K35: =SUM(K15:K34) -> 46.5 | L35: =SUM(L15:L34) -> 10 | M35: =SUM(M15:M34) -> 365.3
B36: CÁCH TÍNH: | C36: Cột (6), (7): Nhập đúng số tiết thực dạy
C37: Cột (8), (9): Tổng hệ số = 1+ (Hệ số thứ nhất - 1 + Hệ số thứ hai - 1 + … -1), không kể hệ số quy đổi TH sang tiết chuẩn
C38: Cột (12): Khối lượng công tác cộng thêm (nếu có) theo điều 16 Quy định 1863.
M39: Ngày ……. tháng …... năm 2014
C40: TRƯỞNG KHOA | H40: TRƯỞNG TỔ | M40: GV
B44: NGUYỄN NGỌC PHƯƠNG | F44: NGUYỄN ANH TUẤN KIỆT | L44: NGUYỄN NGỌC PHƯƠNG

Sheet Mau A2 Q Bảo
N1: Mẫu A2
C2: ỦY BAN NHÂN DÂN TP.HCM | J2: CỘNG HÒA XÃ HỘI CHỦ NGHĨA VIỆT NAM
C3: TRƯỜNG CĐ KỸ THUẬT LÝ TỰ TRỌNG | J3: Độc lập - Tự do - Hạnh phúc
A5: BẢNG KÊ KHỐI LƯỢNG CÔNG TÁC GIẢNG DẠY CỦA GIÁO VIÊN - GIẢNG VIÊN
A6: TRONG HỌC KỲ 2 - NĂM HỌC 2013 - 2014
B7: Họ và tên giáo viên : | D7: Hà | E7: Quốc Bảo | H7: Tổ : | I7: Điện Ô tô | L7: Khoa : | M7: Động Lực
M8: (Đơn vị tính : tiết)
A10: TT | B10: Từ ngày ……. tháng ….. đến ngày ……. tháng ….. | C10: Số tuần thực dạy | D10: Môn dạy | E10: Lớp dạy | J10: Thực hiện | N10: Ghi chú
F11: Thực Giảng dạy | K11: Kiêm nhiệm | L11: Khối lượng công tác cộng thêm | M11: Tổng thực hiện
F12: Chưa nhân hệ số | H12: Tổng hệ số | J12: Quy đổi và đã nhân hệ số
F13: LT | G13: TH | H13: LT | I13: TH
A14: (1) | B14: (2) | C14: (3) | D14: (4) | E14: (5) | F14: (6) | G14: (7) | H14: (8) | I14: (9) | J14: (10) | K14: (11) | L14: (12) | M14: (13) | N14: (14)
A15: 1 | B15: 13/1/2013-5/4/2014 | C15: 9 | D15: Thực tập điện ô tô 2 | E15: 11CĐ Ô1 (N2) | G15: 90 | I15: 1 | J15: =ROUND(IF(F15>0,F15*H15,"0")+IF(G15>0,(G15/1.5)*I15,"0"),1) -> 60 | M15: =ROUND(J15+K15+L15,1) -> 60
A16: 2 | D16: Thực tập điện ô tô 2 | E16: 11CĐ Ô3 (N1) | G16: 50 | I16: 1 | J16: =ROUND(IF(F16>0,F16*H16,"0")+IF(G16>0,(G16/1.5)*I16,"0"),1) -> 33.3 | M16: =ROUND(J16+K16+L16,1) -> 33.3 | N16: Dạy thay thầy Thái Sơn bắt đầu từ tuần 26 ngày 3/3/14
A17: 3 | B17: 13/1/2013-5/4/2014 | C17: 9 | D17: Thực tập điện ô tô 2 | E17: 11CĐ Ô3 (N2) | G17: 90 | I17: 1 | J17: =ROUND(IF(F17>0,F17*H17,"0")+IF(G17>0,(G17/1.5)*I17,"0"),1) -> 60 | M17: =ROUND(J17+K17+L17,1) -> 60
A18: 4 | B18: 10/2/2014-24/5/2014 | C18: 15 | D18: Thực tập điện ô tô | E18: 12LT Ô | G18: 60 | I18: 1 | J18: =ROUND(IF(F18>0,F18*H18,"0")+IF(G18>0,(G18/1.5)*I18,"0"),1) -> 40 | M18: =ROUND(J18+K18+L18,1) -> 40
A19: 5 | D19: TTĐ Ô TÔ 2 | E19: 11CĐ Ô1 N1 | G19: 5 | I19: 1 | J19: =ROUND(IF(F19>0,F19*H19,"0")+IF(G19>0,(G19/1.5)*I19,"0"),1) -> 3.3 | M19: =ROUND(J19+K19+L19,1) -> 3.3 | N19: Dạy thay thầy A.Tuấn ngày 29/3 | P19: mn blll
A20: 6 | J20: =ROUND(IF(F20>0,F20*H20,"0")+IF(G20>0,(G20/1.5)*I20,"0"),1) -> 0 | M20: =ROUND(J20+K20+L20,1) -> 0
A21: 6 | J21: =ROUND(IF(F21>0,F21*H21,"0")+IF(G21>0,(G21/1.5)*I21,"0"),1) -> 0 | M21: =ROUND(J21+K21+L21,1) -> 0
A22: 7 | J22: =ROUND(IF(F22>0,F22*H22,"0")+IF(G22>0,(G22/1.5)*I22,"0"),1) -> 0 | M22: =ROUND(J22+K22+L22,1) -> 0
A23: 8 | J23: =ROUND(IF(F23>0,F23*H23,"0")+IF(G23>0,(G23/1.5)*I23,"0"),1) -> 0 | M23: =ROUND(J23+K23+L23,1) -> 0
A24: 9 | J24: =ROUND(IF(F24>0,F24*H24,"0")+IF(G24>0,(G24/1.5)*I24,"0"),1) -> 0 | M24: =ROUND(J24+K24+L24,1) -> 0
A25: 10 | J25: =ROUND(IF(F25>0,F25*H25,"0")+IF(G25>0,(G25/1.5)*I25,"0"),1) -> 0 | M25: =ROUND(J25+K25+L25,1) -> 0
A26: 11 | J26: =ROUND(IF(F26>0,F26*H26,"0")+IF(G26>0,(G26/1.5)*I26,"0"),1) -> 0 | M26: =ROUND(J26+K26+L26,1) -> 0
A27: 12 | J27: =ROUND(IF(F27>0,F27*H27,"0")+IF(G27>0,(G27/1.5)*I27,"0"),1) -> 0 | M27: =ROUND(J27+K27+L27,1) -> 0
A28: 13 | J28: =ROUND(IF(F28>0,F28*H28,"0")+IF(G28>0,(G28/1.5)*I28,"0"),1) -> 0 | M28: =ROUND(J28+K28+L28,1) -> 0
A29: 14 | J29: =ROUND(IF(F29>0,F29*H29,"0")+IF(G29>0,(G29/1.5)*I29,"0"),1) -> 0 | M29: =ROUND(J29+K29+L29,1) -> 0
A30: 15 | J30: =ROUND(IF(F30>0,F30*H30,"0")+IF(G30>0,(G30/1.5)*I30,"0"),1) -> 0 | M30: =ROUND(J30+K30+L30,1) -> 0
A31: 16 | J31: =ROUND(IF(F31>0,F31*H31,"0")+IF(G31>0,(G31/1.5)*I31,"0"),1) -> 0 | M31: =ROUND(J31+K31+L31,1) -> 0
... A35: 20 | J35: =ROUND(IF(F35>0,F35*H35,"0")+IF(G35>0,(G35/1.5)*I35,"0"),1) -> 0 | M35: =ROUND(J35+K35+L35,1) -> 0
A36: TỔNG CỘNG (theo tiết) | F36: =SUM(F15:F35) -> 0 | G36: =SUM(G15:G35) -> 295 | J36: =SUM(J15:J35) -> 196.6 | K36: =SUM(K15:K35) -> 0 | L36: =SUM(L15:L35) -> 0 | M36: =SUM(M15:M35) -> 196.6
M40: Ngày ……. tháng …... năm 2014
C41: TRƯỞNG KHOA | H41: TRƯỞNG TỔ | M41: GV
B45: NGUYỄN NGỌC PHƯƠNG | F45: NGUYỄN ANH TUẤN | L45: HÀ QUỐC BẢO

Sheet Mau A1 Q Bảo
N1: Mẫu A1
C2: ỦY BAN NHÂN DÂN TP.HCM | J2: CỘNG HÒA XÃ HỘI CHỦ NGHĨA VIỆT NAM
C3: TRƯỜNG CĐ KỸ THUẬT LÝ TỰ TRỌNG | J3: Độc lập - Tự do - Hạnh phúc
A5: BẢNG KÊ KHỐI LƯỢNG CÔNG TÁC GIẢNG DẠY CỦA GIÁO VIÊN - GIẢNG VIÊN
A6: TRONG HỌC KỲ 1 - NĂM HỌC 2013 - 2014
B7: Họ và tên giáo viên : | D7: Hà | E7: Quốc Bảo | H7: Tổ : | I7: Điện Ô tô | L7: Khoa : | M7: Động Lực
M8: (Đơn vị tính : tiết)
A10: TT | B10: Từ ngày ……. tháng ….. đến ngày ……. tháng ….. | C10: Số tuần thực dạy | D10: Môn dạy | E10: Lớp dạy | J10: Thực hiện | N10: Ghi chú
F11: Thực Giảng dạy | K11: Kiêm nhiệm | L11: Khối lượng công tác cộng thêm | M11: Tổng thực hiện
F12: Chưa nhân hệ số | H12: Tổng hệ số | J12: Quy đổi và đã nhân hệ số
F13: LT | G13: TH | H13: LT | I13: TH
A14: (1) | B14: (2) | C14: (3) | D14: (4) | E14: (5) | F14: (6) | G14: (7) | H14: (8) | I14: (9) | J14: (10) | K14: (11) | L14: (12) | M14: (13) | N14: (14)
A15: 1 | B15: 23/9-22/2/2014 | C15: 12 | D15: TT hệ thống điện đcơ | E15: 12TC Ô(N2) | G15: 60 | I15: 1 | J15: =ROUND(IF(F15>0,F15*H15,"0")+IF(G15>0,(G15/1.5)*I15,"0"),1) -> 40 | M15: =ROUND(J15+K15+L15,1) -> 40
A16: 2 | B16: 9/9-21/12/2013 | C16: 15 | D16: TT đcơ xăng | E16: 11CĐ Ô2(N2) | G16: 90 | I16: 1 | J16: =ROUND(IF(F16>0,F16*H16,"0")+IF(G16>0,(G16/1.5)*I16,"0"),1) -> 60 | M16: =ROUND(J16+K16+L16,1) -> 60
A17: 3 | B17: 9/9-21/12/2013 | C17: 15 | D17: TT điện ô tô 1 | E17: 11CĐ Ô6(N2) | G17: 90 | I17: 1 | J17: =ROUND(IF(F17>0,F17*H17,"0")+IF(G17>0,(G17/1.5)*I17,"0"),1) -> 60 | M17: =ROUND(J17+K17+L17,1) -> 60
A18: 4 | D18: TT điện ô tô 1 | E18: 11CĐ Ô4(N1) | G18: 6 | I18: 1 | J18: =ROUND(IF(F18>0,F18*H18,"0")+IF(G18>0,(G18/1.5)*I18,"0"),1) -> 4 | M18: =ROUND(J18+K18+L18,1) -> 4 | N18: Dạy thay thầy A.Tuấn ngày 24/10
A19: 5 | D19: HT điện và điện tử ô tô 1 | E19: 11CĐ Ô4 | F19: 5 | H19: 1 | J19: =ROUND(IF(F19>0,F19*H19,"0")+IF(G19>0,(G19/1.5)*I19,"0"),1) -> 5 | M19: =ROUND(J19+K19+L19,1) -> 5 | N19: Dạy thay thầy A.Tuấn ngày 24/11
A20: 6 | D20: HT điện và điện tử ô tô 1 | E20: 11CĐ Ô2 | F20: 5 | H20: 1 | J20: =ROUND(IF(F20>0,F20*H20,"0")+IF(G20>0,(G20/1.5)*I20,"0"),1) -> 5 | M20: =ROUND(J20+K20+L20,1) -> 5 | N20: Dạy thay thầy Trung ngày 24/12
A21: 7 | J21: =ROUND(IF(F21>0,F21*H21,"0")+IF(G21>0,(G21/1.5)*I21,"0"),1) -> 0 | M21: =ROUND(J21+K21+L21,1) -> 0
A22: 8 | J22: =ROUND(IF(F22>0,F22*H22,"0")+IF(G22>0,(G22/1.5)*I22,"0"),1) -> 0 | M22: =ROUND(J22+K22+L22,1) -> 0
A23: 9 | J23: =ROUND(IF(F23>0,F23*H23,"0")+IF(G23>0,(G23/1.5)*I23,"0"),1) -> 0 | M23: =ROUND(J23+K23+L23,1) -> 0
A24: 10 | J24: =ROUND(IF(F24>0,F24*H24,"0")+IF(G24>0,(G24/1.5)*I24,"0"),1) -> 0 | M24: =ROUND(J24+K24+L24,1) -> 0
A25: 11 | J25: =ROUND(IF(F25>0,F25*H25,"0")+IF(G25>0,(G25/1.5)*I25,"0"),1) -> 0 | M25: =ROUND(J25+K25+L25,1) -> 0
A26: 12 | J26: =ROUND(IF(F26>0,F26*H26,"0")+IF(G26>0,(G26/1.5)*I26,"0"),1) -> 0 | M26: =ROUND(J26+K26+L26,1) -> 0
A27: 13 | J27: =ROUND(IF(F27>0,F27*H27,"0")+IF(G27>0,(G27/1.5)*I27,"0"),1) -> 0 | M27: =ROUND(J27+K27+L27,1) -> 0
A28: 14 | J28: =ROUND(IF(F28>0,F28*H28,"0")+IF(G28>0,(G28/1.5)*I28,"0"),1) -> 0 | M28: =ROUND(J28+K28+L28,1) -> 0
A29: 15 | J29: =ROUND(IF(F29>0,F29*H29,"0")+IF(G29>0,(G29/1.5)*I29,"0"),1) -> 0 | M29: =ROUND(J29+K29+L29,1) -> 0
A30: 16 | J30: =ROUND(IF(F30>0,F30*H30,"0")+IF(G30>0,(G30/1.5)*I30,"0"),1) -> 0 | M30: =ROUND(J30+K30+L30,1) -> 0
A31: 17 | J31: =ROUND(IF(F31>0,F31*H31,"0")+IF(G31>0,(G31/1.5)*I31,"0"),1) -> 0 | M31: =ROUND(J31+K31+L31,1) -> 0
A32: 18 | J32: =ROUND(IF(F32>0,F32*H32,"0")+IF(G32>0,(G32/1.5)*I32,"0"),1) -> 0 | M32: =ROUND(J32+K32+L32,1) -> 0
... A34: 20 | J34: =ROUND(IF(F34>0,F34*H34,"0")+IF(G34>0,(G34/1.5)*I34,"0"),1) -> 0 | M34: =ROUND(J34+K34+L34,1) -> 0
A35: TỔNG CỘNG (theo tiết) | F35: =SUM(F15:F34) -> 10 | G35: =SUM(G15:G34) -> 246 | J35: =SUM(J15:J34) -> 174 | K35: =SUM(K15:K34) -> 0 | L35: =SUM(L15:L34) -> 0 | M35: =SUM(M15:M34) -> 174
M36: Ngày ……. tháng …... năm 2014
C37: TRƯỞNG KHOA | H37: TRƯỞNG TỔ | M37: GV
B43: NGUYỄN NGỌC PHƯƠNG | F43: NGUYỄN ANH TUẤN | L43: HÀ QUỐC BẢO

Sheet Mau A2 Hóa
N1: Mẫu A2
C2: ỦY BAN NHÂN DÂN TP.HCM | J2: CỘNG HÒA XÃ HỘI CHỦ NGHĨA VIỆT NAM
C3: TRƯỜNG CĐ KỸ THUẬT LÝ TỰ TRỌNG | J3: Độc lập - Tự do - Hạnh phúc
A5: BẢNG KÊ KHỐI LƯỢNG CÔNG TÁC GIẢNG DẠY CỦA GIÁO VIÊN - GIẢNG VIÊN
A6: TRONG HỌC KỲ 2 - NĂM HỌC 2013 - 2014
B7: Họ và tên giáo viên : | D7: Hồ Văn | E7: Hóa | H7: Tổ : | I7: Gầm | L7: Khoa : | M7: Động Lực
M8: (Đơn vị tính : tiết)
A10: TT | B10: Từ ngày ……. tháng ….. đến ngày ……. tháng ….. | C10: Số tuần thực dạy | D10: Môn dạy | E10: Lớp dạy | J10: Thực hiện | N10: Ghi chú
F11: Thực Giảng dạy | K11: Kiêm nhiệm | L11: Khối lượng công tác cộng thêm | M11: Tổng thực hiện
F12: Chưa nhân hệ số | H12: Tổng hệ số | J12: Quy đổi và đã nhân hệ số
F13: LT | G13: TH | H13: LT | I13: TH
A14: (1) | B14: (2) | C14: (3) | D14: (4) | E14: (5) | F14: (6) | G14: (7) | H14: (8) | I14: (9) | J14: (10) | K14: (11) | L14: (12) | M14: (13) | N14: (14)
A15: 1 | B15: 13/1/2013-5/4/2014 | C15: 9 | D15: Thực tập ô tô 2 | E15: 11CĐ Ô1 (N10 | G15: 90 | I15: 1 | J15: =ROUND(IF(F15>0,F15*H15,"0")+IF(G15>0,(G15/1.5)*I15,"0"),1) -> 60 | M15: =ROUND(J15+K15+L15,1) -> 60
A16: 2 | B16: 13/1/2013-5/4/2014 | C16: 9 | D16: Thực tập ô tô 2 | E16: 11CĐ Ô1 (N2) | G16: 90 | I16: 1 | J16: =ROUND(IF(F16>0,F16*H16,"0")+IF(G16>0,(G16/1.5)*I16,"0"),1) -> 60 | M16: =ROUND(J16+K16+L16,1) -> 60
A17: 3 | B17: 13/1/2013-5/4/2014 | C17: 9 | D17: Thực tập ô tô 2 | E17: 11CĐ Ô6 (N1) | G17: 90 | I17: 1 | J17: =ROUND(IF(F17>0,F17*H17,"0")+IF(G17>0,(G17/1.5)*I17,"0"),1) -> 60 | M17: =ROUND(J17+K17+L17,1) -> 60
A18: 4 | B18: 13/1/2013-5/4/2014 | C18: 9 | D18: Thực tập ô tô 2 | E18: 11CĐ Ô6 (N2) | G18: 90 | I18: 1 | J18: =ROUND(IF(F18>0,F18*H18,"0")+IF(G18>0,(G18/1.5)*I18,"0"),1) -> 60 | M18: =ROUND(J18+K18+L18,1) -> 60
A19: 5 | B19: 31/4/2014-26/7/2014 | C19: 17 | D19: Kết cấu ô tô | E19: 13TC Ô2 | F19: 75 | H19: 1 | J19: =ROUND(IF(F19>0,F19*H19,"0")+IF(G19>0,(G19/1.5)*I19,"0"),1) -> 75 | M19: =ROUND(J19+K19+L19,1) -> 75
A20: 6 | D20: GVCN lớp 13TC Ô2 | J20: =ROUND(IF(F20>0,F20*H20,"0")+IF(G20>0,(G20/1.5)*I20,"0"),1) -> 0 | K20: =15%*130 -> 19.5 | M20: =ROUND(J20+K20+L20,1) -> 19.5
A21: 7 | D21: TT Ô TÔ 2 | E21: 11CĐ Ô2 (N1,2) | G21: 10 | I21: 1 | J21: =ROUND(IF(F21>0,F21*H21,"0")+IF(G21>0,(G21/1.5)*I21,"0"),1) -> 6.7 | M21: =ROUND(J21+K21+L21,1) -> 6.7 | N21: Dạy thay thầy Mạnh ngày 28/3
A22: 8 | D22: TT Ô TÔ 2 | E22: 11CĐ Ô2 (N1,2) | G22: 10 | I22: 1 | J22: =ROUND(IF(F22>0,F22*H22,"0")+IF(G22>0,(G22/1.5)*I22,"0"),1) -> 6.7 | M22: =ROUND(J22+K22+L22,1) -> 6.7 | N22: Dạy thay thầy Mạnh ngày 29/3
A23: 9 | D23: Kết cấu ô tô | E23: 13TC Ô1 | F23: 4 | H23: 1 | J23: =ROUND(IF(F23>0,F23*H23,"0")+IF(G23>0,(G23/1.5)*I23,"0"),1) -> 4 | M23: =ROUND(J23+K23+L23,1) -> 4 | N23: Dạy thay thầy Hùng ngày 8/5
A24: 10 | J24: =ROUND(IF(F24>0,F24*H24,"0")+IF(G24>0,(G24/1.5)*I24,"0"),1) -> 0 | M24: =ROUND(J24+K24+L24,1) -> 0
A25: 11 | J25: =ROUND(IF(F25>0,F25*H25,"0")+IF(G25>0,(G25/1.5)*I25,"0"),1) -> 0 | M25: =ROUND(J25+K25+L25,1) -> 0
A26: 12 | J26: =ROUND(IF(F26>0,F26*H26,"0")+IF(G26>0,(G26/1.5)*I26,"0"),1) -> 0 | M26: =ROUND(J26+K26+L26,1) -> 0
A27: 13 | J27: =ROUND(IF(F27>0,F27*H27,"0")+IF(G27>0,(G27/1.5)*I27,"0"),1) -> 0 | M27: =ROUND(J27+K27+L27,1) -> 0
A28: 14 | J28: =ROUND(IF(F28>0,F28*H28,"0")+IF(G28>0,(G28/1.5)*I28,"0"),1) -> 0 | M28: =ROUND(J28+K28+L28,1) -> 0
A29: 15 | J29: =ROUND(IF(F29>0,F29*H29,"0")+IF(G29>0,(G29/1.5)*I29,"0"),1) -> 0 | M29: =ROUND(J29+K29+L29,1) -> 0
A30: 16 | J30: =ROUND(IF(F30>0,F30*H30,"0")+IF(G30>0,(G30/1.5)*I30,"0"),1) -> 0 | M30: =ROUND(J30+K30+L30,1) -> 0
A31: 17 | J31: =ROUND(IF(F31>0,F31*H31,"0")+IF(G31>0,(G31/1.5)*I31,"0"),1) -> 0 | M31: =ROUND(J31+K31+L31,1) -> 0
A32: 18 | J32: =ROUND(IF(F32>0,F32*H32,"0")+IF(G32>0,(G32/1.5)*I32,"0"),1) -> 0 | M32: =ROUND(J32+K32+L32,1) -> 0
A33: 19 | J33: =ROUND(IF(F33>0,F33*H33,"0")+IF(G33>0,(G33/1.5)*I33,"0"),1) -> 0 | M33: =ROUND(J33+K33+L33,1) -> 0
A34: 20 | J34: =ROUND(IF(F34>0,F34*H34,"0")+IF(G34>0,(G34/1.5)*I34,"0"),1) -> 0 | M34: =ROUND(J34+K34+L34,1) -> 0
A35: TỔNG CỘNG (theo tiết) | F35: =SUM(F15:F34) -> 79 | G35: =SUM(G15:G34) -> 380 | J35: =SUM(J15:J34) -> 332.4 | K35: =SUM(K15:K34) -> 19.5 | L35: =SUM(L15:L34) -> 0 | M35: =ROUND(J35+K35+L35,1) -> 351.9
M37: Ngày ……. tháng …... năm 2014
B38: TRƯỞNG KHOA | H38: TRƯỞNG TỔ | M38: GV
B42: NGUYỄN NGỌC PHƯƠNG | F42: NGUYỄN HỮU MẠNH | L42: HỒ VĂN HÓA

Sheet Mau A1 Hóa
N1: Mẫu A1
C2: ỦY BAN NHÂN DÂN TP.HCM | J2: CỘNG HÒA XÃ HỘI CHỦ NGHĨA VIỆT NAM
C3: TRƯỜNG CĐ KỸ THUẬT LÝ TỰ TRỌNG | J3: Độc lập - Tự do - Hạnh phúc
A5: BẢNG KÊ KHỐI LƯỢNG CÔNG TÁC GIẢNG DẠY CỦA GIÁO VIÊN - GIẢNG VIÊN
A6: TRONG HỌC KỲ 1 - NĂM HỌC 2013 - 2014
B7: Họ và tên giáo viên : | D7: Hồ Văn | E7: Hóa | H7: Tổ : | I7: Gầm Ô Tô | L7: Khoa : | M7: Động Lực
M8: (Đơn vị tính : tiết)
A10: TT | B10: Từ ngày ……. tháng ….. đến ngày ……. tháng ….. | C10: Số tuần thực dạy | D10: Môn dạy | E10: Lớp dạy | J10: Thực hiện | N10: Ghi chú
F11: Thực Giảng dạy | K11: Kiêm nhiệm | L11: Khối lượng công tác cộng thêm | M11: Tổng thực hiện
F12: Chưa nhân hệ số | H12: Tổng hệ số | J12: Quy đổi và đã nhân hệ số
F13: LT | G13: TH | H13: LT | I13: TH
A14: (1) | B14: (2) | C14: (3) | D14: (4) | E14: (5) | F14: (6) | G14: (7) | H14: (8) | I14: (9) | J14: (10) | K14: (11) | L14: (12) | M14: (13) | N14: (14)
A15: 1 | B15: 9/9-21/12/2013 | C15: 15 | D15: TT ô tô 1 | E15: 11CĐ Ô1(N1) | G15: 90 | I15: 1 | J15: =ROUND(IF(F15>0,F15*H15,"0")+IF(G15>0,(G15/1.5)*I15,"0"),1) -> 60 | M15: =ROUND(J15+K15+L15,1) -> 60
A16: 2 | B16: 14/10-21/12/2013 | C16: 15 | D16: TT ô tô 1 | E16: 11CĐ Ô1(N2) | G16: 90 | I16: 1 | J16: =ROUND(IF(F16>0,F16*H16,"0")+IF(G16>0,(G16/1.5)*I16,"0"),1) -> 60 | M16: =ROUND(J16+K16+L16,1) -> 60
A17: 3 | B17: 9/9-21/12/2013 | C17: 10 | D17: TT ô tô 1 | E17: 11CĐ Ô1(N1) | G17: 30 | I17: 1 | J17: =ROUND(IF(F17>0,F17*H17,"0")+IF(G17>0,(G17/1.5)*I17,"0"),1) -> 20 | M17: =ROUND(J17+K17+L17,1) -> 20
A18: 4 | B18: 9/9-21/12/2013 | C18: 15 | D18: TT đcơ xăng | E18: 11CĐ Ô1(N2) | G18: 90 | I18: 1 | J18: =ROUND(IF(F18>0,F18*H18,"0")+IF(G18>0,(G18/1.5)*I18,"0"),1) -> 60 | M18: =ROUND(J18+K18+L18,1) -> 60
A19: 5 | B19: 9/9-21/12/2013 | C19: 15 | D19: TT ô tô 1 | E19: 11CĐ Ô7(N1) | G19: 90 | I19: 1 | J19: =ROUND(IF(F19>0,F19*H19,"0")+IF(G19>0,(G19/1.5)*I19,"0"),1) -> 60 | M19: =ROUND(J19+K19+L19,1) -> 60
A20: 6 | D20: Ô tô 2 | E20: 11CĐ Ô1 | F20: 2 | H20: 1 | J20: =ROUND(IF(F20>0,F20*H20,"0")+IF(G20>0,(G20/1.5)*I20,"0"),1) -> 2 | M20: =ROUND(J20+K20+L20,1) -> 2 | N20: Dạy thay thầy Thịnh ngày 30/10/2013
A21: 7 | D21: TT ô tô 1 | E21: 11CĐ Ô1(N2) | G21: 3 | I21: 1 | J21: =ROUND(IF(F21>0,F21*H21,"0")+IF(G21>0,(G21/1.5)*I21,"0"),1) -> 2 | M21: =ROUND(J21+K21+L21,1) -> 2 | N21: Dạy thay thầy Thịnh ngày 30/10/2013
A22: 8 | D22: TT ô tô 1 | E22: 11CĐ Ô3(N1) | G22: 6 | I22: 1 | J22: =ROUND(IF(F22>0,F22*H22,"0")+IF(G22>0,(G22/1.5)*I22,"0"),1) -> 4 | M22: =ROUND(J22+K22+L22,1) -> 4 | N22: Dạy thay thầy Mạnh ngày 16/9/2013
A23: 9 | J23: =ROUND(IF(F23>0,F23*H23,"0")+IF(G23>0,(G23/1.5)*I23,"0"),1) -> 0 | M23: =ROUND(J23+K23+L23,1) -> 0
A24: 10 | J24: =ROUND(IF(F24>0,F24*H24,"0")+IF(G24>0,(G24/1.5)*I24,"0"),1) -> 0 | M24: =ROUND(J24+K24+L24,1) -> 0
A25: 11 | J25: =ROUND(IF(F25>0,F25*H25,"0")+IF(G25>0,(G25/1.5)*I25,"0"),1) -> 0 | M25: =ROUND(J25+K25+L25,1) -> 0
A26: 12 | J26: =ROUND(IF(F26>0,F26*H26,"0")+IF(G26>0,(G26/1.5)*I26,"0"),1) -> 0 | M26: =ROUND(J26+K26+L26,1) -> 0
A27: 13 | J27: =ROUND(IF(F27>0,F27*H27,"0")+IF(G27>0,(G27/1.5)*I27,"0"),1) -> 0 | M27: =ROUND(J27+K27+L27,1) -> 0
A28: 14 | J28: =ROUND(IF(F28>0,F28*H28,"0")+IF(G28>0,(G28/1.5)*I28,"0"),1) -> 0 | M28: =ROUND(J28+K28+L28,1) -> 0
A29: 15 | J29: =ROUND(IF(F29>0,F29*H29,"0")+IF(G29>0,(G29/1.5)*I29,"0"),1) -> 0 | M29: =ROUND(J29+K29+L29,1) -> 0
A30: 16 | J30: =ROUND(IF(F30>0,F30*H30,"0")+IF(G30>0,(G30/1.5)*I30,"0"),1) -> 0 | M30: =ROUND(J30+K30+L30,1) -> 0
A31: 17 | J31: =ROUND(IF(F31>0,F31*H31,"0")+IF(G31>0,(G31/1.5)*I31,"0"),1) -> 0 | M31: =ROUND(J31+K31+L31,1) -> 0
A32: 18 | J32: =ROUND(IF(F32>0,F32*H32,"0")+IF(G32>0,(G32/1.5)*I32,"0"),1) -> 0 | M32: =ROUND(J32+K32+L32,1) -> 0
A33: 19 | J33: =ROUND(IF(F33>0,F33*H33,"0")+IF(G33>0,(G33/1.5)*I33,"0"),1) -> 0 | M33: =ROUND(J33+K33+L33,1) -> 0
A34: 20 | J34: =ROUND(IF(F34>0,F34*H34,"0")+IF(G34>0,(G34/1.5)*I34,"0"),1) -> 0 | M34: =ROUND(J34+K34+L34,1) -> 0
A35: TỔNG CỘNG (theo tiết) | F35: =SUM(F15:F34) -> 2 | G35: =SUM(G15:G34) -> 399 | J35: =SUM(J15:J34) -> 268 | K35: =SUM(K15:K34) -> 0 | L35: =SUM(L15:L34) -> 0 | M35: =SUM(M15:M34) -> 268
M36: Ngày ……. tháng …... năm 2014
C37: TRƯỞNG KHOA | H37: TRƯỞNG TỔ | M37: GV
B43: NGUYỄN NGỌC PHƯƠNG | F43: NGUYỄN HỮU MẠNH | L43: HỒ VĂN HÓA

Sheet Mau A2 Tín
N1: Mẫu A2
C2: ỦY BAN NHÂN DÂN TP.HCM | J2: CỘNG HÒA XÃ HỘI CHỦ NGHĨA VIỆT NAM
C3: TRƯỜNG CĐ KỸ THUẬT LÝ TỰ TRỌNG | J3: Độc lập - Tự do - Hạnh phúc
A5: BẢNG KÊ KHỐI LƯỢNG CÔNG TÁC GIẢNG DẠY CỦA GIÁO VIÊN - GIẢNG VIÊN
A6: TRONG HỌC KỲ 2 - NĂM HỌC 2013 - 2014
B7: Họ và tên giáo viên : | D7: Kiều Trung | E7: Tín | H7: Tổ : | I7: Động cơ xăng | L7: Khoa : | M7: Động Lực
M8: (Đơn vị tính : tiết)
A10: TT | B10: Từ ngày ……. tháng ….. đến ngày ……. tháng ….. | C10: Số tuần thực dạy | D10: Môn dạy | E10: Lớp dạy | J10: Thực hiện | N10: Ghi chú
F11: Thực Giảng dạy | K11: Kiêm nhiệm | L11: Khối lượng công tác cộng thêm | M11: Tổng thực hiện
F12: Chưa nhân hệ số | H12: Tổng hệ số | J12: Quy đổi và đã nhân hệ số
F13: LT | G13: TH | H13: LT | I13: TH
A14: (1) | B14: (2) | C14: (3) | D14: (4) | E14: (5) | F14: (6) | G14: (7) | H14: (8) | I14: (9) | J14: (10) | K14: (11) | L14: (12) | M14: (13) | N14: (14)
A15: 1 | B15: 13/1/2014-5/4/2014 | C15: 9 | D15: Thực tập ô tô 2 | E15: 11CĐ Ô2 (N2) | G15: 90 | I15: 1 | J15: =ROUND(IF(F15>0,F15*H15,"0")+IF(G15>0,(G15/1.5)*I15,"0"),1) -> 60 | M15: =ROUND(J15+K15+L15,1) -> 60
A16: 2 | B16: 10/2/2014-24/5/2014 | C16: 15 | D16: Kỹ thuật nhiệt | E16: 12CĐ Ô1 | F16: 45 | H16: 1 | J16: =ROUND(IF(F16>0,F16*H16,"0")+IF(G16>0,(G16/1.5)*I16,"0"),1) -> 45 | M16: =ROUND(J16+K16+L16,1) -> 45
A17: 3 | B17: 10/2/2014-24/5/2014 | C17: 15 | D17: Kỹ thuật nhiệt | E17: 12CĐ Ô2 | F17: 45 | H17: 1 | J17: =ROUND(IF(F17>0,F17*H17,"0")+IF(G17>0,(G17/1.5)*I17,"0"),1) -> 45 | M17: =ROUND(J17+K17+L17,1) -> 45
A18: 4 | B18: 31/4/2014-2/7/2014 | C18: 15 | D18: Kỹ thuật nhiệt | E18: 13TC Ô1 | F18: 30 | H18: 1 | J18: =ROUND(IF(F18>0,F18*H18,"0")+IF(G18>0,(G18/1.5)*I18,"0"),1) -> 30 | M18: =ROUND(J18+K18+L18,1) -> 30
A19: 5 | B19: 31/4/2014-2/7/2014 | C19: 15 | D19: Kỹ thuật nhiệt | E19: 13TC Ô2 | F19: 30 | H19: 1 | J19: =ROUND(IF(F19>0,F19*H19,"0")+IF(G19>0,(G19/1.5)*I19,"0"),1) -> 30 | M19: =ROUND(J19+K19+L19,1) -> 30
A20: 6 | D20: Ôn thi TN khóa | E20: 11CDO | F20: 10 | H20: 1 | J20: =ROUND(IF(F20>0,F20*H20,"0")+IF(G20>0,(G20/1.5)*I20,"0"),1) -> 10 | M20: =ROUND(J20+K20+L20,1) -> 10
A21: 7 | J21: =ROUND(IF(F21>0,F21*H21,"0")+IF(G21>0,(G21/1.5)*I21,"0"),1) -> 0 | M21: =ROUND(J21+K21+L21,1) -> 0
A22: 8 | J22: =ROUND(IF(F22>0,F22*H22,"0")+IF(G22>0,(G22/1.5)*I22,"0"),1) -> 0 | M22: =ROUND(J22+K22+L22,1) -> 0
A23: 9 | J23: =ROUND(IF(F23>0,F23*H23,"0")+IF(G23>0,(G23/1.5)*I23,"0"),1) -> 0 | M23: =ROUND(J23+K23+L23,1) -> 0
A24: 10 | J24: =ROUND(IF(F24>0,F24*H24,"0")+IF(G24>0,(G24/1.5)*I24,"0"),1) -> 0 | M24: =ROUND(J24+K24+L24,1) -> 0
A25: 11 | J25: =ROUND(IF(F25>0,F25*H25,"0")+IF(G25>0,(G25/1.5)*I25,"0"),1) -> 0 | M25: =ROUND(J25+K25+L25,1) -> 0
A26: 12 | J26: =ROUND(IF(F26>0,F26*H26,"0")+IF(G26>0,(G26/1.5)*I26,"0"),1) -> 0 | M26: =ROUND(J26+K26+L26,1) -> 0
A27: 13 | J27: =ROUND(IF(F27>0,F27*H27,"0")+IF(G27>0,(G27/1.5)*I27,"0"),1) -> 0 | M27: =ROUND(J27+K27+L27,1) -> 0
A28: 14 | J28: =ROUND(IF(F28>0,F28*H28,"0")+IF(G28>0,(G28/1.5)*I28,"0"),1) -> 0 | M28: =ROUND(J28+K28+L28,1) -> 0
A29: 15 | J29: =ROUND(IF(F29>0,F29*H29,"0")+IF(G29>0,(G29/1.5)*I29,"0"),1) -> 0 | M29: =ROUND(J29+K29+L29,1) -> 0
A30: 16 | J30: =ROUND(IF(F30>0,F30*H30,"0")+IF(G30>0,(G30/1.5)*I30,"0"),1) -> 0 | M30: =ROUND(J30+K30+L30,1) -> 0
A31: 17 | J31: =ROUND(IF(F31>0,F31*H31,"0")+IF(G31>0,(G31/1.5)*I31,"0"),1) -> 0 | M31: =ROUND(J31+K31+L31,1) -> 0
A32: 18 | J32: =ROUND(IF(F32>0,F32*H32,"0")+IF(G32>0,(G32/1.5)*I32,"0"),1) -> 0 | M32: =ROUND(J32+K32+L32,1) -> 0
... A34: 20 | J34: =ROUND(IF(F34>0,F34*H34,"0")+IF(G34>0,(G34/1.5)*I34,"0"),1) -> 0 | M34: =ROUND(J34+K34+L34,1) -> 0
A35: TỔNG CỘNG (theo tiết) | F35: =SUM(F15:F34) -> 160 | G35: =SUM(G15:G34) -> 90 | J35: =SUM(J15:J34) -> 220 | K35: =SUM(K15:K34) -> 0 | L35: =SUM(L15:L34) -> 0 | M35: =SUM(M15:M34) -> 220
L39: Ngày ……. tháng …... năm 2014
C40: TRƯỞNG KHOA | H40: TRƯỞNG TỔ | L40: GV
B46: NGUYỄN NGỌC PHƯƠNG | F46: TRIỆU PHÚ NGUYÊN | L46: KIỀU TRUNG TÍN

Sheet Mau A1 Tín
N1: Mẫu A1
C2: ỦY BAN NHÂN DÂN TP.HCM | J2: CỘNG HÒA XÃ HỘI CHỦ NGHĨA VIỆT NAM
C3: TRƯỜNG CĐ KỸ THUẬT LÝ TỰ TRỌNG | J3: Độc lập - Tự do - Hạnh phúc
A5: BẢNG KÊ KHỐI LƯỢNG CÔNG TÁC GIẢNG DẠY CỦA GIÁO VIÊN - GIẢNG VIÊN
A6: TRONG HỌC KỲ 1 - NĂM HỌC 2013 - 2014
B7: Họ và tên giáo viên : | D7: Kiều Trung | E7: Tín | H7: Tổ : | I7: Động cơ xăng | L7: Khoa : | M7: Động Lực
M8: (Đơn vị tính : tiết)
A10: TT | B10: Từ ngày ……. tháng ….. đến ngày ……. tháng ….. | C10: Số tuần thực dạy | D10: Môn dạy | E10: Lớp dạy | J10: Thực hiện | N10: Ghi chú
F11: Thực Giảng dạy | K11: Kiêm nhiệm | L11: Khối lượng công tác cộng thêm | M11: Tổng thực hiện
F12: Chưa nhân hệ số | H12: Tổng hệ số | J12: Quy đổi và đã nhân hệ số
F13: LT | G13: TH | H13: LT | I13: TH
A14: (1) | B14: (2) | C14: (3) | D14: (4) | E14: (5) | F14: (6) | G14: (7) | H14: (8) | I14: (9) | J14: (10) | K14: (11) | L14: (12) | M14: (13) | N14: (14)
A15: 1 | B15: 14/10-21/12/2013 | C15: 10 | D15: TT ô tô 1 | E15: 11CĐÔ5 (N2) | G15: 30 | I15: 1 | J15: =ROUND(IF(F15>0,F15*H15,"0")+IF(G15>0,(G15/1.5)*I15,"0"),1) -> 20 | M15: =ROUND(J15+K15+L15,1) -> 20
A16: 2 | B16: 9/9-21/12/2013 | C16: 15 | D16: Ô tô 1 | E16: 11CĐ Ô6 | F16: 70 | H16: 1 | J16: =ROUND(IF(F16>0,F16*H16,"0")+IF(G16>0,(G16/1.5)*I16,"0"),1) -> 70 | M16: =ROUND(J16+K16+L16,1) -> 70 | N16: Thầy Đức dạy thay 5 tiết ngày 13/9
A17: 3 | B17: 9/9-21/12/2013 | C17: 15 | D17: HT điện và điện tử ô tô | E17: 11CD Ô7 | F17: 75 | H17: 1 | J17: =ROUND(IF(F17>0,F17*H17,"0")+IF(G17>0,(G17/1.5)*I17,"0"),1) -> 75 | M17: =ROUND(J17+K17+L17,1) -> 75
A18: 4 | B18: 9/9-21/12/2013 | C18: 15 | D18: Thủy lực và máy thủy lực | E18: 12CĐ Ô1 | F18: 45 | H18: 1 | J18: =ROUND(IF(F18>0,F18*H18,"0")+IF(G18>0,(G18/1.5)*I18,"0"),1) -> 45 | M18: =ROUND(J18+K18+L18,1) -> 45
A19: 5 | B19: 9/9-21/12/2013 | C19: 15 | D19: Thủy lực và máy thủy lực | E19: 12CĐ Ô2 | F19: 45 | H19: 1 | J19: =ROUND(IF(F19>0,F19*H19,"0")+IF(G19>0,(G19/1.5)*I19,"0"),1) -> 45 | M19: =ROUND(J19+K19+L19,1) -> 45
A20: 6 | B20: 14/10-15/3/2014 | C20: 15 | D20: Kết cấu ĐCĐT | E20: 13TC Ô1 | F20: 60 | H20: 1.1 | J20: =ROUND(IF(F20>0,F20*H20,"0")+IF(G20>0,(G20/1.5)*I20,"0"),1) -> 66 | M20: =ROUND(J20+K20+L20,1) -> 66
A21: 7 | B21: 14/10-21/12/2013 | C21: 6 | D21: TT kỹ thuật lái xe | E21: 13CĐÔ2(N2) | G21: 30 | I21: 1.2 | J21: =ROUND(IF(F21>0,F21*H21,"0")+IF(G21>0,(G21/1.5)*I21,"0"),1) -> 24 | M21: =ROUND(J21+K21+L21,1) -> 24
A22: TỔNG CỘNG (theo tiết) | F22: =SUM(F15:F21) -> 295 | G22: =SUM(G15:G21) -> 60 | J22: =SUM(J15:J21) -> 345 | K22: =SUM(K15:K21) -> 0 | L22: =SUM(L15:L21) -> 0 | M22: =SUM(M15:M21) -> 345
M23: Ngày ……. tháng …... năm 2014
C24: TRƯỞNG KHOA | H24: TRƯỞNG TỔ | M24: GV
B30: NGUYỄN NGỌC PHƯƠNG | F30: TRIỆU PHÚ NGUYÊN | L30: KIỀU TRUNG TÍN

Sheet Mau A2 M Tuấn
N1: Mẫu A2
C2: ỦY BAN NHÂN DÂN TP.HCM | J2: CỘNG HÒA XÃ HỘI CHỦ NGHĨA VIỆT NAM
C3: TRƯỜNG CĐ KỸ THUẬT LÝ TỰ TRỌNG | J3: Độc lập - Tự do - Hạnh phúc
A5: BẢNG KÊ KHỐI LƯỢNG CÔNG TÁC GIẢNG DẠY CỦA GIÁO VIÊN - GIẢNG VIÊN
A6: TRONG HỌC KỲ 2 - NĂM HỌC 2013 - 2014
B7: Họ và tên giáo viên : | D7: Trần | E7: Minh Tuấn | H7: Tổ : | I7: Điện Ô tô | L7: Khoa : | M7: Động Lực
M8: (Đơn vị tính : tiết)
A10: TT | B10: Từ ngày ……. tháng ….. đến ngày ……. tháng ….. | C10: Số tuần thực dạy | D10: Môn dạy | E10: Lớp dạy | J10: Thực hiện | N10: Ghi chú
F11: Thực Giảng dạy | K11: Kiêm nhiệm | L11: Khối lượng công tác cộng thêm | M11: Tổng thực hiện
F12: Chưa nhân hệ số | H12: Tổng hệ số | J12: Quy đổi và đã nhân hệ số
F13: LT | G13: TH | H13: LT | I13: TH
A14: (1) | B14: (2) | C14: (3) | D14: (4) | E14: (5) | F14: (6) | G14: (7) | H14: (8) | I14: (9) | J14: (10) | K14: (11) | L14: (12) | M14: (13) | N14: (14)
A15: 1 | B15: 13/1/2014-5/4/2014 | C15: 9 | D15: Thực tập điện ô tô 2 | E15: 11CĐ Ô2 (N2) | G15: 90 | I15: 1 | J15: =ROUND(IF(F15>0,F15*H15,"0")+IF(G15>0,(G15/1.5)*I15,"0"),1) -> 60 | M15: =ROUND(J15+K15+L15,1) -> 60
A16: 2 | B16: 13/1/2014-5/4/2014 | C16: 9 | D16: Thực tập điện ô tô 2 | E16: 11CĐ Ô6 (N2) | G16: 90 | I16: 1 | J16: =ROUND(IF(F16>0,F16*H16,"0")+IF(G16>0,(G16/1.5)*I16,"0"),1) -> 60 | M16: =ROUND(J16+K16+L16,1) -> 60
A17: 3 | B17: 13/1/2014-5/4/2014 | C17: 9 | D17: Thực tập điện ô tô 2 | E17: 11CĐ Ô4 (N1) | G17: 90 | I17: 1 | J17: =ROUND(IF(F17>0,F17*H17,"0")+IF(G17>0,(G17/1.5)*I17,"0"),1) -> 60 | M17: =ROUND(J17+K17+L17,1) -> 60
A18: 4 | D18: Ôn thi TN khóa 12LTO | F18: 5 | H18: 1 | J18: =ROUND(IF(F18>0,F18*H18,"0")+IF(G18>0,(G18/1.5)*I18,"0"),1) -> 5 | M18: =ROUND(J18+K18+L18,1) -> 5
A19: 5 | D19: Ôn thi TN khóa 12TCO | F19: 10 | G19: 10 | H19: 1 | I19: 1.5 | J19: =ROUND(IF(F19>0,F19*H19,"0")+IF(G19>0,(G19/1.5)*I19,"0"),1) -> 20 | M19: =ROUND(J19+K19+L19,1) -> 20
A20: 6 | J20: =ROUND(IF(F20>0,F20*H20,"0")+IF(G20>0,(G20/1.5)*I20,"0"),1) -> 0 | M20: =ROUND(J20+K20+L20,1) -> 0
A21: 7 | J21: =ROUND(IF(F21>0,F21*H21,"0")+IF(G21>0,(G21/1.5)*I21,"0"),1) -> 0 | M21: =ROUND(J21+K21+L21,1) -> 0
A22: 8 | J22: =ROUND(IF(F22>0,F22*H22,"0")+IF(G22>0,(G22/1.5)*I22,"0"),1) -> 0 | M22: =ROUND(J22+K22+L22,1) -> 0
A23: 9 | J23: =ROUND(IF(F23>0,F23*H23,"0")+IF(G23>0,(G23/1.5)*I23,"0"),1) -> 0 | M23: =ROUND(J23+K23+L23,1) -> 0
A24: 10 | J24: =ROUND(IF(F24>0,F24*H24,"0")+IF(G24>0,(G24/1.5)*I24,"0"),1) -> 0 | M24: =ROUND(J24+K24+L24,1) -> 0
A25: 11 | J25: =ROUND(IF(F25>0,F25*H25,"0")+IF(G25>0,(G25/1.5)*I25,"0"),1) -> 0 | M25: =ROUND(J25+K25+L25,1) -> 0
A26: 12 | J26: =ROUND(IF(F26>0,F26*H26,"0")+IF(G26>0,(G26/1.5)*I26,"0"),1) -> 0 | M26: =ROUND(J26+K26+L26,1) -> 0
A27: 13 | J27: =ROUND(IF(F27>0,F27*H27,"0")+IF(G27>0,(G27/1.5)*I27,"0"),1) -> 0 | M27: =ROUND(J27+K27+L27,1) -> 0
A28: 14 | J28: =ROUND(IF(F28>0,F28*H28,"0")+IF(G28>0,(G28/1.5)*I28,"0"),1) -> 0 | M28: =ROUND(J28+K28+L28,1) -> 0
A29: 15 | J29: =ROUND(IF(F29>0,F29*H29,"0")+IF(G29>0,(G29/1.5)*I29,"0"),1) -> 0 | M29: =ROUND(J29+K29+L29,1) -> 0
A30: 16 | J30: =ROUND(IF(F30>0,F30*H30,"0")+IF(G30>0,(G30/1.5)*I30,"0"),1) -> 0 | M30: =ROUND(J30+K30+L30,1) -> 0
A31: 17 | J31: =ROUND(IF(F31>0,F31*H31,"0")+IF(G31>0,(G31/1.5)*I31,"0"),1) -> 0 | M31: =ROUND(J31+K31+L31,1) -> 0
... A33: 19 | J33: =ROUND(IF(F33>0,F33*H33,"0")+IF(G33>0,(G33/1.5)*I33,"0"),1) -> 0 | M33: =ROUND(J33+K33+L33,1) -> 0
J34: =ROUND(IF(F34>0,F34*H34,"0")+IF(G34>0,(G34/1.5)*I34,"0"),1) -> 0 | M34: =ROUND(J34+K34+L34,1) -> 0
A35: TỔNG CỘNG (theo tiết) | F35: =SUM(F15:F34) -> 15 | G35: =SUM(G15:G34) -> 280 | J35: =SUM(J15:J34) -> 205 | K35: =SUM(K15:K34) -> 0 | L35: =SUM(L15:L34) -> 0 | M35: =SUM(M15:M34) -> 205
M39: Ngày ……. tháng …... năm 2014
B40: TRƯỞNG KHOA | F40: TRƯỞNG TỔ | L40: GV
B45: NGUYỄN NGỌC PHƯƠNG | F45: NGUYỄN ANH TUẤN | L45: TRẦN MINH TUẤN

Sheet Mau A1 M Tuấn
N1: Mẫu A1
C2: ỦY BAN NHÂN DÂN TP.HCM | J2: CỘNG HÒA XÃ HỘI CHỦ NGHĨA VIỆT NAM
C3: TRƯỜNG CĐ KỸ THUẬT LÝ TỰ TRỌNG | J3: Độc lập - Tự do - Hạnh phúc
A5: BẢNG KÊ KHỐI LƯỢNG CÔNG TÁC GIẢNG DẠY CỦA GIÁO VIÊN - GIẢNG VIÊN
A6: TRONG HỌC KỲ 1 - NĂM HỌC 2013 - 2014
B7: Họ và tên giáo viên : | D7: Trần | E7: Minh Tuấn | H7: Tổ : | I7: Điện Ô tô | L7: Khoa : | M7: Động Lực
M8: (Đơn vị tính : tiết)
A10: TT | B10: Từ ngày ……. tháng ….. đến ngày ……. tháng ….. | C10: Số tuần thực dạy | D10: Môn dạy | E10: Lớp dạy | J10: Thực hiện | N10: Ghi chú
F11: Thực Giảng dạy | K11: Kiêm nhiệm | L11: Khối lượng công tác cộng thêm | M11: Tổng thực hiện
F12: Chưa nhân hệ số | H12: Tổng hệ số | J12: Quy đổi và đã nhân hệ số
F13: LT | G13: TH | H13: LT | I13: TH
A14: (1) | B14: (2) | C14: (3) | D14: (4) | E14: (5) | F14: (6) | G14: (7) | H14: (8) | I14: (9) | J14: (10) | K14: (11) | L14: (12) | M14: (13) | N14: (14)
A15: 1 | B15: 9/9-21/12/2013 | C15: 15 | D15: HT điện và điện tử ô tô | E15: 11CĐ Ô1 | F15: 75 | H15: 1 | J15: =ROUND(IF(F15>0,F15*H15,"0")+IF(G15>0,(G15/1.5)*I15,"0"),1) -> 75 | M15: =ROUND(J15+K15+L15,1) -> 75
A16: 2 | B16: 9/9-21/12/2013 | C16: 15 | D16: TT điện ô tô 1 | E16: 11CĐ Ô3(N1) | G16: 90 | I16: 1 | J16: =ROUND(IF(F16>0,F16*H16,"0")+IF(G16>0,(G16/1.5)*I16,"0"),1) -> 60 | M16: =ROUND(J16+K16+L16,1) -> 60
A17: 3 | B17: 9/9-21/12/2013 | C17: 15 | D17: TT điện ô tô 1 | E17: 11CĐ Ô7(N2) | G17: 90 | I17: 1 | J17: =ROUND(IF(F17>0,F17*H17,"0")+IF(G17>0,(G17/1.5)*I17,"0"),1) -> 60 | M17: =ROUND(J17+K17+L17,1) -> 60
A18: 4 | B18: 9/9-21/12/2013 | C18: 15 | D18: HT điện và điện tử ô tô | E18: 12LT Ô | F18: 30 | H18: 1 | J18: =ROUND(IF(F18>0,F18*H18,"0")+IF(G18>0,(G18/1.5)*I18,"0"),1) -> 30 | M18: =ROUND(J18+K18+L18,1) -> 30
A19: 5 | B19: 9/9-21/12/2013 | C19: 15 | D19: Kỹ thuật nhiệt | E19: 12LT Ô | F19: 45 | H19: 1 | J19: =ROUND(IF(F19>0,F19*H19,"0")+IF(G19>0,(G19/1.5)*I19,"0"),1) -> 45 | M19: =ROUND(J19+K19+L19,1) -> 45
A20: 6 | D20: GVCN lớp 12LT Ô | J20: =ROUND(IF(F20>0,F20*H20,"0")+IF(G20>0,(G20/1.5)*I20,"0"),1) -> 0 | K20: =15%*130 -> 19.5 | M20: =ROUND(J20+K20+L20,1) -> 19.5
A21: 7 | J21: =ROUND(IF(F21>0,F21*H21,"0")+IF(G21>0,(G21/1.5)*I21,"0"),1) -> 0 | M21: =ROUND(J21+K21+L21,1) -> 0
A22: 8 | J22: =ROUND(IF(F22>0,F22*H22,"0")+IF(G22>0,(G22/1.5)*I22,"0"),1) -> 0 | M22: =ROUND(J22+K22+L22,1) -> 0
A23: 9 | J23: =ROUND(IF(F23>0,F23*H23,"0")+IF(G23>0,(G23/1.5)*I23,"0"),1) -> 0 | M23: =ROUND(J23+K23+L23,1) -> 0
A24: 10 | J24: =ROUND(IF(F24>0,F24*H24,"0")+IF(G24>0,(G24/1.5)*I24,"0"),1) -> 0 | M24: =ROUND(J24+K24+L24,1) -> 0
A25: 11 | J25: =ROUND(IF(F25>0,F25*H25,"0")+IF(G25>0,(G25/1.5)*I25,"0"),1) -> 0 | M25: =ROUND(J25+K25+L25,1) -> 0
A26: 12 | J26: =ROUND(IF(F26>0,F26*H26,"0")+IF(G26>0,(G26/1.5)*I26,"0"),1) -> 0 | M26: =ROUND(J26+K26+L26,1) -> 0
A27: 13 | J27: =ROUND(IF(F27>0,F27*H27,"0")+IF(G27>0,(G27/1.5)*I27,"0"),1) -> 0 | M27: =ROUND(J27+K27+L27,1) -> 0
A28: 14 | J28: =ROUND(IF(F28>0,F28*H28,"0")+IF(G28>0,(G28/1.5)*I28,"0"),1) -> 0 | M28: =ROUND(J28+K28+L28,1) -> 0
A29: 15 | J29: =ROUND(IF(F29>0,F29*H29,"0")+IF(G29>0,(G29/1.5)*I29,"0"),1) -> 0 | M29: =ROUND(J29+K29+L29,1) -> 0
A30: 16 | J30: =ROUND(IF(F30>0,F30*H30,"0")+IF(G30>0,(G30/1.5)*I30,"0"),1) -> 0 | M30: =ROUND(J30+K30+L30,1) -> 0
A31: 17 | J31: =ROUND(IF(F31>0,F31*H31,"0")+IF(G31>0,(G31/1.5)*I31,"0"),1) -> 0 | M31: =ROUND(J31+K31+L31,1) -> 0
A32: 18 | J32: =ROUND(IF(F32>0,F32*H32,"0")+IF(G32>0,(G32/1.5)*I32,"0"),1) -> 0 | M32: =ROUND(J32+K32+L32,1) -> 0
... A34: 20 | J34: =ROUND(IF(F34>0,F34*H34,"0")+IF(G34>0,(G34/1.5)*I34,"0"),1) -> 0 | M34: =ROUND(J34+K34+L34,1) -> 0
A35: TỔNG CỘNG (theo tiết) | F35: =SUM(F15:F34) -> 150 | G35: =SUM(G15:G34) -> 180 | J35: =SUM(J15:J34) -> 270 | K35: =SUM(K15:K34) -> 19.5 | L35: =SUM(L15:L34) -> 0 | M35: =SUM(M15:M34) -> 289.5
M36: Ngày ……. tháng …... năm 2014
C37: TRƯỞNG KHOA | H37: TRƯỞNG TỔ | M37: GV
B44: NGUYỄN NGỌC PHƯƠNG | F44: NGUYỄN ANH TUẤN | L44: TRẦN MINH TUẤN

Sheet Mau A2 T Hùng
N1: Mẫu A2
C2: ỦY BAN NHÂN DÂN TP.HCM | J2: CỘNG HÒA XÃ HỘI CHỦ NGHĨA VIỆT NAM
C3: TRƯỜNG CĐ KỸ THUẬT LÝ TỰ TRỌNG | J3: Độc lập - Tự do - Hạnh phúc
A5: BẢNG KÊ KHỐI LƯỢNG CÔNG TÁC GIẢNG DẠY CỦA GIÁO VIÊN - GIẢNG VIÊN
A6: TRONG HỌC KỲ 2 - NĂM HỌC 2013 - 2014
B7: Họ và tên giáo viên : | D7: Nguyễn Thanh | E7: Hùng | H7: Tổ : | I7: Gầm | L7: Khoa : | M7: Động Lực
M8: (Đơn vị tính : tiết)
A10: TT | B10: Từ ngày ……. tháng ….. đến ngày ……. tháng ….. | C10: Số tuần thực dạy | D10: Môn dạy | E10: Lớp dạy | J10: Thực hiện | N10: Ghi chú
F11: Thực Giảng dạy | K11: Kiêm nhiệm | L11: Khối lượng công tác cộng thêm | M11: Tổng thực hiện
F12: Chưa nhân hệ số | H12: Tổng hệ số | J12: Quy đổi và đã nhân hệ số
F13: LT | G13: TH | H13: LT | I13: TH
A14: (1) | B14: (2) | C14: (3) | D14: (4) | E14: (5) | F14: (6) | G14: (7) | H14: (8) | I14: (9) | J14: (10) | K14: (11) | L14: (12) | M14: (13) | N14: (14)
A15: 1 | B15: 13/1/2014-5/4/2014 | C15: 9 | D15: Thực tập ô tô 2 | E15: 11CĐ Ô4 (N1) | G15: 90 | I15: 1 | J15: =ROUND(IF(F15>0,F15*H15,"0")+IF(G15>0,(G15/1.5)*I15,"0"),1) -> 60 | M15: =ROUND(J15+K15+L15,1) -> 60
A16: 2 | B16: 13/1/2014-5/4/2014 | C16: 9 | D16: Thực tập ô tô 2 | E16: 11CĐ Ô4 (N2) | G16: 90 | I16: 1 | J16: =ROUND(IF(F16>0,F16*H16,"0")+IF(G16>0,(G16/1.5)*I16,"0"),1) -> 60 | M16: =ROUND(J16+K16+L16,1) -> 60
A17: 3 | B17: 13/1/2014-5/4/2014 | C17: 9 | D17: Thực tập ô tô 2 | E17: 11CĐ Ô5 (N2) | G17: 90 | I17: 1 | J17: =ROUND(IF(F17>0,F17*H17,"0")+IF(G17>0,(G17/1.5)*I17,"0"),1) -> 60 | M17: =ROUND(J17+K17+L17,1) -> 60
A18: 4 | B18: 31/4/2014-2/7/2014 | C18: 17 | D18: Kết cấu ô tô | E18: 13TC Ô1 | F18: 71 | H18: 1 | J18: =ROUND(IF(F18>0,F18*H18,"0")+IF(G18>0,(G18/1.5)*I18,"0"),1) -> 71 | M18: =ROUND(J18+K18+L18,1) -> 71 | N18: Thầy Hóa dạy thay tôi 4 tiết ngày 8/5
A19: 5 | D19: Thực tập ô tô 2 | E19: 11CĐ Ô3 (N1,2) | G19: 10 | I19: 1 | J19: =ROUND(IF(F19>0,F19*H19,"0")+IF(G19>0,(G19/1.5)*I19,"0"),1) -> 6.7 | M19: =ROUND(J19+K19+L19,1) -> 6.7 | N19: Dạy thay Th.Mạnh ngày 4/1/14
A20: 6 | D20: TT kết cấu ô tô | E20: 12TCO 1 (N1) | G20: 30 | I20: 1 | J20: =ROUND(IF(F20>0,F20*H20,"0")+IF(G20>0,(G20/1.5)*I20,"0"),1) -> 20 | M20: =ROUND(J20+K20+L20,1) -> 20 | N20: Dạy thay Th.Nguyên
A21: 7 | J21: =ROUND(IF(F21>0,F21*H21,"0")+IF(G21>0,(G21/1.5)*I21,"0"),1) -> 0 | M21: =ROUND(J21+K21+L21,1) -> 0
A22: 8 | J22: =ROUND(IF(F22>0,F22*H22,"0")+IF(G22>0,(G22/1.5)*I22,"0"),1) -> 0 | M22: =ROUND(J22+K22+L22,1) -> 0
A23: 9 | J23: =ROUND(IF(F23>0,F23*H23,"0")+IF(G23>0,(G23/1.5)*I23,"0"),1) -> 0 | M23: =ROUND(J23+K23+L23,1) -> 0
A24: 10 | J24: =ROUND(IF(F24>0,F24*H24,"0")+IF(G24>0,(G24/1.5)*I24,"0"),1) -> 0 | M24: =ROUND(J24+K24+L24,1) -> 0
A25: 11 | J25: =ROUND(IF(F25>0,F25*H25,"0")+IF(G25>0,(G25/1.5)*I25,"0"),1) -> 0 | M25: =ROUND(J25+K25+L25,1) -> 0
A26: 12 | J26: =ROUND(IF(F26>0,F26*H26,"0")+IF(G26>0,(G26/1.5)*I26,"0"),1) -> 0 | M26: =ROUND(J26+K26+L26,1) -> 0
A27: 13 | J27: =ROUND(IF(F27>0,F27*H27,"0")+IF(G27>0,(G27/1.5)*I27,"0"),1) -> 0 | M27: =ROUND(J27+K27+L27,1) -> 0
A28: 14 | J28: =ROUND(IF(F28>0,F28*H28,"0")+IF(G28>0,(G28/1.5)*I28,"0"),1) -> 0 | M28: =ROUND(J28+K28+L28,1) -> 0
A29: 15 | J29: =ROUND(IF(F29>0,F29*H29,"0")+IF(G29>0,(G29/1.5)*I29,"0"),1) -> 0 | M29: =ROUND(J29+K29+L29,1) -> 0
A30: 16 | J30: =ROUND(IF(F30>0,F30*H30,"0")+IF(G30>0,(G30/1.5)*I30,"0"),1) -> 0 | M30: =ROUND(J30+K30+L30,1) -> 0
A31: 17 | J31: =ROUND(IF(F31>0,F31*H31,"0")+IF(G31>0,(G31/1.5)*I31,"0"),1) -> 0 | M31: =ROUND(J31+K31+L31,1) -> 0
A32: 18 | J32: =ROUND(IF(F32>0,F32*H32,"0")+IF(G32>0,(G32/1.5)*I32,"0"),1) -> 0 | M32: =ROUND(J32+K32+L32,1) -> 0
... A34: 20 | J34: =ROUND(IF(F34>0,F34*H34,"0")+IF(G34>0,(G34/1.5)*I34,"0"),1) -> 0 | M34: =ROUND(J34+K34+L34,1) -> 0
A35: TỔNG CỘNG (theo tiết) | F35: =SUM(F15:F34) -> 71 | G35: =SUM(G15:G34) -> 310 | J35: =SUM(J15:J34) -> 277.7 | K35: =SUM(K15:K34) -> 0 | L35: =SUM(L15:L34) -> 0 | M35: =SUM(M15:M34) -> 277.7
M37: Ngày ……. tháng …... năm 2014
C38: TRƯỞNG KHOA | H38: TRƯỞNG TỔ | M38: GV
B43: NGUYỄN NGỌC PHƯƠNG | F43: NGUYỄN HỮU MẠNH | L43: NGUYỄN THANH HÙNG

Sheet Mau A1 T Hùng
N1: Mẫu A1
C2: ỦY BAN NHÂN DÂN TP.HCM | J2: CỘNG HÒA XÃ HỘI CHỦ NGHĨA VIỆT NAM
C3: TRƯỜNG CĐ KỸ THUẬT LÝ TỰ TRỌNG | J3: Độc lập - Tự do - Hạnh phúc
A5: BẢNG KÊ KHỐI LƯỢNG CÔNG TÁC GIẢNG DẠY CỦA GIÁO VIÊN - GIẢNG VIÊN
A6: TRONG HỌC KỲ 1 - NĂM HỌC 2013 - 2014
B7: Họ và tên giáo viên : | D7: Nguyễn Thanh | E7: Hùng | H7: Tổ : | I7: Gầm Ô Tô | L7: Khoa : | M7: Động Lực
M8: (Đơn vị tính : tiết)
A10: TT | B10: Từ ngày ……. tháng ….. đến ngày ……. tháng ….. | C10: Số tuần thực dạy | D10: Môn dạy | E10: Lớp dạy | J10: Thực hiện | N10: Ghi chú
F11: Thực Giảng dạy | K11: Kiêm nhiệm | L11: Khối lượng công tác cộng thêm | M11: Tổng thực hiện
F12: Chưa nhân hệ số | H12: Tổng hệ số | J12: Quy đổi và đã nhân hệ số
F13: LT | G13: TH | H13: LT | I13: TH
A14: (1) | B14: (2) | C14: (3) | D14: (4) | E14: (5) | F14: (6) | G14: (7) | H14: (8) | I14: (9) | J14: (10) | K14: (11) | L14: (12) | M14: (13) | N14: (14)
A15: 1 | B15: 9/9-21/12/2013 | C15: 15 | D15: TT ô tô 1 | E15: 11CĐÔ2(N1,2) | G15: 180 | I15: 1 | J15: =ROUND(IF(F15>0,F15*H15,"0")+IF(G15>0,(G15/1.5)*I15,"0"),1) -> 120 | M15: =ROUND(J15+K15+L15,1) -> 120
A16: 2 | B16: 9/9-21/12/2013 | C16: 15 | D16: TT ô tô 1 | E16: 11CĐÔ4(N1,2) | G16: 180 | I16: 1 | J16: =ROUND(IF(F16>0,F16*H16,"0")+IF(G16>0,(G16/1.5)*I16,"0"),1) -> 120 | M16: =ROUND(J16+K16+L16,1) -> 120
A17: 3 | B17: 14/10-21/12/13 | C17: 10 | D17: TT ô tô 1 | E17: 11CĐ Ô2(N1) | G17: 30 | I17: 1 | J17: =ROUND(IF(F17>0,F17*H17,"0")+IF(G17>0,(G17/1.5)*I17,"0"),1) -> 20 | M17: =ROUND(J17+K17+L17,1) -> 20
A18: 4 | B18: 14/10-21/12/13 | C18: 10 | D18: TT ô tô 1 | E18: 11CĐ Ô4(N2) | G18: 30 | I18: 1 | J18: =ROUND(IF(F18>0,F18*H18,"0")+IF(G18>0,(G18/1.5)*I18,"0"),1) -> 20 | M18: =ROUND(J18+K18+L18,1) -> 20
A19: 5 | B19: 9/9-21/12/2013 | C19: 15 | D19: Ô tô 2 | E19: 11CĐ Ô2 | F19: 30 | H19: 1 | J19: =ROUND(IF(F19>0,F19*H19,"0")+IF(G19>0,(G19/1.5)*I19,"0"),1) -> 30 | M19: =ROUND(J19+K19+L19,1) -> 30
A20: 6 | D20: TT ô tô 1 | E20: 11CĐ Ô3(N2) | G20: 6 | I20: 1 | J20: =ROUND(IF(F20>0,F20*H20,"0")+IF(G20>0,(G20/1.5)*I20,"0"),1) -> 4 | M20: =ROUND(J20+K20+L20,1) -> 4 | N20: Dạy thay thầy Mạnh ngày 16/9
A21: 7 | J21: =ROUND(IF(F21>0,F21*H21,"0")+IF(G21>0,(G21/1.5)*I21,"0"),1) -> 0 | M21: =ROUND(J21+K21+L21,1) -> 0
A22: 8 | J22: =ROUND(IF(F22>0,F22*H22,"0")+IF(G22>0,(G22/1.5)*I22,"0"),1) -> 0 | M22: =ROUND(J22+K22+L22,1) -> 0
A23: 9 | J23: =ROUND(IF(F23>0,F23*H23,"0")+IF(G23>0,(G23/1.5)*I23,"0"),1) -> 0 | M23: =ROUND(J23+K23+L23,1) -> 0
A24: 10 | J24: =ROUND(IF(F24>0,F24*H24,"0")+IF(G24>0,(G24/1.5)*I24,"0"),1) -> 0 | M24: =ROUND(J24+K24+L24,1) -> 0
A25: 11 | J25: =ROUND(IF(F25>0,F25*H25,"0")+IF(G25>0,(G25/1.5)*I25,"0"),1) -> 0 | M25: =ROUND(J25+K25+L25,1) -> 0
A26: 12 | J26: =ROUND(IF(F26>0,F26*H26,"0")+IF(G26>0,(G26/1.5)*I26,"0"),1) -> 0 | M26: =ROUND(J26+K26+L26,1) -> 0
A27: 13 | J27: =ROUND(IF(F27>0,F27*H27,"0")+IF(G27>0,(G27/1.5)*I27,"0"),1) -> 0 | M27: =ROUND(J27+K27+L27,1) -> 0
A28: 14 | J28: =ROUND(IF(F28>0,F28*H28,"0")+IF(G28>0,(G28/1.5)*I28,"0"),1) -> 0 | M28: =ROUND(J28+K28+L28,1) -> 0
A29: 15 | J29: =ROUND(IF(F29>0,F29*H29,"0")+IF(G29>0,(G29/1.5)*I29,"0"),1) -> 0 | M29: =ROUND(J29+K29+L29,1) -> 0
A30: 16 | J30: =ROUND(IF(F30>0,F30*H30,"0")+IF(G30>0,(G30/1.5)*I30,"0"),1) -> 0 | M30: =ROUND(J30+K30+L30,1) -> 0
A31: 17 | J31: =ROUND(IF(F31>0,F31*H31,"0")+IF(G31>0,(G31/1.5)*I31,"0"),1) -> 0 | M31: =ROUND(J31+K31+L31,1) -> 0
A32: 18 | J32: =ROUND(IF(F32>0,F32*H32,"0")+IF(G32>0,(G32/1.5)*I32,"0"),1) -> 0 | M32: =ROUND(J32+K32+L32,1) -> 0
... A34: 20 | J34: =ROUND(IF(F34>0,F34*H34,"0")+IF(G34>0,(G34/1.5)*I34,"0"),1) -> 0 | M34: =ROUND(J34+K34+L34,1) -> 0
A35: TỔNG CỘNG (theo tiết) | F35: =SUM(F15:F34) -> 30 | G35: =SUM(G15:G34) -> 426 | J35: =SUM(J15:J34) -> 314 | K35: =SUM(K15:K34) -> 0 | L35: =SUM(L15:L34) -> 0 | M35: =SUM(M15:M34) -> 314
M36: Ngày ……. tháng …... năm 2014
C37: TRƯỞNG KHOA | H37: TRƯỞNG TỔ | M37: GV
B44: NGUYỄN NGỌC PHƯƠNG | F44: NGUYỄN HỮU MẠNH | L44: NGUYỄN THANH HÙNG

Sheet Mau A2 Trung
N1: Mẫu A2
C2: ỦY BAN NHÂN DÂN TP.HCM | J2: CỘNG HÒA XÃ HỘI CHỦ NGHĨA VIỆT NAM
C3: TRƯỜNG CĐ KỸ THUẬT LÝ TỰ TRỌNG | J3: Độc lập - Tự do - Hạnh phúc
A5: BẢNG KÊ KHỐI LƯỢNG CÔNG TÁC GIẢNG DẠY CỦA GIÁO VIÊN - GIẢNG VIÊN
A6: TRONG HỌC KỲ 2 - NĂM HỌC 2013 - 2014
B7: Họ và tên giáo viên : | D7: Phạm Nguyễn Đức | E7: Trung | H7: Tổ : | I7: Động Cơ Dầu | L7: Khoa : | M7: Động Lực
M8: (Đơn vị tính : tiết)
A10: TT | B10: Từ ngày ……. tháng ….. đến ngày ……. tháng ….. | C10: Số tuần thực dạy | D10: Môn dạy | E10: Lớp dạy | J10: Thực hiện | N10: Ghi chú
F11: Thực Giảng dạy | K11: Kiêm nhiệm | L11: Khối lượng công tác cộng thêm | M11: Tổng thực hiện
F12: Chưa nhân hệ số | H12: Tổng hệ số | J12: Quy đổi và đã nhân hệ số
F13: LT | G13: TH | H13: LT | I13: TH
A14: (1) | B14: (2) | C14: (3) | D14: (4) | E14: (5) | F14: (6) | G14: (7) | H14: (8) | I14: (9) | J14: (10) | K14: (11) | L14: (12) | M14: (13) | N14: (14)
A15: 1 | B15: 13/1/2014-5/4/2014 | C15: 9 | D15: Thực tập động cơ diesel | E15: 11CĐ Ô2 (N1) | G15: 90 | I15: 1 | J15: =ROUND(IF(F15>0,F15*H15,"0")+IF(G15>0,(G15/1.5)*I15,"0"),1) -> 60 | M15: =ROUND(J15+K15+L15,1) -> 60
A16: 2 | B16: 13/1/2014-5/4/2014 | C16: 9 | D16: Thực tập động cơ diesel | E16: 11CĐ Ô2 (N2) | G16: 90 | I16: 1 | J16: =ROUND(IF(F16>0,F16*H16,"0")+IF(G16>0,(G16/1.5)*I16,"0"),1) -> 60 | M16: =ROUND(J16+K16+L16,1) -> 60
A17: 3 | B17: 13/1/2014-5/4/2014 | C17: 9 | D17: Thực tập động cơ diesel | E17: 11CĐ Ô3 (N2) | G17: 90 | I17: 1 | J17: =ROUND(IF(F17>0,F17*H17,"0")+IF(G17>0,(G17/1.5)*I17,"0"),1) -> 60 | M17: =ROUND(J17+K17+L17,1) -> 60
A18: 4 | B18: 13/1/2014-5/4/2014 | C18: 9 | D18: Thực tập động cơ diesel | E18: 11CĐ Ô7 (N1) | G18: 90 | I18: 1 | J18: =ROUND(IF(F18>0,F18*H18,"0")+IF(G18>0,(G18/1.5)*I18,"0"),1) -> 60 | M18: =ROUND(J18+K18+L18,1) -> 60
A19: 5 | D19: GVCN lớp 11CĐ Ô2 | J19: =ROUND(IF(F19>0,F19*H19,"0")+IF(G19>0,(G19/1.5)*I19,"0"),1) -> 0 | K19: =15%*130 -> 19.5 | M19: =ROUND(J19+K19+L19,1) -> 19.5
A20: 6 | D20: Ôn thi TN khóa 11CD Ô | F20: 30 | H20: 1 | J20: =ROUND(IF(F20>0,F20*H20,"0")+IF(G20>0,(G20/1.5)*I20,"0"),1) -> 30 | M20: =ROUND(J20+K20+L20,1) -> 30
A21: 7 | D21: Ôn thi TN khóa 12TC Ô | G21: 5 | I21: 1.5 | J21: =ROUND(IF(F21>0,F21*H21,"0")+IF(G21>0,(G21/1.5)*I21,"0"),1) -> 5 | M21: =ROUND(J21+K21+L21,1) -> 5
A35: TỔNG CỘNG (theo tiết) | F35: =SUM(F15:F34) -> 30 | G35: =SUM(G15:G34) -> 365 | J35: =SUM(J15:J34) -> 275 | K35: =SUM(K15:K34) -> 19.5 | L35: =SUM(L15:L34) -> 0 | M35: =SUM(M15:M34) -> 294.5
M37: Ngày ……. tháng …... năm 2014
C38: TRƯỞNG KHOA | H38: TRƯỞNG TỔ | M38: GV
B44: NGUYỄN NGỌC PHƯƠNG | F44: PHAN ANH TUẤN KIỆT | L44: PHẠM NGUYỄN ĐỨC TRUNG

Sheet Mau A1 Trung
N1: Mẫu A1
C2: ỦY BAN NHÂN DÂN TP.HCM | J2: CỘNG HÒA XÃ HỘI CHỦ NGHĨA VIỆT NAM
C3: TRƯỜNG CĐ KỸ THUẬT LÝ TỰ TRỌNG | J3: Độc lập - Tự do - Hạnh phúc
A5: BẢNG KÊ KHỐI LƯỢNG CÔNG TÁC GIẢNG DẠY CỦA GIÁO VIÊN - GIẢNG VIÊN
A6: TRONG HỌC KỲ 1 - NĂM HỌC 2013 - 2014
B7: Họ và tên giáo viên : | D7: Phạm Nguyễn Đức | E7: Trung | H7: Tổ : | I7: Động Cơ Dầu | L7: Khoa : | M7: Động Lực
M8: (Đơn vị tính : tiết)
A10: TT | B10: Từ ngày ……. tháng ….. đến ngày ……. tháng ….. | C10: Số tuần thực dạy | D10: Môn dạy | E10: Lớp dạy | J10: Thực hiện | N10: Ghi chú
F11: Thực Giảng dạy | K11: Kiêm nhiệm | L11: Khối lượng công tác cộng thêm | M11: Tổng thực hiện
F12: Chưa nhân hệ số | H12: Tổng hệ số | J12: Quy đổi và đã nhân hệ số
F13: LT | G13: TH | H13: LT | I13: TH
A14: (1) | B14: (2) | C14: (3) | D14: (4) | E14: (5) | F14: (6) | G14: (7) | H14: (8) | I14: (9) | J14: (10) | K14: (11) | L14: (12) | M14: (13) | N14: (14)
A15: 1 | B15: 9/9-21/12/2013 | C15: 15 | D15: HT điện và điện tử ô tô | E15: 11CĐ Ô2 | F15: 70 | H15: 1 | J15: =ROUND(IF(F15>0,F15*H15,"0")+IF(G15>0,(G15/1.5)*I15,"0"),1) -> 70 | M15: =ROUND(J15+K15+L15,1) -> 70 | N15: Thầy Q.Bảo dạy thay tôi 5 tiết
A16: 2 | B16: 9/9-21/12/2013 | C16: 15 | D16: TT điện ô tô 1 | E16: 11CĐÔ2(N2) | G16: 90 | I16: 1 | J16: =ROUND(IF(F16>0,F16*H16,"0")+IF(G16>0,(G16/1.5)*I16,"0"),1) -> 60 | M16: =ROUND(J16+K16+L16,1) -> 60
A17: 3 | B17: 14/10-23/11/13 | C17: 6 | D17: TT kỹ thuật lái xe | E17: 13CĐÔ4(N1) | G17: 30 | I17: 1.2 | J17: =ROUND(IF(F17>0,F17*H17,"0")+IF(G17>0,(G17/1.5)*I17,"0"),1) -> 24 | M17: =ROUND(J17+K17+L17,1) -> 24
A18: 4 | B18: 14/10-21/12/13 | C18: 10 | D18: TT ô tô 1 | E18: 11CĐÔ2(N2) | G18: 30 | I18: 1 | J18: =ROUND(IF(F18>0,F18*H18,"0")+IF(G18>0,(G18/1.5)*I18,"0"),1) -> 20 | M18: =ROUND(J18+K18+L18,1) -> 20
A19: 5 | B19: 23/9-15/1/2014 | C19: 15 | D19: Hệ thống điện thân xe | E19: 12TC Ô 1 | F19: 30 | H19: 1 | J19: =ROUND(IF(F19>0,F19*H19,"0")+IF(G19>0,(G19/1.5)*I19,"0"),1) -> 30 | M19: =ROUND(J19+K19+L19,1) -> 30
A20: 6 | B20: 9/9-21/12/2013 | C20: 15 | D20: TT điện ô tô 1 | E20: 11CĐÔ6 (N1) | G20: 90 | I20: 1 | J20: =ROUND(IF(F20>0,F20*H20,"0")+IF(G20>0,(G20/1.5)*I20,"0"),1) -> 60 | M20: =ROUND(J20+K20+L20,1) -> 60
A21: 7 | D21: NMNCN ô tô | E21: 13CĐ Ô4 | F21: 2 | H21: 1.3 | J21: =ROUND(IF(F21>0,F21*H21,"0")+IF(G21>0,(G21/1.5)*I21,"0"),1) -> 2.6 | M21: =ROUND(J21+K21+L21,1) -> 2.6 | N21: Dạy thay thầy Phương ngày 21/10
A22: 8 | D22: TT ô tô 1 | E22: 11CĐ Ô3(N1) | G22: 3 | I22: 1 | J22: =ROUND(IF(F22>0,F22*H22,"0")+IF(G22>0,(G22/1.5)*I22,"0"),1) -> 2 | M22: =ROUND(J22+K22+L22,1) -> 2 | N22: Dạy thay thầy Phương ngày 22/10
A23: 9 | D23: GVCN lớp 11CĐ Ô2 | K23: =15%*130 -> 19.5 | M23: =ROUND(J23+K23+L23,1) -> 19.5
A25: 9 | J25: =ROUND(IF(F25>0,F25*H25,"0")+IF(G25>0,(G25/1.5)*I25,"0"),1) -> 0 | M25: =ROUND(J25+K25+L25,1) -> 0
A26: 10 | J26: =ROUND(IF(F26>0,F26*H26,"0")+IF(G26>0,(G26/1.5)*I26,"0"),1) -> 0 | M26: =ROUND(J26+K26+L26,1) -> 0
A27: 11 | J27: =ROUND(IF(F27>0,F27*H27,"0")+IF(G27>0,(G27/1.5)*I27,"0"),1) -> 0 | M27: =ROUND(J27+K27+L27,1) -> 0
A28: 12 | J28: =ROUND(IF(F28>0,F28*H28,"0")+IF(G28>0,(G28/1.5)*I28,"0"),1) -> 0 | M28: =ROUND(J28+K28+L28,1) -> 0
A29: 13 | J29: =ROUND(IF(F29>0,F29*H29,"0")+IF(G29>0,(G29/1.5)*I29,"0"),1) -> 0 | M29: =ROUND(J29+K29+L29,1) -> 0
A30: 14 | J30: =ROUND(IF(F30>0,F30*H30,"0")+IF(G30>0,(G30/1.5)*I30,"0"),1) -> 0 | M30: =ROUND(J30+K30+L30,1) -> 0
A31: 15 | J31: =ROUND(IF(F31>0,F31*H31,"0")+IF(G31>0,(G31/1.5)*I31,"0"),1) -> 0 | M31: =ROUND(J31+K31+L31,1) -> 0
A32: 16 | J32: =ROUND(IF(F32>0,F32*H32,"0")+IF(G32>0,(G32/1.5)*I32,"0"),1) -> 0 | M32: =ROUND(J32+K32+L32,1) -> 0
A33: 17 | J33: =ROUND(IF(F33>0,F33*H33,"0")+IF(G33>0,(G33/1.5)*I33,"0"),1) -> 0 | M33: =ROUND(J33+K33+L33,1) -> 0
A34: 18 | J34: =ROUND(IF(F34>0,F34*H34,"0")+IF(G34>0,(G34/1.5)*I34,"0"),1) -> 0 | M34: =ROUND(J34+K34+L34,1) -> 0
A35: 19 | J35: =ROUND(IF(F35>0,F35*H35,"0")+IF(G35>0,(G35/1.5)*I35,"0"),1) -> 0 | M35: =ROUND(J35+K35+L35,1) -> 0
A36: 20 | J36: =ROUND(IF(F36>0,F36*H36,"0")+IF(G36>0,(G36/1.5)*I36,"0"),1) -> 0 | M36: =ROUND(J36+K36+L36,1) -> 0
A37: TỔNG CỘNG (theo tiết) | F37: =SUM(F15:F36) -> 102 | G37: =SUM(G15:G36) -> 243 | J37: =SUM(J15:J36) -> 268.6 | K37: =SUM(K15:K36) -> 19.5 | L37: =SUM(L15:L36) -> 0 | M37: =SUM(M15:M36) -> 288.1
M38: Ngày ……. tháng …... năm 2014
C39: TRƯỞNG KHOA | H39: TRƯỞNG TỔ | M39: GV
B45: NGUYỄN NGỌC PHƯƠNG | F45: PHAN ANH TUẤN KIỆT | L45: PHẠM NGUYỄN ĐỨC TRUNG

Sheet Mau A2 Duy
N1: Mẫu A2
C2: ỦY BAN NHÂN DÂN TP.HCM | J2: CỘNG HÒA XÃ HỘI CHỦ NGHĨA VIỆT NAM
C3: TRƯỜNG CĐ KỸ THUẬT LÝ TỰ TRỌNG | J3: Độc lập - Tự do - Hạnh phúc
A5: BẢNG KÊ KHỐI LƯỢNG CÔNG TÁC GIẢNG DẠY CỦA GIÁO VIÊN - GIẢNG VIÊN
A6: TRONG HỌC KỲ 2 - NĂM HỌC 2013 - 2014
B7: Họ và tên giáo viên : | D7: Trần Quốc | E7: Duy | H7: Tổ : | I7: Động cơ dầu | L7: Khoa : | M7: Động Lực
M8: (Đơn vị tính : tiết)
A10: TT | B10: Từ ngày ……. tháng ….. đến ngày ……. tháng ….. | C10: Số tuần thực dạy | D10: Môn dạy | E10: Lớp dạy | J10: Thực hiện | N10: Ghi chú
F11: Thực Giảng dạy | K11: Kiêm nhiệm | L11: Khối lượng công tác cộng thêm | M11: Tổng thực hiện
F12: Chưa nhân hệ số | H12: Tổng hệ số | J12: Quy đổi và đã nhân hệ số
F13: LT | G13: TH | H13: LT | I13: TH
A14: (1) | B14: (2) | C14: (3) | D14: (4) | E14: (5) | F14: (6) | G14: (7) | H14: (8) | I14: (9) | J14: (10) | K14: (11) | L14: (12) | M14: (13) | N14: (14)
A15: 1 | B15: 13/1/2014-5/4/2014 | C15: 9 | D15: Thực tập động cơ diesel | E15: 11CĐ Ô5 (N1) | G15: 90 | I15: 1 | J15: =ROUND(IF(F15>0,F15*H15,"0")+IF(G15>0,(G15/1.5)*I15,"0"),1) -> 60 | M15: =ROUND(J15+K15+L15,1) -> 60
A16: 2 | B16: 13/1/2014-5/4/2014 | C16: 9 | D16: Thực tập động cơ diesel | E16: 11CĐ Ô7 (N2) | G16: 90 | I16: 1 | J16: =ROUND(IF(F16>0,F16*H16,"0")+IF(G16>0,(G16/1.5)*I16,"0"),1) -> 60 | M16: =ROUND(J16+K16+L16,1) -> 60
A17: 3 | D17: Ôn thi TN khóa 11CDO | F17: 10 | H17: 1 | J17: =ROUND(IF(F17>0,F17*H17,"0")+IF(G17>0,(G17/1.5)*I17,"0"),1) -> 10 | M17: =ROUND(J17+K17+L17,1) -> 10
A18: 4 | J18: =ROUND(IF(F18>0,F18*H18,"0")+IF(G18>0,(G18/1.5)*I18,"0"),1) -> 0 | M18: =ROUND(J18+K18+L18,1) -> 0
A19: 5 | J19: =ROUND(IF(F19>0,F19*H19,"0")+IF(G19>0,(G19/1.5)*I19,"0"),1) -> 0 | M19: =ROUND(J19+K19+L19,1) -> 0
A20: 6 | J20: =ROUND(IF(F20>0,F20*H20,"0")+IF(G20>0,(G20/1.5)*I20,"0"),1) -> 0 | M20: =ROUND(J20+K20+L20,1) -> 0
A21: 7 | J21: =ROUND(IF(F21>0,F21*H21,"0")+IF(G21>0,(G21/1.5)*I21,"0"),1) -> 0 | M21: =ROUND(J21+K21+L21,1) -> 0
A22: 8 | J22: =ROUND(IF(F22>0,F22*H22,"0")+IF(G22>0,(G22/1.5)*I22,"0"),1) -> 0 | M22: =ROUND(J22+K22+L22,1) -> 0
A23: 9 | J23: =ROUND(IF(F23>0,F23*H23,"0")+IF(G23>0,(G23/1.5)*I23,"0"),1) -> 0 | M23: =ROUND(J23+K23+L23,1) -> 0
A24: 10 | J24: =ROUND(IF(F24>0,F24*H24,"0")+IF(G24>0,(G24/1.5)*I24,"0"),1) -> 0 | M24: =ROUND(J24+K24+L24,1) -> 0
A25: 11 | J25: =ROUND(IF(F25>0,F25*H25,"0")+IF(G25>0,(G25/1.5)*I25,"0"),1) -> 0 | M25: =ROUND(J25+K25+L25,1) -> 0
A26: 12 | J26: =ROUND(IF(F26>0,F26*H26,"0")+IF(G26>0,(G26/1.5)*I26,"0"),1) -> 0 | M26: =ROUND(J26+K26+L26,1) -> 0
A27: 13 | J27: =ROUND(IF(F27>0,F27*H27,"0")+IF(G27>0,(G27/1.5)*I27,"0"),1) -> 0 | M27: =ROUND(J27+K27+L27,1) -> 0
A28: 14 | J28: =ROUND(IF(F28>0,F28*H28,"0")+IF(G28>0,(G28/1.5)*I28,"0"),1) -> 0 | M28: =ROUND(J28+K28+L28,1) -> 0
A29: 15 | J29: =ROUND(IF(F29>0,F29*H29,"0")+IF(G29>0,(G29/1.5)*I29,"0"),1) -> 0 | M29: =ROUND(J29+K29+L29,1) -> 0
A30: 16 | J30: =ROUND(IF(F30>0,F30*H30,"0")+IF(G30>0,(G30/1.5)*I30,"0"),1) -> 0 | M30: =ROUND(J30+K30+L30,1) -> 0
A35: TỔNG CỘNG (theo tiết) | F35: =SUM(F15:F34) -> 10 | G35: =SUM(G15:G34) -> 180 | J35: =SUM(J15:J34) -> 130 | K35: =SUM(K15:K34) -> 0 | L35: =SUM(L15:L34) -> 0 | M35: =SUM(M15:M34) -> 130
M39: Ngày ……. tháng …... năm 2014
C40: TRƯỞNG KHOA | H40: TRƯỞNG TỔ | M40: GV
B44: NGUYỄN NGỌC PHƯƠNG | F44: PHAN ANH TUẤN KIỆT | L44: TRẦN QUỐC DUY

Sheet Mau A1 Duy
N1: Mẫu A1
C2: ỦY BAN NHÂN DÂN TP.HCM | J2: CỘNG HÒA XÃ HỘI CHỦ NGHĨA VIỆT NAM
C3: TRƯỜNG CĐ KỸ THUẬT LÝ TỰ TRỌNG | J3: Độc lập - Tự do - Hạnh phúc
A5: BẢNG KÊ KHỐI LƯỢNG CÔNG TÁC GIẢNG DẠY CỦA GIÁO VIÊN - GIẢNG VIÊN
A6: TRONG HỌC KỲ 1 - NĂM HỌC 2013 - 2014
B7: Họ và tên giáo viên : | D7: Trần Quốc | E7: Duy | H7: Tổ : | I7: Động Cơ Dầu | L7: Khoa : | M7: Động Lực
M8: (Đơn vị tính : tiết)
A10: TT | B10: Từ ngày ……. tháng ….. đến ngày ……. tháng ….. | C10: Số tuần thực dạy | D10: Môn dạy | E10: Lớp dạy | J10: Thực hiện | N10: Ghi chú
F11: Thực Giảng dạy | K11: Kiêm nhiệm | L11: Khối lượng công tác cộng thêm | M11: Tổng thực hiện
F12: Chưa nhân hệ số | H12: Tổng hệ số | J12: Quy đổi và đã nhân hệ số
F13: LT | G13: TH | H13: LT | I13: TH
A14: (1) | B14: (2) | C14: (3) | D14: (4) | E14: (5) | F14: (6) | G14: (7) | H14: (8) | I14: (9) | J14: (10) | K14: (11) | L14: (12) | M14: (13) | N14: (14)
A15: 1 | B15: 14/10-15/3/2014 | C15: 15 | D15: NL đcơ đốt trong | E15: 13TC Ô1 | F15: 60 | H15: 1.1 | J15: =ROUND(IF(F15>0,F15*H15,"0")+IF(G15>0,(G15/1.5)*I15,"0"),1) -> 66 | M15: =ROUND(J15+K15+L15,1) -> 66
A16: 2 | B16: 9/9-21/12/2013 | C16: 15 | D16: TT đcơ xăng | E16: 11CĐ Ô5(N1) | G16: 90 | I16: 1 | J16: =ROUND(IF(F16>0,F16*H16,"0")+IF(G16>0,(G16/1.5)*I16,"0"),1) -> 60 | M16: =ROUND(J16+K16+L16,1) -> 60
A17: 3 | B17: 9/9-21/12/2013 | C17: 15 | D17: TT đcơ xăng | E17: 11CĐ Ô5(N2) | G17: 90 | I17: 1 | J17: =ROUND(IF(F17>0,F17*H17,"0")+IF(G17>0,(G17/1.5)*I17,"0"),1) -> 60 | M17: =ROUND(J17+K17+L17,1) -> 60
A18: 4 | B18: 14/10-23/11/2013 | C18: 6 | D18: TT kỹ thuật lái xe | E18: 13CĐ Ô1(N1) | G18: 30 | I18: 1.2 | J18: =ROUND(IF(F18>0,F18*H18,"0")+IF(G18>0,(G18/1.5)*I18,"0"),1) -> 24 | M18: =ROUND(J18+K18+L18,1) -> 24
A19: 5 | B19: 14/10-23/11/2013 | C19: 6 | D19: TT kỹ thuật lái xe | E19: 13CĐ Ô1(N2) | G19: 30 | I19: 1.2 | J19: =ROUND(IF(F19>0,F19*H19,"0")+IF(G19>0,(G19/1.5)*I19,"0"),1) -> 24 | M19: =ROUND(J19+K19+L19,1) -> 24
A20: 6 | B20: 14/10-23/11/2013 | C20: 6 | D20: TT kỹ thuật lái xe | E20: 13CĐ Ô5(N1) | G20: 30 | I20: 1.3 | J20: =ROUND(IF(F20>0,F20*H20,"0")+IF(G20>0,(G20/1.5)*I20,"0"),1) -> 26 | M20: =ROUND(J20+K20+L20,1) -> 26
A21: 7 | B21: 14/10-23/11/2013 | C21: 6 | D21: TT kỹ thuật lái xe | E21: 13CĐ Ô5(N2) | G21: 30 | I21: 1.2 | J21: =ROUND(IF(F21>0,F21*H21,"0")+IF(G21>0,(G21/1.5)*I21,"0"),1) -> 24 | M21: =ROUND(J21+K21+L21,1) -> 24
A22: 8 | B22: 9/9-21/12/2013 | C22: 15 | D22: TT ô tô 1 | E22: 11CĐÔ6(N1,2) | G22: 180 | I22: 1 | J22: =ROUND(IF(F22>0,F22*H22,"0")+IF(G22>0,(G22/1.5)*I22,"0"),1) -> 120 | M22: =ROUND(J22+K22+L22,1) -> 120
A23: 9 | D23: GVCN lớp 13TC Ô1 | J23: =ROUND(IF(F23>0,F23*H23,"0")+IF(G23>0,(G23/1.5)*I23,"0"),1) -> 0 | K23: =15%*130 -> 19.5 | M23: =ROUND(J23+K23+L23,1) -> 19.5
A24: 9 | J24: =ROUND(IF(F24>0,F24*H24,"0")+IF(G24>0,(G24/1.5)*I24,"0"),1) -> 0 | M24: =ROUND(J24+K24+L24,1) -> 0
A25: 10 | J25: =ROUND(IF(F25>0,F25*H25,"0")+IF(G25>0,(G25/1.5)*I25,"0"),1) -> 0 | M25: =ROUND(J25+K25+L25,1) -> 0
A26: 11 | J26: =ROUND(IF(F26>0,F26*H26,"0")+IF(G26>0,(G26/1.5)*I26,"0"),1) -> 0 | M26: =ROUND(J26+K26+L26,1) -> 0
A27: 12 | J27: =ROUND(IF(F27>0,F27*H27,"0")+IF(G27>0,(G27/1.5)*I27,"0"),1) -> 0 | M27: =ROUND(J27+K27+L27,1) -> 0
A28: 13 | J28: =ROUND(IF(F28>0,F28*H28,"0")+IF(G28>0,(G28/1.5)*I28,"0"),1) -> 0 | M28: =ROUND(J28+K28+L28,1) -> 0
A29: 14 | J29: =ROUND(IF(F29>0,F29*H29,"0")+IF(G29>0,(G29/1.5)*I29,"0"),1) -> 0 | M29: =ROUND(J29+K29+L29,1) -> 0
A30: 15 | J30: =ROUND(IF(F30>0,F30*H30,"0")+IF(G30>0,(G30/1.5)*I30,"0"),1) -> 0 | M30: =ROUND(J30+K30+L30,1) -> 0
A31: 16 | J31: =ROUND(IF(F31>0,F31*H31,"0")+IF(G31>0,(G31/1.5)*I31,"0"),1) -> 0 | M31: =ROUND(J31+K31+L31,1) -> 0
A32: 17 | J32: =ROUND(IF(F32>0,F32*H32,"0")+IF(G32>0,(G32/1.5)*I32,"0"),1) -> 0 | M32: =ROUND(J32+K32+L32,1) -> 0
A33: 18 | J33: =ROUND(IF(F33>0,F33*H33,"0")+IF(G33>0,(G33/1.5)*I33,"0"),1) -> 0 | M33: =ROUND(J33+K33+L33,1) -> 0
A34: 19 | J34: =ROUND(IF(F34>0,F34*H34,"0")+IF(G34>0,(G34/1.5)*I34,"0"),1) -> 0 | M34: =ROUND(J34+K34+L34,1) -> 0
A35: 20 | J35: =ROUND(IF(F35>0,F35*H35,"0")+IF(G35>0,(G35/1.5)*I35,"0"),1) -> 0 | M35: =ROUND(J35+K35+L35,1) -> 0
A36: TỔNG CỘNG (theo tiết) | F36: =SUM(F15:F35) -> 60 | G36: =SUM(G15:G35) -> 480 | J36: =SUM(J15:J35) -> 404 | K36: =SUM(K15:K35) -> 19.5 | L36: =SUM(L15:L35) -> 0 | M36: =SUM(M15:M35) -> 423.5
M37: Ngày ……. tháng …... năm 2014
C38: TRƯỞNG KHOA | H38: TRƯỞNG TỔ | M38: GV
B43: NGUYỄN NGỌC PHƯƠNG | F43: PHAN ANH TUẤN KIỆT | L43: TRẦN QUỐC DUY

Sheet Mau A2 T Sơn
N1: Mẫu A2
C2: ỦY BAN NHÂN DÂN TP.HCM | J2: CỘNG HÒA XÃ HỘI CHỦ NGHĨA VIỆT NAM
C3: TRƯỜNG CĐ KỸ THUẬT LÝ TỰ TRỌNG | J3: Độc lập - Tự do - Hạnh phúc
A5: BẢNG KÊ KHỐI LƯỢNG CÔNG TÁC GIẢNG DẠY CỦA GIÁO VIÊN - GIẢNG VIÊN
A6: TRONG HỌC KỲ 2 - NĂM HỌC 2013 - 2014
B7: Họ và tên giáo viên : | D7: Đặng Thái | E7: Sơn | H7: Tổ : | I7: Điện Ô tô | L7: Khoa : | M7: Động Lực
M8: (Đơn vị tính : tiết)
A10: TT | B10: Từ ngày ……. tháng ….. đến ngày ……. tháng ….. | C10: Số tuần thực dạy | D10: Môn dạy | E10: Lớp dạy | J10: Thực hiện | N10: Ghi chú
F11: Thực Giảng dạy | K11: Kiêm nhiệm | L11: Khối lượng công tác cộng thêm | M11: Tổng thực hiện
F12: Chưa nhân hệ số | H12: Tổng hệ số | J12: Quy đổi và đã nhân hệ số
F13: LT | G13: TH | H13: LT | I13: TH
A14: (1) | B14: (2) | C14: (3) | D14: (4) | E14: (5) | F14: (6) | G14: (7) | H14: (8) | I14: (9) | J14: (10) | K14: (11) | L14: (12) | M14: (13) | N14: (14)
A15: 1 | B15: 13/1/2014-5/4/2014 | C15: 9 | D15: Thực tập điện ôtô 2 | E15: 11CĐÔ3 (N1) | G15: 40 | I15: 1 | J15: =ROUND(IF(F15>0,F15*H15,"0")+IF(G15>0,(G15/1.5)*I15,"0"),1) -> 26.7 | M15: =ROUND(J15+K15+L15,1) -> 26.7 | N15: Thầy Quốc Bảo dạy thay tôi 50 tiết còn lại bắt đầu từ tuần 26 ngày 3/3/14
A16: 2 | B16: 13/1/2014-5/4/2014 | C16: 9 | D16: Thực tập điện ôtô 2 | E16: 11CĐÔ4 (N2) | G16: 90 | I16: 1 | J16: =ROUND(IF(F16>0,F16*H16,"0")+IF(G16>0,(G16/1.5)*I16,"0"),1) -> 60 | M16: =ROUND(J16+K16+L16,1) -> 60
A17: 3 | B17: 10/2/201424/5/2014 | C17: 15 | D17: Kỹ thuật điện tử | E17: 12CĐ Ô1,2 | F17: 90 | H17: 1 | J17: =ROUND(IF(F17>0,F17*H17,"0")+IF(G17>0,(G17/1.5)*I17,"0"),1) -> 90 | M17: =ROUND(J17+K17+L17,1) -> 90
A18: 4 | B18: 31/4/2014-2/7/2014 | C18: 17 | D18: Kỹ thuật điện tử | E18: 13TC Ô1,2 | F18: 60 | H18: 1 | J18: =ROUND(IF(F18>0,F18*H18,"0")+IF(G18>0,(G18/1.5)*I18,"0"),1) -> 60 | M18: =ROUND(J18+K18+L18,1) -> 60
A19: 5 | D19: GVCN lớp | E19: 13TCÔ1 | J19: =ROUND(IF(F19>0,F19*H19,"0")+IF(G19>0,(G19/1.5)*I19,"0"),1) -> 0 | K19: =15%*130 -> 19.5 | M19: =ROUND(J19+K19+L19,1) -> 19.5
A20: 6 | D20: TTĐ Ô TÔ 2 | E20: 11CĐÔ5(N1) | G20: 10 | I20: 1 | J20: =ROUND(IF(F20>0,F20*H20,"0")+IF(G20>0,(G20/1.5)*I20,"0"),1) -> 6.7 | M20: =ROUND(J20+K20+L20,1) -> 6.7 | N20: Dạy thay thầy A.Tuấn ngày 24,25/3
A21: 7 | D21: TTĐ Ô TÔ 2 | E21: 11CĐÔ7(N1) | G21: 10 | I21: 1 | J21: =ROUND(IF(F21>0,F21*H21,"0")+IF(G21>0,(G21/1.5)*I21,"0"),1) -> 6.7 | M21: =ROUND(J21+K21+L21,1) -> 6.7 | N21: Dạy thay thầy A.Tuấn ngày 26,27/3
A22: 8 | D22: TTĐ Ô TÔ 2 | E22: 11CĐÔ1(N1) | G22: 5 | I22: 1 | J22: =ROUND(IF(F22>0,F22*H22,"0")+IF(G22>0,(G22/1.5)*I22,"0"),1) -> 3.3 | M22: =ROUND(J22+K22+L22,1) -> 3.3 | N22: Dạy thay thầy A.Tuấn ngày 29/3
A23: 9 | D23: TTĐ Ô TÔ 2 | E23: 11CĐÔ5(N1) | G23: 5 | I23: 1 | J23: =ROUND(IF(F23>0,F23*H23,"0")+IF(G23>0,(G23/1.5)*I23,"0"),1) -> 3.3 | M23: =ROUND(J23+K23+L23,1) -> 3.3 | N23: Dạy thay thầy A.Tuấn ngày 31/3
A24: 13 | J24: =ROUND(IF(F24>0,F24*H24,"0")+IF(G24>0,(G24/1.5)*I24,"0"),1) -> 0 | M24: =ROUND(J24+K24+L24,1) -> 0
A25: 14 | J25: =ROUND(IF(F25>0,F25*H25,"0")+IF(G25>0,(G25/1.5)*I25,"0"),1) -> 0 | M25: =ROUND(J25+K25+L25,1) -> 0
A26: 15 | J26: =ROUND(IF(F26>0,F26*H26,"0")+IF(G26>0,(G26/1.5)*I26,"0"),1) -> 0 | M26: =ROUND(J26+K26+L26,1) -> 0
A27: 16 | J27: =ROUND(IF(F27>0,F27*H27,"0")+IF(G27>0,(G27/1.5)*I27,"0"),1) -> 0 | M27: =ROUND(J27+K27+L27,1) -> 0
A28: 17 | J28: =ROUND(IF(F28>0,F28*H28,"0")+IF(G28>0,(G28/1.5)*I28,"0"),1) -> 0 | M28: =ROUND(J28+K28+L28,1) -> 0
A29: 18 | J29: =ROUND(IF(F29>0,F29*H29,"0")+IF(G29>0,(G29/1.5)*I29,"0"),1) -> 0 | M29: =ROUND(J29+K29+L29,1) -> 0
A30: 19 | J30: =ROUND(IF(F30>0,F30*H30,"0")+IF(G30>0,(G30/1.5)*I30,"0"),1) -> 0 | M30: =ROUND(J30+K30+L30,1) -> 0
A31: 20 | J31: =ROUND(IF(F31>0,F31*H31,"0")+IF(G31>0,(G31/1.5)*I31,"0"),1) -> 0 | M31: =ROUND(J31+K31+L31,1) -> 0
A32: TỔNG CỘNG (theo tiết) | F32: =SUM(F15:F31) -> 150 | G32: =SUM(G15:G31) -> 160 | J32: =SUM(J15:J31) -> 256.7 | K32: =SUM(K15:K31) -> 19.5 | L32: =SUM(L15:L31) -> 0 | M32: =SUM(M15:M31) -> 276.2
B33: CÁCH TÍNH: | C33: Cột (6), (7): Nhập đúng số tiết thực dạy
C34: Cột (8), (9): Tổng hệ số = 1+ (Hệ số thứ nhất - 1 + Hệ số thứ hai - 1 + … -1), không kể hệ số quy đổi TH sang tiết chuẩn
C35: Cột (12): Khối lượng công tác cộng thêm (nếu có) theo điều 16 Quy định 1863.
M36: Ngày ……. tháng …... năm 2014
C37: TRƯỞNG KHOA | H37: TRƯỞNG TỔ | M37: GV
B41: NGUYỄN NGỌC PHƯƠNG | F41: NGUYỄN ANH TUẤN | K41: ĐẶNG THÁI SƠN

Sheet Mau A1 T Sơn
N1: Mẫu A1
C2: ỦY BAN NHÂN DÂN TP.HCM | J2: CỘNG HÒA XÃ HỘI CHỦ NGHĨA VIỆT NAM
C3: TRƯỜNG CĐ KỸ THUẬT LÝ TỰ TRỌNG | J3: Độc lập - Tự do - Hạnh phúc
A5: BẢNG KÊ KHỐI LƯỢNG CÔNG TÁC GIẢNG DẠY CỦA GIÁO VIÊN - GIẢNG VIÊN
A6: TRONG HỌC KỲ 1 - NĂM HỌC 2013 - 2014
B7: Họ và tên giáo viên : | D7: Đặng Thái | E7: Sơn | H7: Tổ : | I7: Điện Ô tô | L7: Khoa : | M7: Động Lực
M8: (Đơn vị tính : tiết)
A10: TT | B10: Từ ngày ……. tháng ….. đến ngày ……. tháng ….. | C10: Số tuần thực dạy | D10: Môn dạy | E10: Lớp dạy | J10: Thực hiện | N10: Ghi chú
F11: Thực Giảng dạy | K11: Kiêm nhiệm | L11: Khối lượng công tác cộng thêm | M11: Tổng thực hiện
F12: Chưa nhân hệ số | H12: Tổng hệ số | J12: Quy đổi và đã nhân hệ số
F13: LT | G13: TH | H13: LT | I13: TH
A14: (1) | B14: (2) | C14: (3) | D14: (4) | E14: (5) | F14: (6) | G14: (7) | H14: (8) | I14: (9) | J14: (10) | K14: (11) | L14: (12) | M14: (13) | N14: (14)
A15: 1 | B15: 9/9-21/12/2013 | C15: 15 | D15: HT điện và điện tử ô tô | E15: 12CĐ Ô1 | F15: 75 | H15: 1 | J15: =ROUND(IF(F15>0,F15*H15,"0")+IF(G15>0,(G15/1.5)*I15,"0"),1) -> 75 | M15: =ROUND(J15+K15+L15,1) -> 75
A16: 2 | B16: 9/9-21/12/2013 | C16: 15 | D16: Kỹ thuật điện - điện tử | E16: 13CĐ Ô1 | F16: 45 | H16: 1 | J16: =ROUND(IF(F16>0,F16*H16,"0")+IF(G16>0,(G16/1.5)*I16,"0"),1) -> 45 | M16: =ROUND(J16+K16+L16,1) -> 45
A17: 3 | B17: 9/9-21/12/2013 | C17: 15 | D17: Kỹ thuật điện - điện tử | E17: 13CĐ Ô3 | F17: 45 | H17: 1 | J17: =ROUND(IF(F17>0,F17*H17,"0")+IF(G17>0,(G17/1.5)*I17,"0"),1) -> 45 | M17: =ROUND(J17+K17+L17,1) -> 45
A18: 4 | B18: 14/10-15/03/2014 | C18: 15 | D18: Kỹ thuật điện | E18: 14TC Ô1 | F18: 30 | H18: 1.1 | J18: =ROUND(IF(F18>0,F18*H18,"0")+IF(G18>0,(G18/1.5)*I18,"0"),1) -> 33 | M18: =ROUND(J18+K18+L18,1) -> 33
A19: 5 | D19: GVCN lớp 12CĐ Ô1 | J19: =ROUND(IF(F19>0,F19*H19,"0")+IF(G19>0,(G19/1.5)*I19,"0"),1) -> 0 | K19: =15%*130 -> 19.5 | M19: =ROUND(J19+K19+L19,1) -> 19.5
A20: 8 | J20: =ROUND(IF(F20>0,F20*H20,"0")+IF(G20>0,(G20/1.5)*I20,"0"),1) -> 0 | M20: =ROUND(J20+K20+L20,1) -> 0
A21: 9 | J21: =ROUND(IF(F21>0,F21*H21,"0")+IF(G21>0,(G21/1.5)*I21,"0"),1) -> 0 | M21: =ROUND(J21+K21+L21,1) -> 0
A22: 10 | J22: =ROUND(IF(F22>0,F22*H22,"0")+IF(G22>0,(G22/1.5)*I22,"0"),1) -> 0 | M22: =ROUND(J22+K22+L22,1) -> 0
A23: 11 | J23: =ROUND(IF(F23>0,F23*H23,"0")+IF(G23>0,(G23/1.5)*I23,"0"),1) -> 0 | M23: =ROUND(J23+K23+L23,1) -> 0
A24: 12 | J24: =ROUND(IF(F24>0,F24*H24,"0")+IF(G24>0,(G24/1.5)*I24,"0"),1) -> 0 | M24: =ROUND(J24+K24+L24,1) -> 0
A25: 13 | J25: =ROUND(IF(F25>0,F25*H25,"0")+IF(G25>0,(G25/1.5)*I25,"0"),1) -> 0 | M25: =ROUND(J25+K25+L25,1) -> 0
A26: 14 | J26: =ROUND(IF(F26>0,F26*H26,"0")+IF(G26>0,(G26/1.5)*I26,"0"),1) -> 0 | M26: =ROUND(J26+K26+L26,1) -> 0
A27: 15 | J27: =ROUND(IF(F27>0,F27*H27,"0")+IF(G27>0,(G27/1.5)*I27,"0"),1) -> 0 | M27: =ROUND(J27+K27+L27,1) -> 0
A28: 16 | J28: =ROUND(IF(F28>0,F28*H28,"0")+IF(G28>0,(G28/1.5)*I28,"0"),1) -> 0 | M28: =ROUND(J28+K28+L28,1) -> 0
A29: 17 | J29: =ROUND(IF(F29>0,F29*H29,"0")+IF(G29>0,(G29/1.5)*I29,"0"),1) -> 0 | M29: =ROUND(J29+K29+L29,1) -> 0
A30: 18 | J30: =ROUND(IF(F30>0,F30*H30,"0")+IF(G30>0,(G30/1.5)*I30,"0"),1) -> 0 | M30: =ROUND(J30+K30+L30,1) -> 0
A31: 19 | J31: =ROUND(IF(F31>0,F31*H31,"0")+IF(G31>0,(G31/1.5)*I31,"0"),1) -> 0 | M31: =ROUND(J31+K31+L31,1) -> 0
A32: 20 | J32: =ROUND(IF(F32>0,F32*H32,"0")+IF(G32>0,(G32/1.5)*I32,"0"),1) -> 0 | M32: =ROUND(J32+K32+L32,1) -> 0
A33: TỔNG CỘNG (theo tiết) | F33: =SUM(F15:F32) -> 195 | G33: =SUM(G15:G32) -> 0 | J33: =SUM(J15:J32) -> 198 | K33: =SUM(K15:K32) -> 19.5 | L33: =SUM(L15:L32) -> 0 | M33: =SUM(M15:M32) -> 217.5
M34: Ngày ……. tháng …... năm 2014
C35: TRƯỞNG KHOA | H35: TRƯỞNG TỔ | M35: GV
B41: NGUYỄN NGỌC PHƯƠNG | F41: NGUYỄN ANH TUẤN | L41: ĐẶNG THÁI SƠN

Sheet Mau A2 P Nguyên
N1: Mẫu A2
C2: ỦY BAN NHÂN DÂN TP.HCM | J2: CỘNG HÒA XÃ HỘI CHỦ NGHĨA VIỆT NAM
C3: TRƯỜNG CĐ KỸ THUẬT LÝ TỰ TRỌNG | J3: Độc lập - Tự do - Hạnh phúc
A5: BẢNG KÊ KHỐI LƯỢNG CÔNG TÁC GIẢNG DẠY CỦA GIÁO VIÊN - GIẢNG VIÊN
A6: TRONG HỌC KỲ 2 - NĂM HỌC 2013 - 2014
B7: Họ và tên giáo viên : | D7: Triệu Phú | E7: Nguyên | H7: Tổ : | I7: Động Cơ Xăng | L7: Khoa : | M7: Động Lực
M8: (Đơn vị tính : tiết)
A10: TT | B10: Từ ngày ……. tháng ….. đến ngày ……. tháng ….. | C10: Số tuần thực dạy | D10: Môn dạy | E10: Lớp dạy | J10: Thực hiện | N10: Ghi chú
F11: Thực Giảng dạy | K11: Kiêm nhiệm | L11: Khối lượng công tác cộng thêm | M11: Tổng thực hiện
F12: Chưa nhân hệ số | H12: Tổng hệ số | J12: Quy đổi và đã nhân hệ số
F13: LT | G13: TH | H13: LT | I13: TH
A14: (1) | B14: (2) | C14: (3) | D14: (4) | E14: (5) | F14: (6) | G14: (7) | H14: (8) | I14: (9) | J14: (10) | K14: (11) | L14: (12) | M14: (13) | N14: (14)
A15: 1 | B15: 10/2-24/5/2014 | C15: 15 | D15: Thực tập động cơ 1 | E15: 12CĐÔ2(N2) | G15: 84 | I15: 1 | J15: =ROUND(IF(F15>0,F15*H15,"0")+IF(G15>0,(G15/1.5)*I15,"0"),1) -> 56 | L15: 4 | M15: =ROUND(J15+K15+L15,1) -> 60 | N15: Thầy P.Bảo dạy thay 4 tiết ngày 22/5
A16: 2 | B16: 10/2-24/5/2014 | C16: 15 | D16: CNBD và sửa chữa ô tô | E16: 12CĐ Ô2 | F16: 26 | H16: 1 | J16: =ROUND(IF(F16>0,F16*H16,"0")+IF(G16>0,(G16/1.5)*I16,"0"),1) -> 26 | M16: =ROUND(J16+K16+L16,1) -> 26 | N16: Th. Hiệp dạy thay 4 tiết
A17: 3 | B17: 10/2-24/5/2014 | C17: 15 | D17: Thực tập động cơ xăng | E17: 12LT Ô | G17: 60 | I17: 1 | J17: =ROUND(IF(F17>0,F17*H17,"0")+IF(G17>0,(G17/1.5)*I17,"0"),1) -> 40 | M17: =ROUND(J17+K17+L17,1) -> 40
A18: 4 | B18: 10/2-24/5/2014 | C18: 15 | D18: Thực tập kết cấu ô tô | E18: 12TCÔ(N1) | G18: 60 | I18: 1 | J18: =ROUND(IF(F18>0,F18*H18,"0")+IF(G18>0,(G18/1.5)*I18,"0"),1) -> 40 | M18: =ROUND(J18+K18+L18,1) -> 40 | N18: Th. Hùng dạy thay 30 tiết
A19: 5 | D19: Tổ trưởng | J19: =ROUND(IF(F19>0,F19*H19,"0")+IF(G19>0,(G19/1.5)*I19,"0"),1) -> 0 | K19: =20%*130 -> 26 | M19: =ROUND(J19+K19+L19,1) -> 26
A20: 6 | J20: =ROUND(IF(F20>0,F20*H20,"0")+IF(G20>0,(G20/1.5)*I20,"0"),1) -> 0 | M20: =ROUND(J20+K20+L20,1) -> 0
A21: 7 | J21: =ROUND(IF(F21>0,F21*H21,"0")+IF(G21>0,(G21/1.5)*I21,"0"),1) -> 0 | M21: =ROUND(J21+K21+L21,1) -> 0
A22: 8 | J22: =ROUND(IF(F22>0,F22*H22,"0")+IF(G22>0,(G22/1.5)*I22,"0"),1) -> 0 | M22: =ROUND(J22+K22+L22,1) -> 0
A23: 9 | J23: =ROUND(IF(F23>0,F23*H23,"0")+IF(G23>0,(G23/1.5)*I23,"0"),1) -> 0 | M23: =ROUND(J23+K23+L23,1) -> 0
A24: 10 | J24: =ROUND(IF(F24>0,F24*H24,"0")+IF(G24>0,(G24/1.5)*I24,"0"),1) -> 0 | M24: =ROUND(J24+K24+L24,1) -> 0
A25: 11 | J25: =ROUND(IF(F25>0,F25*H25,"0")+IF(G25>0,(G25/1.5)*I25,"0"),1) -> 0 | M25: =ROUND(J25+K25+L25,1) -> 0
A26: 12 | J26: =ROUND(IF(F26>0,F26*H26,"0")+IF(G26>0,(G26/1.5)*I26,"0"),1) -> 0 | M26: =ROUND(J26+K26+L26,1) -> 0
A27: 13 | J27: =ROUND(IF(F27>0,F27*H27,"0")+IF(G27>0,(G27/1.5)*I27,"0"),1) -> 0 | M27: =ROUND(J27+K27+L27,1) -> 0
A28: 14 | J28: =ROUND(IF(F28>0,F28*H28,"0")+IF(G28>0,(G28/1.5)*I28,"0"),1) -> 0 | M28: =ROUND(J28+K28+L28,1) -> 0
A29: 15 | J29: =ROUND(IF(F29>0,F29*H29,"0")+IF(G29>0,(G29/1.5)*I29,"0"),1) -> 0 | M29: =ROUND(J29+K29+L29,1) -> 0
A30: 16 | J30: =ROUND(IF(F30>0,F30*H30,"0")+IF(G30>0,(G30/1.5)*I30,"0"),1) -> 0 | M30: =ROUND(J30+K30+L30,1) -> 0
A31: 17 | J31: =ROUND(IF(F31>0,F31*H31,"0")+IF(G31>0,(G31/1.5)*I31,"0"),1) -> 0 | M31: =ROUND(J31+K31+L31,1) -> 0
... A34: 20 | J34: =ROUND(IF(F34>0,F34*H34,"0")+IF(G34>0,(G34/1.5)*I34,"0"),1) -> 0 | M34: =ROUND(J34+K34+L34,1) -> 0
A35: TỔNG CỘNG (theo tiết) | F35: =SUM(F15:F34) -> 26 | G35: =SUM(G15:G34) -> 204 | J35: =SUM(J15:J34) -> 162 | K35: =SUM(K15:K34) -> 26 | L35: =SUM(L15:L34) -> 4 | M35: =SUM(M15:M34) -> 192
M36: Ngày ……. tháng …... năm 2014
M39: Ngày ……. tháng …... năm 2014
C40: TRƯỞNG KHOA | H40: TRƯỞNG TỔ | M40: GV
B45: NGUYỄN NGỌC PHƯƠNG | F45: TRIỆU PHÚ NGUYÊN | L45: TRIỆU PHÚ NGUYÊN

Sheet Mau A1 P Nguyên
N1: Mẫu A1
C2: ỦY BAN NHÂN DÂN TP.HCM | J2: CỘNG HÒA XÃ HỘI CHỦ NGHĨA VIỆT NAM
C3: TRƯỜNG CĐ KỸ THUẬT LÝ TỰ TRỌNG | J3: Độc lập - Tự do - Hạnh phúc
A5: BẢNG KÊ KHỐI LƯỢNG CÔNG TÁC GIẢNG DẠY CỦA GIÁO VIÊN - GIẢNG VIÊN
A6: TRONG HỌC KỲ 1 - NĂM HỌC 2013 - 2014
B7: Họ và tên giáo viên : | D7: Triệu Phú | E7: Nguyên | H7: Tổ : ………………………… | I7: Động Cơ Xăng | L7: Khoa : …………………………. | M7: Động Lực
M8: (Đơn vị tính : tiết)
A10: TT | B10: Từ ngày ……. tháng ….. đến ngày ……. tháng ….. | C10: Số tuần thực dạy | D10: Môn dạy | E10: Lớp dạy | J10: Thực hiện | N10: Ghi chú
F11: Thực Giảng dạy | K11: Kiêm nhiệm | L11: Khối lượng công tác cộng thêm | M11: Tổng thực hiện
F12: Chưa nhân hệ số | H12: Tổng hệ số | J12: Quy đổi và đã nhân hệ số
F13: LT | G13: TH | H13: LT | I13: TH
A14: (1) | B14: (2) | C14: (3) | D14: (4) | E14: (5) | F14: (6) | G14: (7) | H14: (8) | I14: (9) | J14: (10) | K14: (11) | L14: (12) | M14: (13) | N14: (14)
A15: 1 | B15: 9/9-21/12/2013 | C15: 15 | D15: TT động cơ xăng | E15: 11CĐ Ô4(N2) | G15: 90 | I15: 1 | J15: =ROUND(IF(F15>0,F15*H15,"0")+IF(G15>0,(G15/1.5)*I15,"0"),1) -> 60 | M15: =ROUND(J15+K15+L15,1) -> 60
A16: 2 | B16: 23/9-22/02/2014 | C16: 18 | D16: Các thiết bị CĐ, KĐ ô tô | E16: 12TC Ô | F16: 30 | H16: 1 | J16: =ROUND(IF(F16>0,F16*H16,"0")+IF(G16>0,(G16/1.5)*I16,"0"),1) -> 30 | M16: =ROUND(J16+K16+L16,1) -> 30
A17: 3 | B17: 23/9-22/02/2014 | C17: 18 | D17: Bảo dưỡng KT sửa chữa ô tô | E17: 12TC Ô | F17: 60 | H17: 1 | J17: =ROUND(IF(F17>0,F17*H17,"0")+IF(G17>0,(G17/1.5)*I17,"0"),1) -> 60 | M17: =ROUND(J17+K17+L17,1) -> 60
A18: 4 | B18: 23/9-22/02/2014 | C18: 18 | D18: TT động cơ đốt trong | E18: 12TC Ô(N1) | G18: 85 | I18: 1 | J18: =ROUND(IF(F18>0,F18*H18,"0")+IF(G18>0,(G18/1.5)*I18,"0"),1) -> 56.7 | L18: 3.3 | M18: =ROUND(J18+K18+L18,1) -> 60 | N18: Thầy P.Bảo dạy thay tôi 5 tiết ngày 28/12 | Q18: 5 | R18: 1.5 | S18: =Q18/R18 -> 3.3333333
A19: 5 | B19: 23/9-22/02/2014 | C19: 18 | D19: TT động cơ xăng | E19: 12TC Ô(N2) | G19: 60 | I19: 1 | J19: =ROUND(IF(F19>0,F19*H19,"0")+IF(G19>0,(G19/1.5)*I19,"0"),1) -> 40 | M19: =ROUND(J19+K19+L19,1) -> 40
A20: 6 | B20: 14/10-22/2/2014 | C20: 15 | D20: TT kỹ thuật lái xe | E20: 13CĐ Ô3(N1) | G20: 25 | I20: 1.3 | J20: =ROUND(IF(F20>0,F20*H20,"0")+IF(G20>0,(G20/1.5)*I20,"0"),1) -> 21.7 | L20: 3.3 | M20: =ROUND(J20+K20+L20,1) -> 25 | N20: Thầy Bình dạy thay tôi 5 tiết ngày 28/12
A21: 7 | B21: 14/10-22/2/2014 | C21: 15 | D21: TT kỹ thuật lái xe | E21: 13CĐ Ô3(N2) | G21: 25 | I21: 1.2 | J21: =ROUND(IF(F21>0,F21*H21,"0")+IF(G21>0,(G21/1.5)*I21,"0"),1) -> 20 | L21: 3.3 | M21: =ROUND(J21+K21+L21,1) -> 23.3 | N21: Thầy Đức dạy thay 5t tiết ngày 28/13
A22: 8 | D22: Tổ trưởng | J22: =ROUND(IF(F22>0,F22*H22,"0")+IF(G22>0,(G22/1.5)*I22,"0"),1) -> 0 | K22: =20%*130 -> 26 | M22: =ROUND(J22+K22+L22,1) -> 26
A23: 9
A24: 10 | J24: =ROUND(IF(F24>0,F24*H24,"0")+IF(G24>0,(G24/1.5)*I24,"0"),1) -> 0 | M24: =ROUND(J24+K24+L24,1) -> 0
A25: 11 | J25: =ROUND(IF(F25>0,F25*H25,"0")+IF(G25>0,(G25/1.5)*I25,"0"),1) -> 0 | M25: =ROUND(J25+K25+L25,1) -> 0
A26: 12 | J26: =ROUND(IF(F26>0,F26*H26,"0")+IF(G26>0,(G26/1.5)*I26,"0"),1) -> 0 | M26: =ROUND(J26+K26+L26,1) -> 0
A27: 13 | J27: =ROUND(IF(F27>0,F27*H27,"0")+IF(G27>0,(G27/1.5)*I27,"0"),1) -> 0 | M27: =ROUND(J27+K27+L27,1) -> 0
A28: 14 | J28: =ROUND(IF(F28>0,F28*H28,"0")+IF(G28>0,(G28/1.5)*I28,"0"),1) -> 0 | M28: =ROUND(J28+K28+L28,1) -> 0
A29: 15 | J29: =ROUND(IF(F29>0,F29*H29,"0")+IF(G29>0,(G29/1.5)*I29,"0"),1) -> 0 | M29: =ROUND(J29+K29+L29,1) -> 0
A30: 16 | J30: =ROUND(IF(F30>0,F30*H30,"0")+IF(G30>0,(G30/1.5)*I30,"0"),1) -> 0 | M30: =ROUND(J30+K30+L30,1) -> 0
A31: 17 | J31: =ROUND(IF(F31>0,F31*H31,"0")+IF(G31>0,(G31/1.5)*I31,"0"),1) -> 0 | M31: =ROUND(J31+K31+L31,1) -> 0
A32: 18 | J32: =ROUND(IF(F32>0,F32*H32,"0")+IF(G32>0,(G32/1.5)*I32,"0"),1) -> 0 | M32: =ROUND(J32+K32+L32,1) -> 0
A33: 19 | J33: =ROUND(IF(F33>0,F33*H33,"0")+IF(G33>0,(G33/1.5)*I33,"0"),1) -> 0 | M33: =ROUND(J33+K33+L33,1) -> 0
A34: 20 | J34: =ROUND(IF(F34>0,F34*H34,"0")+IF(G34>0,(G34/1.5)*I34,"0"),1) -> 0 | M34: =ROUND(J34+K34+L34,1) -> 0
A35: TỔNG CỘNG (theo tiết) | F35: =SUM(F15:F34) -> 90 | G35: =SUM(G15:G34) -> 285 | J35: =SUM(J15:J34) -> 288.4 | K35: =SUM(K15:K34) -> 26 | L35: =SUM(L15:L34) -> 9.9 | M35: =SUM(M15:M34) -> 324.3
M36: Ngày ……. tháng …... năm 2014
C37: TRƯỞNG KHOA | H37: TRƯỞNG TỔ | M37: GV
B43: NGUYỄN NGỌC PHƯƠNG | F43: TRIỆU PHÚ NGUYÊN | L43: TRIỆU PHÚ NGUYÊN

Sheet Mau A2 Tuấn Kiệt
N1: Mẫu A2
C2: ỦY BAN NHÂN DÂN TP.HCM | J2: CỘNG HÒA XÃ HỘI CHỦ NGHĨA VIỆT NAM
C3: TRƯỜNG CĐ KỸ THUẬT LÝ TỰ TRỌNG | J3: Độc lập - Tự do - Hạnh phúc
A5: BẢNG KÊ KHỐI LƯỢNG CÔNG TÁC GIẢNG DẠY CỦA GIÁO VIÊN - GIẢNG VIÊN
A6: TRONG HỌC KỲ 2 - NĂM HỌC 2013 - 2014
B7: Họ và tên giáo viên : | D7: Phan Anh | E7: Tuấn Kiệt | H7: Tổ : | I7: Động Cơ Dầu | L7: Khoa : | M7: Động Lực
M8: (Đơn vị tính : tiết)
A10: TT | B10: Từ ngày ……. tháng ….. đến ngày ……. tháng ….. | C10: Số tuần thực dạy | D10: Môn dạy | E10: Lớp dạy | J10: Thực hiện | N10: Ghi chú
F11: Thực Giảng dạy | K11: Kiêm nhiệm | L11: Khối lượng công tác cộng thêm | M11: Tổng thực hiện
F12: Chưa nhân hệ số | H12: Tổng hệ số | J12: Quy đổi và đã nhân hệ số
F13: LT | G13: TH | H13: LT | I13: TH
A14: (1) | B14: (2) | C14: (3) | D14: (4) | E14: (5) | F14: (6) | G14: (7) | H14: (8) | I14: (9) | J14: (10) | K14: (11) | L14: (12) | M14: (13) | N14: (14)
A15: 1 | B15: 13/1-5/4/2014 | C15: 9 | D15: Thực tập động cơ diesel | E15: 11CĐ Ô5(N2) | G15: 90 | I15: 1 | J15: =ROUND(IF(F15>0,F15*H15,"0")+IF(G15>0,(G15/1.5)*I15,"0"),1) -> 60 | M15: =ROUND(J15+K15+L15,1) -> 60
A16: 2 | B16: 10/2-24/5/2014 | C16: 15 | D16: Thực tập động cơ diesel | E16: 12LT Ô | G16: 60 | I16: 1 | J16: =ROUND(IF(F16>0,F16*H16,"0")+IF(G16>0,(G16/1.5)*I16,"0"),1) -> 40 | M16: =ROUND(J16+K16+L16,1) -> 40
A17: 3 | B17: 10/2-24/5/2014 | C17: 15 | D17: Lý thuyết động cơ diesel | E17: 12LT Ô | F17: 30 | H17: 1 | J17: =ROUND(IF(F17>0,F17*H17,"0")+IF(G17>0,(G17/1.5)*I17,"0"),1) -> 30 | M17: =ROUND(J17+K17+L17,1) -> 30
A18: 4 | D18: Tổ trưởng | J18: =ROUND(IF(F18>0,F18*H18,"0")+IF(G18>0,(G18/1.5)*I18,"0"),1) -> 0 | K18: =20%*130 -> 26 | M18: =ROUND(J18+K18+L18,1) -> 26
A19: 5 | J19: =ROUND(IF(F19>0,F19*H19,"0")+IF(G19>0,(G19/1.5)*I19,"0"),1) -> 0 | M19: =ROUND(J19+K19+L19,1) -> 0
A20: 6 | J20: =ROUND(IF(F20>0,F20*H20,"0")+IF(G20>0,(G20/1.5)*I20,"0"),1) -> 0 | M20: =ROUND(J20+K20+L20,1) -> 0
A21: 7 | J21: =ROUND(IF(F21>0,F21*H21,"0")+IF(G21>0,(G21/1.5)*I21,"0"),1) -> 0 | M21: =ROUND(J21+K21+L21,1) -> 0
A22: 8 | J22: =ROUND(IF(F22>0,F22*H22,"0")+IF(G22>0,(G22/1.5)*I22,"0"),1) -> 0 | M22: =ROUND(J22+K22+L22,1) -> 0
A23: 9 | J23: =ROUND(IF(F23>0,F23*H23,"0")+IF(G23>0,(G23/1.5)*I23,"0"),1) -> 0 | M23: =ROUND(J23+K23+L23,1) -> 0
A24: 10 | J24: =ROUND(IF(F24>0,F24*H24,"0")+IF(G24>0,(G24/1.5)*I24,"0"),1) -> 0 | M24: =ROUND(J24+K24+L24,1) -> 0
A25: 11 | J25: =ROUND(IF(F25>0,F25*H25,"0")+IF(G25>0,(G25/1.5)*I25,"0"),1) -> 0 | M25: =ROUND(J25+K25+L25,1) -> 0
A26: 12 | J26: =ROUND(IF(F26>0,F26*H26,"0")+IF(G26>0,(G26/1.5)*I26,"0"),1) -> 0 | M26: =ROUND(J26+K26+L26,1) -> 0
A27: 13 | J27: =ROUND(IF(F27>0,F27*H27,"0")+IF(G27>0,(G27/1.5)*I27,"0"),1) -> 0 | M27: =ROUND(J27+K27+L27,1) -> 0
A28: 14 | J28: =ROUND(IF(F28>0,F28*H28,"0")+IF(G28>0,(G28/1.5)*I28,"0"),1) -> 0 | M28: =ROUND(J28+K28+L28,1) -> 0
A29: 15 | J29: =ROUND(IF(F29>0,F29*H29,"0")+IF(G29>0,(G29/1.5)*I29,"0"),1) -> 0 | M29: =ROUND(J29+K29+L29,1) -> 0
A30: 16 | J30: =ROUND(IF(F30>0,F30*H30,"0")+IF(G30>0,(G30/1.5)*I30,"0"),1) -> 0 | M30: =ROUND(J30+K30+L30,1) -> 0
... A33: 19 | J33: =ROUND(IF(F33>0,F33*H33,"0")+IF(G33>0,(G33/1.5)*I33,"0"),1) -> 0 | M33: =ROUND(J33+K33+L33,1) -> 0
A34: 5 | D34: Ôn thi TN 12LTO | F34: 5 | H34: 1 | J34: =ROUND(IF(F34>0,F34*H34,"0")+IF(G34>0,(G34/1.5)*I34,"0"),1) -> 5 | M34: =ROUND(J34+K34+L34,1) -> 5
A35: 6 | D35: Ôn thi TN 12TCO | F35: 10 | H35: 1 | J35: =ROUND(IF(F35>0,F35*H35,"0")+IF(G35>0,(G35/1.5)*I35,"0"),1) -> 10 | M35: =ROUND(J35+K35+L35,1) -> 10
A36: TỔNG CỘNG (theo tiết) | F36: =SUM(F15:F35) -> 45 | G36: =SUM(G15:G35) -> 150 | J36: =SUM(J15:J35) -> 145 | K36: =SUM(K15:K35) -> 26 | L36: =SUM(L15:L35) -> 0 | M36: =SUM(M15:M35) -> 171
M40: Ngày ……. tháng …... năm 2014
C41: TRƯỞNG KHOA | H41: TRƯỞNG TỔ | M41: GV
B46: NGUYỄN NGỌC PHƯƠNG | F46: PHAN ANH TUẤN KIỆT | L46: PHAN ANH TUẤN KIỆT

Sheet Mau A1 Tuấn Kiệt
N1: Mẫu A1
C2: ỦY BAN NHÂN DÂN TP.HCM | J2: CỘNG HÒA XÃ HỘI CHỦ NGHĨA VIỆT NAM
C3: TRƯỜNG CĐ KỸ THUẬT LÝ TỰ TRỌNG | J3: Độc lập - Tự do - Hạnh phúc
A5: BẢNG KÊ KHỐI LƯỢNG CÔNG TÁC GIẢNG DẠY CỦA GIÁO VIÊN - GIẢNG VIÊN
A6: TRONG HỌC KỲ 1 - NĂM HỌC 2013 - 2014
B7: Họ và tên giáo viên : | D7: Phan Anh | E7: Tuấn Kiệt | H7: Tổ : ………………………… | I7: Động Cơ Dầu | L7: Khoa : | M7: Động Lực
M8: (Đơn vị tính : tiết)
A10: TT | B10: Từ ngày ……. tháng ….. đến ngày ……. tháng ….. | C10: Số tuần thực dạy | D10: Môn dạy | E10: Lớp dạy | J10: Thực hiện | N10: Ghi chú
F11: Thực Giảng dạy | K11: Kiêm nhiệm | L11: Khối lượng công tác cộng thêm | M11: Tổng thực hiện
F12: Chưa nhân hệ số | H12: Tổng hệ số | J12: Quy đổi và đã nhân hệ số
F13: LT | G13: TH | H13: LT | I13: TH
A14: (1) | B14: (2) | C14: (3) | D14: (4) | E14: (5) | F14: (6) | G14: (7) | H14: (8) | I14: (9) | J14: (10) | K14: (11) | L14: (12) | M14: (13) | N14: (14)
A15: 1 | B15: 9/9-21/12/2013 | C15: 15 | D15: TT ô tô 1 | E15: 11CĐ Ô3(N2) | G15: 30 | I15: 1 | J15: =ROUND(IF(F15>0,F15*H15,"0")+IF(G15>0,(G15/1.5)*I15,"0"),1) -> 20 | M15: =ROUND(J15+K15+L15,1) -> 20
A16: 2 | B16: 9/9-21/12/2013 | C16: 15 | D16: TT đcơ xăng | E16: 11CĐ Ô3(N2) | G16: 90 | I16: 1 | J16: =ROUND(IF(F16>0,F16*H16,"0")+IF(G16>0,(G16/1.5)*I16,"0"),1) -> 60 | M16: =ROUND(J16+K16+L16,1) -> 60
A17: 3 | B17: 9/9-21/12/2013 | C17: 15 | D17: Ô tô 1 | E17: 11CĐ Ô5 | F17: 70 | H17: 1 | J17: =ROUND(IF(F17>0,F17*H17,"0")+IF(G17>0,(G17/1.5)*I17,"0"),1) -> 70 | L17: 5 | M17: =ROUND(J17+K17+L17,1) -> 75 | N17: Thầy P.Bảo dạy thay tôi 5 tiết
A18: 4 | B18: 9/9-21/12/2013 | C18: 15 | D18: Ô tô 2 | E18: 11CĐ Ô5 | F18: 30 | H18: 1 | J18: =ROUND(IF(F18>0,F18*H18,"0")+IF(G18>0,(G18/1.5)*I18,"0"),1) -> 30 | M18: =ROUND(J18+K18+L18,1) -> 30
A19: 5 | B19: 14/10-21/12/2013 | C19: 10 | D19: TT ô tô 1 | E19: 11CĐ Ô5(N2) | G19: 90 | I19: 1 | J19: =ROUND(IF(F19>0,F19*H19,"0")+IF(G19>0,(G19/1.5)*I19,"0"),1) -> 60 | M19: =ROUND(J19+K19+L19,1) -> 60
A20: 6 | B20: 14/10-21/12/2013 | C20: 10 | D20: TT ô tô 1 | E20: 11CĐ Ô5(N1) | G20: 90 | I20: 1 | J20: =ROUND(IF(F20>0,F20*H20,"0")+IF(G20>0,(G20/1.5)*I20,"0"),1) -> 60 | M20: =ROUND(J20+K20+L20,1) -> 60
A21: 7 | B21: 14/10-21/12/2013 | C21: 10 | D21: TT ô tô 1 | E21: 11CĐ Ô5(N1) | G21: 30 | I21: 1 | J21: =ROUND(IF(F21>0,F21*H21,"0")+IF(G21>0,(G21/1.5)*I21,"0"),1) -> 20 | M21: =ROUND(J21+K21+L21,1) -> 20
A22: 8 | D22: Tổ trưởng | J22: =ROUND(IF(F22>0,F22*H22,"0")+IF(G22>0,(G22/1.5)*I22,"0"),1) -> 0 | K22: =20%*130 -> 26 | M22: =ROUND(J22+K22+L22,1) -> 26
A23: 9 | D23: PP nghiên cứu khoa học | E23: 12CĐ Ô2 | F23: 2 | H23: 1 | J23: =ROUND(IF(F23>0,F23*H23,"0")+IF(G23>0,(G23/1.5)*I23,"0"),1) -> 2 | M23: =ROUND(J23+K23+L23,1) -> 2 | N23: Dạy thay thầy Phương ngày 23/10
A24: 10 | D24: PP nghiên cứu khoa học | E24: 12CĐ Ô1 | F24: 2 | H24: 1 | J24: =ROUND(IF(F24>0,F24*H24,"0")+IF(G24>0,(G24/1.5)*I24,"0"),1) -> 2 | M24: =ROUND(J24+K24+L24,1) -> 2 | N24: Dạy thay thầy Phương ngày 23/10
A25: 9 | J25: =ROUND(IF(F25>0,F25*H25,"0")+IF(G25>0,(G25/1.5)*I25,"0"),1) -> 0 | M25: =ROUND(J25+K25+L25,1) -> 0
A26: 10 | J26: =ROUND(IF(F26>0,F26*H26,"0")+IF(G26>0,(G26/1.5)*I26,"0"),1) -> 0 | M26: =ROUND(J26+K26+L26,1) -> 0
A27: 11 | J27: =ROUND(IF(F27>0,F27*H27,"0")+IF(G27>0,(G27/1.5)*I27,"0"),1) -> 0 | M27: =ROUND(J27+K27+L27,1) -> 0
A28: 12 | J28: =ROUND(IF(F28>0,F28*H28,"0")+IF(G28>0,(G28/1.5)*I28,"0"),1) -> 0 | M28: =ROUND(J28+K28+L28,1) -> 0
A29: 13 | J29: =ROUND(IF(F29>0,F29*H29,"0")+IF(G29>0,(G29/1.5)*I29,"0"),1) -> 0 | M29: =ROUND(J29+K29+L29,1) -> 0
A30: 14 | J30: =ROUND(IF(F30>0,F30*H30,"0")+IF(G30>0,(G30/1.5)*I30,"0"),1) -> 0 | M30: =ROUND(J30+K30+L30,1) -> 0
A31: 15 | J31: =ROUND(IF(F31>0,F31*H31,"0")+IF(G31>0,(G31/1.5)*I31,"0"),1) -> 0 | M31: =ROUND(J31+K31+L31,1) -> 0
A32: 16 | J32: =ROUND(IF(F32>0,F32*H32,"0")+IF(G32>0,(G32/1.5)*I32,"0"),1) -> 0 | M32: =ROUND(J32+K32+L32,1) -> 0
A33: 17 | J33: =ROUND(IF(F33>0,F33*H33,"0")+IF(G33>0,(G33/1.5)*I33,"0"),1) -> 0 | M33: =ROUND(J33+K33+L33,1) -> 0
A34: 18 | J34: =ROUND(IF(F34>0,F34*H34,"0")+IF(G34>0,(G34/1.5)*I34,"0"),1) -> 0 | M34: =ROUND(J34+K34+L34,1) -> 0
A35: 19 | J35: =ROUND(IF(F35>0,F35*H35,"0")+IF(G35>0,(G35/1.5)*I35,"0"),1) -> 0 | M35: =ROUND(J35+K35+L35,1) -> 0
A36: 20 | J36: =ROUND(IF(F36>0,F36*H36,"0")+IF(G36>0,(G36/1.5)*I36,"0"),1) -> 0 | M36: =ROUND(J36+K36+L36,1) -> 0
A37: TỔNG CỘNG (theo tiết) | F37: =SUM(F15:F36) -> 104 | G37: =SUM(G15:G36) -> 330 | J37: =SUM(J15:J36) -> 324 | K37: =SUM(K15:K36) -> 26 | L37: =SUM(L15:L36) -> 5 | M37: =SUM(M15:M36) -> 355
M38: Ngày ……. tháng …... năm 2014
C39: TRƯỞNG KHOA | H39: TRƯỞNG TỔ | M39: GV
B45: NGUYỄN NGỌC PHƯƠNG | F45: PHAN ANH TUẤN KIỆT | L45: PHAN ANH TUẤN KIỆT

Sheet Mau A1 A Tuấn
N1: Mẫu A1
C2: ỦY BAN NHÂN DÂN TP.HCM | J2: CỘNG HÒA XÃ HỘI CHỦ NGHĨA VIỆT NAM
C3: TRƯỜNG CĐ KỸ THUẬT LÝ TỰ TRỌNG | J3: Độc lập - Tự do - Hạnh phúc
A5: BẢNG KÊ KHỐI LƯỢNG CÔNG TÁC GIẢNG DẠY CỦA GIÁO VIÊN - GIẢNG VIÊN
A6: TRONG HỌC KỲ 1 - NĂM HỌC 2013 - 2014
B7: Họ và tên giáo viên : | D7: Nguyễn | E7: Anh Tuấn | H7: Tổ : | I7: Điện Ô tô | L7: Khoa : | M7: Động Lực
M8: (Đơn vị tính : tiết)
A10: TT | B10: Từ ngày ……. tháng ….. đến ngày ……. tháng ….. | C10: Số tuần thực dạy | D10: Môn dạy | E10: Lớp dạy | J10: Thực hiện | N10: Ghi chú
F11: Thực Giảng dạy | K11: Kiêm nhiệm | L11: Khối lượng công tác cộng thêm | M11: Tổng thực hiện
F12: Chưa nhân hệ số | H12: Tổng hệ số | J12: Quy đổi và đã nhân hệ số | P12: 171.6
F13: LT | G13: TH | H13: LT | I13: TH | P13: 261
A14: (1) | B14: (2) | C14: (3) | D14: (4) | E14: (5) | F14: (6) | G14: (7) | H14: (8) | I14: (9) | J14: (10) | K14: (11) | L14: (12) | M14: (13) | N14: (14)
A15: 1 | B15: 9/9-21/12/2013 | C15: 15 | D15: HT điện và điện tử ô tô | E15: 11CĐ Ô4 | F15: 70 | H15: 1 | J15: =ROUND(IF(F15>0,F15*H15,"0")+IF(G15>0,(G15/1.5)*I15,"0"),1) -> 70 | L15: 5 | M15: =ROUND(J15+K15+L15,1) -> 75 | N15: Thầy Q.Bảo dạy thay tôi 5 tiết
A16: 2 | B16: 9/9-21/12/2013 | C16: 15 | D16: TT điện ô tô 1 | E16: 11CĐ Ô5(N1) | G16: 84 | I16: 1 | J16: =ROUND(IF(F16>0,F16*H16,"0")+IF(G16>0,(G16/1.5)*I16,"0"),1) -> 56 | L16: 4 | M16: =ROUND(J16+K16+L16,1) -> 60 | N16: Thầy Q.Bảo dạy thay tôi 6 tiết
A17: 3 | B17: 9/9-21/12/2013 | C17: 15 | D17: HT điện và điện tử ô tô | E17: 11CĐ Ô6 | F17: 75 | H17: 1 | J17: =ROUND(IF(F17>0,F17*H17,"0")+IF(G17>0,(G17/1.5)*I17,"0"),1) -> 75 | M17: =ROUND(J17+K17+L17,1) -> 75
A18: 4 | B18: 9/9-21/12/2013 | C18: 15 | D18: TT điện ô tô 1 | E18: 11CĐ Ô5(N1) | G18: 90 | I18: 1 | J18: =ROUND(IF(F18>0,F18*H18,"0")+IF(G18>0,(G18/1.5)*I18,"0"),1) -> 60 | M18: =ROUND(J18+K18+L18,1) -> 60
A19: 5 | D19: Tổ trưởng | J19: =ROUND(IF(F19>0,F19*H19,"0")+IF(G19>0,(G19/1.5)*I19,"0"),1) -> 0 | K19: =20%*130 -> 26 | M19: =ROUND(J19+K19+L19,1) -> 26
A21: 7 | J21: =ROUND(IF(F21>0,F21*H21,"0")+IF(G21>0,(G21/1.5)*I21,"0"),1) -> 0 | M21: =ROUND(J21+K21+L21,1) -> 0
A22: 8 | J22: =ROUND(IF(F22>0,F22*H22,"0")+IF(G22>0,(G22/1.5)*I22,"0"),1) -> 0 | M22: =ROUND(J22+K22+L22,1) -> 0
A23: 9 | J23: =ROUND(IF(F23>0,F23*H23,"0")+IF(G23>0,(G23/1.5)*I23,"0"),1) -> 0 | M23: =ROUND(J23+K23+L23,1) -> 0
A24: 10 | J24: =ROUND(IF(F24>0,F24*H24,"0")+IF(G24>0,(G24/1.5)*I24,"0"),1) -> 0 | M24: =ROUND(J24+K24+L24,1) -> 0
A25: 11 | J25: =ROUND(IF(F25>0,F25*H25,"0")+IF(G25>0,(G25/1.5)*I25,"0"),1) -> 0 | M25: =ROUND(J25+K25+L25,1) -> 0
A26: 12 | J26: =ROUND(IF(F26>0,F26*H26,"0")+IF(G26>0,(G26/1.5)*I26,"0"),1) -> 0 | M26: =ROUND(J26+K26+L26,1) -> 0
A27: 13 | J27: =ROUND(IF(F27>0,F27*H27,"0")+IF(G27>0,(G27/1.5)*I27,"0"),1) -> 0 | M27: =ROUND(J27+K27+L27,1) -> 0
A28: 14 | J28: =ROUND(IF(F28>0,F28*H28,"0")+IF(G28>0,(G28/1.5)*I28,"0"),1) -> 0 | M28: =ROUND(J28+K28+L28,1) -> 0
A29: 15 | J29: =ROUND(IF(F29>0,F29*H29,"0")+IF(G29>0,(G29/1.5)*I29,"0"),1) -> 0 | M29: =ROUND(J29+K29+L29,1) -> 0
A30: 16 | J30: =ROUND(IF(F30>0,F30*H30,"0")+IF(G30>0,(G30/1.5)*I30,"0"),1) -> 0 | M30: =ROUND(J30+K30+L30,1) -> 0
A31: 17 | J31: =ROUND(IF(F31>0,F31*H31,"0")+IF(G31>0,(G31/1.5)*I31,"0"),1) -> 0 | M31: =ROUND(J31+K31+L31,1) -> 0
A32: 18 | J32: =ROUND(IF(F32>0,F32*H32,"0")+IF(G32>0,(G32/1.5)*I32,"0"),1) -> 0 | M32: =ROUND(J32+K32+L32,1) -> 0
... A34: 20 | J34: =ROUND(IF(F34>0,F34*H34,"0")+IF(G34>0,(G34/1.5)*I34,"0"),1) -> 0 | M34: =ROUND(J34+K34+L34,1) -> 0
A35: TỔNG CỘNG (theo tiết) | F35: =SUM(F15:F34) -> 145 | G35: =SUM(G15:G34) -> 174 | J35: =SUM(J15:J34) -> 261 | K35: =SUM(K15:K34) -> 26 | L35: =SUM(L15:L34) -> 9 | M35: =SUM(M15:M34) -> 296
M36: Ngày ……. tháng …... năm 2014
C37: TRƯỞNG KHOA | H37: TRƯỞNG TỔ | M37: GV
B43: NGUYỄN NGỌC PHƯƠNG | F43: NGUYỄN ANH TUẤN | L43: NGUYỄN ANH TUẤN

Sheet Mau A2 A Tuấn
N1: Mẫu A2
C2: ỦY BAN NHÂN DÂN TP.HCM | J2: CỘNG HÒA XÃ HỘI CHỦ NGHĨA VIỆT NAM
C3: TRƯỜNG CĐ KỸ THUẬT LÝ TỰ TRỌNG | J3: Độc lập - Tự do - Hạnh phúc
A5: BẢNG KÊ KHỐI LƯỢNG CÔNG TÁC GIẢNG DẠY CỦA GIÁO VIÊN - GIẢNG VIÊN
A6: TRONG HỌC KỲ 2 - NĂM HỌC 2013 - 2014
B7: Họ và tên giáo viên : | D7: Nguyễn | E7: Anh Tuấn | H7: Tổ : | I7: Điện Ô tô | L7: Khoa : | M7: Động Lực
M8: (Đơn vị tính : tiết)
A10: TT | B10: Từ ngày ……. tháng ….. đến ngày ……. tháng ….. | C10: Số tuần thực dạy | D10: Môn dạy | E10: Lớp dạy | J10: Thực hiện | N10: Ghi chú
F11: Thực Giảng dạy | K11: Kiêm nhiệm | L11: Khối lượng công tác cộng thêm | M11: Tổng thực hiện
F12: Chưa nhân hệ số | H12: Tổng hệ số | J12: Quy đổi và đã nhân hệ số
F13: LT | G13: TH | H13: LT | I13: TH
A14: (1) | B14: (2) | C14: (3) | D14: (4) | E14: (5) | F14: (6) | G14: (7) | H14: (8) | I14: (9) | J14: (10) | K14: (11) | L14: (12) | M14: (13) | N14: (14)
A15: 1 | B15: 13/1-5/4/2014 | C15: 9 | D15: Thực tập điện ô tô 2 | E15: 11CĐ Ô1 (N1) | G15: 80 | I15: 1 | J15: =ROUND(IF(F15>0,F15*H15,"0")+IF(G15>0,(G15/1.5)*I15,"0"),1) -> 53.3 | M15: =ROUND(J15+K15+L15,1) -> 53.3 | N15: Thầy Q.Bảo(5tiết), Th.Sơn (5tiết) dạy thay tôi 10 tiết ngày 29/3
A16: 2 | B16: 13/1-5/4/2014 | C16: 9 | D16: Thực tập điện ô tô 2 | E16: 11CĐ Ô5 (N1) | G16: 75 | I16: 1 | J16: =ROUND(IF(F16>0,F16*H16,"0")+IF(G16>0,(G16/1.5)*I16,"0"),1) -> 50 | M16: =ROUND(J16+K16+L16,1) -> 50 | N16: Thầy Sơn dạy thay tôi 15 tiết ngày 24,25,31/3
A17: 3 | B17: 13/1-5/4/2014 | C17: 9 | D17: Thực tập điện ô tô 2 | E17: 11CĐ Ô7 (N1) | G17: 80 | I17: 1 | J17: =ROUND(IF(F17>0,F17*H17,"0")+IF(G17>0,(G17/1.5)*I17,"0"),1) -> 53.3 | M17: =ROUND(J17+K17+L17,1) -> 53.3 | N17: Thầy Sơn dạy thay tôi 10 tiết ngày 26,27/3
A18: 4 | D18: Tổ trưởng | J18: =ROUND(IF(F18>0,F18*H18,"0")+IF(G18>0,(G18/1.5)*I18,"0"),1) -> 0 | K18: =20%*130 -> 26 | M18: =ROUND(J18+K18+L18,1) -> 26
A19: 5 | D19: Ôn thi TN 11CDO | F19: 15 | H19: 1 | J19: =ROUND(IF(F19>0,F19*H19,"0")+IF(G19>0,(G19/1.5)*I19,"0"),1) -> 15 | M19: =ROUND(J19+K19+L19,1) -> 15
A20: 6 | J20: =ROUND(IF(F20>0,F20*H20,"0")+IF(G20>0,(G20/1.5)*I20,"0"),1) -> 0 | M20: =ROUND(J20+K20+L20,1) -> 0
A21: 7 | J21: =ROUND(IF(F21>0,F21*H21,"0")+IF(G21>0,(G21/1.5)*I21,"0"),1) -> 0 | M21: =ROUND(J21+K21+L21,1) -> 0
A22: 8 | J22: =ROUND(IF(F22>0,F22*H22,"0")+IF(G22>0,(G22/1.5)*I22,"0"),1) -> 0 | M22: =ROUND(J22+K22+L22,1) -> 0
A23: 9 | J23: =ROUND(IF(F23>0,F23*H23,"0")+IF(G23>0,(G23/1.5)*I23,"0"),1) -> 0 | M23: =ROUND(J23+K23+L23,1) -> 0
A24: 10 | J24: =ROUND(IF(F24>0,F24*H24,"0")+IF(G24>0,(G24/1.5)*I24,"0"),1) -> 0 | M24: =ROUND(J24+K24+L24,1) -> 0
A25: 11 | J25: =ROUND(IF(F25>0,F25*H25,"0")+IF(G25>0,(G25/1.5)*I25,"0"),1) -> 0 | M25: =ROUND(J25+K25+L25,1) -> 0
A26: 12 | J26: =ROUND(IF(F26>0,F26*H26,"0")+IF(G26>0,(G26/1.5)*I26,"0"),1) -> 0 | M26: =ROUND(J26+K26+L26,1) -> 0
A27: 13 | J27: =ROUND(IF(F27>0,F27*H27,"0")+IF(G27>0,(G27/1.5)*I27,"0"),1) -> 0 | M27: =ROUND(J27+K27+L27,1) -> 0
A28: 14 | J28: =ROUND(IF(F28>0,F28*H28,"0")+IF(G28>0,(G28/1.5)*I28,"0"),1) -> 0 | M28: =ROUND(J28+K28+L28,1) -> 0
A29: 15 | J29: =ROUND(IF(F29>0,F29*H29,"0")+IF(G29>0,(G29/1.5)*I29,"0"),1) -> 0 | M29: =ROUND(J29+K29+L29,1) -> 0
A30: 16 | J30: =ROUND(IF(F30>0,F30*H30,"0")+IF(G30>0,(G30/1.5)*I30,"0"),1) -> 0 | M30: =ROUND(J30+K30+L30,1) -> 0
A31: 17 | J31: =ROUND(IF(F31>0,F31*H31,"0")+IF(G31>0,(G31/1.5)*I31,"0"),1) -> 0 | M31: =ROUND(J31+K31+L31,1) -> 0
... A33: 19 | J33: =ROUND(IF(F33>0,F33*H33,"0")+IF(G33>0,(G33/1.5)*I33,"0"),1) -> 0 | M33: =ROUND(J33+K33+L33,1) -> 0
J34: =ROUND(IF(F34>0,F34*H34,"0")+IF(G34>0,(G34/1.5)*I34,"0"),1) -> 0 | M34: =ROUND(J34+K34+L34,1) -> 0
A35: 6 | D35: Ôn thi TN 12TCO | G35: 10 | I35: 1.5 | J35: =ROUND(IF(F35>0,F35*H35,"0")+IF(G35>0,(G35/1.5)*I35,"0"),1) -> 10 | M35: =ROUND(J35+K35+L35,1) -> 10
A36: TỔNG CỘNG (theo tiết) | F36: =SUM(F15:F34) -> 15 | G36: =SUM(G15:G34) -> 235 | J36: =SUM(J15:J35) -> 181.6 | K36: =SUM(K15:K34) -> 26 | L36: =SUM(L15:L34) -> 0 | M36: =SUM(M15:M35) -> 207.6
M40: Ngày ……. tháng …... năm 2014
C41: TRƯỞNG KHOA | H41: TRƯỞNG TỔ | M41: GV
B46: NGUYỄN NGỌC PHƯƠNG | F46: NGUYỄN ANH TUẤN | L46: NGUYỄN ANH TUẤN

Sheet Mau A3
O1: Mẫu A3
A2: ỦY BAN NHÂN DÂN TP.HCM | L2: COÄNG HOØA XAÕ HOÄI CHUÛ NGHÓA VIEÄT NAM
A3: TRƯỜNG CAO ĐẲNG KỸ THUẬT LÝ TỰ TRỌNG | L3: Ñoäc laäp - Töï do - Haïnh phuùc
A5: BẢNG TỔNG KẾT KHỐI LƯỢNG CÔNG TÁC GIÁO VIÊN - GIẢNG VIÊN
A6: NĂM HỌC 2013 - 2014
A7: KHOA : …Động Lực……………………………..
A8: (Riêng đối với khoa Khoa học cơ bản và khoa Lý luận chính trị thực hiện theo Tổ bộ môn)
N9: (Đơn vị tính : tiết)
A10: TT | B10: Họ và Tên | D10: Thực hiện trong năm học | H10: Số tiết chuẩn giảng dạy cả năm | I10: Tổng số tiết giảng dạy thừa | J10: Tổng số tiết giảng dạy thiếu | K10: Tổng số tiết khối lượng "Hoạt động chuyên môn và khối lượng khác" thừa | L10: Tổng số tiết NCKH thừa | M10: Tổng số tiết NCKH thiếu | N10: Tổng số tiết vượt giờ | O10: Tổng số tiết thiếu
D11: Thực giảng dạy đã nhân hệ số | E11: Kiêm nhiệm | F11: Khối lượng công tác cộng thêm | G11: Tổng thực hiện
A12: (1) | B12: (2) | D12: (3) | E12: (4) | F12: (5) | G12: (6) | H12: (7) | I12: (8) | J12: (9) | K12: (10) | L12: (11) | M12: (12) | N12: (13) | O12: (14)
A13: 1 | B13: Nguyễn Ngọc | C13: Phương | D13: =IF('Mau A3'!C13='Mau A2 Phương'!E7,'Mau A2 Phương'!J35,0)+IF('Mau A3'!C13='Mau A1 Phương'!E7,'Mau A1 Phương'!J35,0) -> 368.8 | E13: =IF('Mau A3'!C13='Mau A2 Phương'!E7,'Mau A2 Phương'!K35,0)+IF('Mau A3'!C13='Mau A1 Phương'!E7,'Mau A1 Phương'!K35,0) -> 93 | F13: =IF('Mau A3'!C13='Mau A2 Phương'!E7,'Mau A2 Phương'!L35,0)+IF('Mau A3'!C13='Mau A1 Phương'!E7,'Mau A1 Phương'!L35,0) -> 10 | G13: =D13+E13+F13 -> 471.8 | H13: 310 | I13: =IF(G13>H13,G13-H13,"0") -> 161.8 | J13: =IF(G13<H13,(H13-G13),"0") -> 0 | K13: ='Mau B3'!H13 -> 0 | L13: 268.8 | N13: =ROUND(IF((I13-J13+K13+L13-M13)>0,(I13-J13+K13+L13-M13),"0"),1) -> 430.6 | O13: =ROUND(IF((I13-J13+K13+L13-M13)<0,-(I13-J13+K13+L13-M13),"0"),1) -> 0
A14: 2 | B14: Võ Đắc | C14: Thịnh | D14: =IF('Mau A3'!C14='Mau A2 Thịnh'!E7,'Mau A2 Thịnh'!J34,0)+IF('Mau A3'!C14='Mau A1 Thịnh'!E7,'Mau A1 Thịnh'!J32,0) -> 550 | E14: =IF('Mau A3'!C14='Mau A2 Thịnh'!E7,'Mau A2 Thịnh'!K34,0)+IF('Mau A3'!C14='Mau A1 Thịnh'!E7,'Mau A1 Thịnh'!K32,0) -> 72.5 | F14: =IF('Mau A3'!C14='Mau A2 Thịnh'!E7,'Mau A2 Thịnh'!L34,0)+IF('Mau A3'!C14='Mau A1 Thịnh'!E7,'Mau A1 Thịnh'!L32,0) -> 4 | G14: =D14+E14+F14 -> 626.5 | H14: 290 | I14: =IF(G14>H14,G14-H14,"0") -> 336.5 | J14: =IF(G14<H14,(H14-G14),"0") -> 0 | K14: ='Mau B3'!H14 -> 0 | L14: 67.8 | N14: =ROUND(IF((I14-J14+K14+L14-M14)>0,(I14-J14+K14+L14-M14),"0"),1) -> 404.3 | O14: =ROUND(IF((I14-J14+K14+L14-M14)<0,-(I14-J14+K14+L14-M14),"0"),1) -> 0
A15: 3 | B15: Nguyễn | C15: Anh Tuấn | D15: =IF('Mau A3'!C15='Mau A2 A Tuấn'!E7,'Mau A2 A Tuấn'!J36,0)+IF('Mau A3'!C15='Mau A1 A Tuấn'!E7,'Mau A1 A Tuấn'!J35,0) -> 442.6 | E15: =IF('Mau A3'!C15='Mau A2 A Tuấn'!E7,'Mau A2 A Tuấn'!K36,0)+IF('Mau A3'!C15='Mau A1 A Tuấn'!E7,'Mau A1 A Tuấn'!K35,0) -> 52 | F15: =IF('Mau A3'!C15='Mau A2 A Tuấn'!E7,'Mau A2 A Tuấn'!L36,0)+IF('Mau A3'!C15='Mau A1 A Tuấn'!E7,'Mau A1 A Tuấn'!L35,0) -> 9 | G15: =D15+E15+F15 -> 503.6 | H15: 236.7 | I15: =IF(G15>H15,G15-H15,"0") -> 266.9 | J15: =IF(G15<H15,(H15-G15),"0") -> 0 | K15: ='Mau B3'!H15 -> 0 | M15: 34.6 | N15: =ROUND(IF((I15-J15+K15+L15-M15)>0,(I15-J15+K15+L15-M15),"0"),1) -> 232.3 | O15: =ROUND(IF((I15-J15+K15+L15-M15)<0,-(I15-J15+K15+L15-M15),"0"),1) -> 0
A16: 4 | B16: Nguyễn Hữu | C16: Mạnh | D16: =IF('Mau A3'!C16='Mau A2 Mạnh'!E7,'Mau A2 Mạnh'!J35,0)+IF('Mau A3'!C16='Mau A1 Mạnh'!E7,'Mau A1 Mạnh'!J35,0) -> 445 | E16: =IF('Mau A3'!C16='Mau A2 Mạnh'!E7,'Mau A2 Mạnh'!K35,0)+IF('Mau A3'!C16='Mau A1 Mạnh'!E7,'Mau A1 Mạnh'!K35,0) -> 52 | F16: =IF('Mau A3'!C16='Mau A1 Mạnh'!E7,'Mau A1 Mạnh'!L35,0) -> 0 | G16: =D16+E16+F16 -> 497 | H16: 250 | I16: =IF(G16>H16,G16-H16,"0") -> 247 | J16: =IF(G16<H16,(H16-G16),"0") -> 0 | K16: ='Mau B3'!H16 -> 0 | L16: 76.9 | N16: =ROUND(IF((I16-J16+K16+L16-M16)>0,(I16-J16+K16+L16-M16),"0"),1) -> 323.9 | O16: =ROUND(IF((I16-J16+K16+L16-M16)<0,-(I16-J16+K16+L16-M16),"0"),1) -> 0
A17: 5 | B17: Nguyễn Thành | C17: Đức | D17: =IF('Mau A3'!C17='Mau A2 Đức'!E7,'Mau A2 Đức'!J35,0)+IF('Mau A3'!C17='Mau A1 Đức'!E7,'Mau A1 Đức'!J35,0) -> 454 | E17: =IF('Mau A3'!C17='Mau A2 Đức'!E7,'Mau A2 Đức'!K35,0)+IF('Mau A3'!C17='Mau A1 Đức'!E7,'Mau A1 Đức'!K35,0) -> 0 | F17: =IF('Mau A3'!C17='Mau A2 Đức'!E7,'Mau A2 Đức'!L35,0)+IF('Mau A3'!C17='Mau A1 Đức'!E7,'Mau A1 Đức'!L35,0) -> 0 | G17: =D17+E17+F17 -> 454 | H17: 260 | I17: =IF(G17>H17,G17-H17,"0") -> 194 | J17: =IF(G17<H17,(H17-G17),"0") -> 0 | K17: ='Mau B3'!H17 -> 0 | L17: 56.9 | N17: =ROUND(IF((I17-J17+K17+L17-M17)>0,(I17-J17+K17+L17-M17),"0"),1) -> 250.9 | O17: =ROUND(IF((I17-J17+K17+L17-M17)<0,-(I17-J17+K17+L17-M17),"0"),1) -> 0
A18: 6 | B18: Nguyễn Minh | C18: Thái | D18: =IF('Mau A3'!C18='Mau A2 Thái'!E7,'Mau A2 Thái'!J35,0)+IF('Mau A3'!C18='Mau A1 Thái'!E7,'Mau A1 Thái'!J38,0) -> 260 | E18: =IF('Mau A3'!C18='Mau A2 Thái'!E7,'Mau A2 Thái'!K35,0)+IF('Mau A3'!C18='Mau A1 Thái'!E7,'Mau A1 Thái'!K38,0) -> 19.5 | F18: =IF('Mau A3'!C18='Mau A2 Thái'!E7,'Mau A2 Thái'!L35,0)+IF('Mau A3'!C18='Mau A1 Thái'!E7,'Mau A1 Thái'!L38,0) -> 0 | G18: =D18+E18+F18 -> 279.5 | H18: 260 | I18: =IF(G18>H18,G18-H18,"0") -> 19.5 | J18: =IF(G18<H18,(H18-G18),"0") -> 0 | K18: ='Mau B3'!H18 -> 0 | M18: 95.9 | N18: =ROUND(IF((I18-J18+K18+L18-M18)>0,(I18-J18+K18+L18-M18),"0"),1) -> 0 | O18: =ROUND(IF((I18-J18+K18+L18-M18)<0,-(I18-J18+K18+L18-M18),"0"),1) -> 76.4
A19: 7 | B19: Phan Anh | C19: Tuấn Kiệt | D19: =IF('Mau A3'!C19='Mau A2 Tuấn Kiệt'!E7,'Mau A2 Tuấn Kiệt'!J36,0)+IF('Mau A3'!C19='Mau A1 Tuấn Kiệt'!E7,'Mau A1 Tuấn Kiệt'!J37,0) -> 469 | E19: =IF('Mau A3'!C19='Mau A2 Tuấn Kiệt'!E7,'Mau A2 Tuấn Kiệt'!K36,0)+IF('Mau A3'!C19='Mau A1 Tuấn Kiệt'!E7,'Mau A1 Tuấn Kiệt'!K37,0) -> 52 | F19: =IF('Mau A3'!C19='Mau A2 Tuấn Kiệt'!E7,'Mau A2 Tuấn Kiệt'!L36,0)+IF('Mau A3'!C19='Mau A1 Tuấn Kiệt'!E7,'Mau A1 Tuấn Kiệt'!L37,0) -> 5 | G19: =D19+E19+F19 -> 526 | H19: 260 | I19: =IF(G19>H19,G19-H19,"0") -> 266 | J19: =IF(G19<H19,(H19-G19),"0") -> 0 | K19: ='Mau B3'!H19 -> 0 | L19: 69.4 | N19: =ROUND(IF((I19-J19+K19+L19-M19)>0,(I19-J19+K19+L19-M19),"0"),1) -> 335.4 | O19: =ROUND(IF((I19-J19+K19+L19-M19)<0,-(I19-J19+K19+L19-M19),"0"),1) -> 0
A20: 8 | B20: Trần | C20: Minh Tuấn | D20: =IF('Mau A3'!C20='Mau A2 M Tuấn'!E7,'Mau A2 M Tuấn'!J35,0)+IF('Mau A3'!C20='Mau A1 M Tuấn'!E7,'Mau A1 M Tuấn'!J35,0) -> 475 | E20: =IF('Mau A3'!C20='Mau A2 M Tuấn'!E7,'Mau A2 M Tuấn'!K35,0)+IF('Mau A3'!C20='Mau A1 M Tuấn'!E7,'Mau A1 M Tuấn'!K35,0) -> 19.5 | F20: =IF('Mau A3'!C20='Mau A2 M Tuấn'!E7,'Mau A2 M Tuấn'!L35,0)+IF('Mau A3'!C20='Mau A1 M Tuấn'!E7,'Mau A1 M Tuấn'!L35,0) -> 0 | G20: =D20+E20+F20 -> 494.5 | H20: 260 | I20: =IF(G20>H20,G20-H20,"0") -> 234.5 | J20: =IF(G20<H20,(H20-G20),"0") -> 0 | K20: ='Mau B3'!H20 -> 0 | M20: 115.6 | N20: =ROUND(IF((I20-J20+K20+L20-M20)>0,(I20-J20+K20+L20-M20),"0"),1) -> 118.9 | O20: =ROUND(IF((I20-J20+K20+L20-M20)<0,-(I20-J20+K20+L20-M20),"0"),1) -> 0
A21: 9 | B21: Đặng Thái | C21: Sơn | D21: =IF('Mau A3'!C21='Mau A2 T Sơn'!E7,'Mau A2 T Sơn'!J32,0)+IF('Mau A3'!C21='Mau A1 T Sơn'!E7,'Mau A1 T Sơn'!J33,0) -> 454.7 | E21: =IF('Mau A3'!C21='Mau A2 T Sơn'!E7,'Mau A2 T Sơn'!K32,0)+IF('Mau A3'!C21='Mau A1 T Sơn'!E7,'Mau A1 T Sơn'!K33,0) -> 39 | F21: =IF('Mau A3'!C21='Mau A2 T Sơn'!E7,'Mau A2 T Sơn'!L32,0)+IF('Mau A3'!C21='Mau A1 T Sơn'!E7,'Mau A1 T Sơn'!L33,0) -> 0 | G21: =D21+E21+F21 -> 493.7 | H21: 260 | I21: =IF(G21>H21,G21-H21,"0") -> 233.7 | J21: =IF(G21<H21,(H21-G21),"0") -> 0 | K21: ='Mau B3'!H21 -> 0 | M21: 82.8 | N21: =ROUND(IF((I21-J21+K21+L21-M21)>0,(I21-J21+K21+L21-M21),"0"),1) -> 150.9 | O21: =ROUND(IF((I21-J21+K21+L21-M21)<0,-(I21-J21+K21+L21-M21),"0"),1) -> 0
A22: 10 | B22: Triệu Phú | C22: Nguyên | D22: =IF('Mau A3'!C22='Mau A2 P Nguyên'!E7,'Mau A2 P Nguyên'!J35,0)+IF('Mau A3'!C22='Mau A1 P Nguyên'!E7,'Mau A1 P Nguyên'!J35,0) -> 450.4 | E22: =IF('Mau A3'!C22='Mau A2 P Nguyên'!E7,'Mau A2 P Nguyên'!K35,0)+IF('Mau A3'!C22='Mau A1 P Nguyên'!E7,'Mau A1 P Nguyên'!K35,0) -> 52 | F22: =IF('Mau A3'!C22='Mau A2 P Nguyên'!E7,'Mau A2 P Nguyên'!L35,0)+IF('Mau A3'!C22='Mau A1 P Nguyên'!E7,'Mau A1 P Nguyên'!L35,0) -> 13.9 | G22: =D22+E22+F22 -> 516.3 | H22: 260 | I22: =IF(G22>H22,G22-H22,"0") -> 256.3 | J22: =IF(G22<H22,(H22-G22),"0") -> 0 | K22: ='Mau B3'!H22 -> 0 | L22: 111.6 | N22: =ROUND(IF((I22-J22+K22+L22-M22)>0,(I22-J22+K22+L22-M22),"0"),1) -> 367.9 | O22: =ROUND(IF((I22-J22+K22+L22-M22)<0,-(I22-J22+K22+L22-M22),"0"),1) -> 0
A23: 11 | B23: Nguyễn Thái | C23: Bình | D23: =IF('Mau A3'!C23='Mau A2 Bình'!E7,'Mau A2 Bình'!J35,0)+IF('Mau A3'!C23='Mau A1 Bình'!E7,'Mau A1 Bình'!J35,0) -> 498.8 | E23: =IF('Mau A3'!C23='Mau A2 Bình'!E7,'Mau A2 Bình'!K35,0)+IF('Mau A3'!C23='Mau A1 Bình'!E7,'Mau A1 Bình'!K35,0) -> 39 | F23: =IF('Mau A3'!C23='Mau A2 Bình'!E7,'Mau A2 Bình'!L35,0)+IF('Mau A3'!C23='Mau A1 Bình'!E7,'Mau A1 Bình'!L35,0) -> 0 | G23: =D23+E23+F23 -> 537.8 | H23: 260 | I23: =IF(G23>H23,G23-H23,"0") -> 277.8 | J23: =IF(G23<H23,(H23-G23),"0") -> 0 | K23: ='Mau B3'!H23 -> 0 | M23: 102.5 | N23: =ROUND(IF((I23-J23+K23+L23-M23)>0,(I23-J23+K23+L23-M23),"0"),1) -> 175.3 | O23: =ROUND(IF((I23-J23+K23+L23-M23)<0,-(I23-J23+K23+L23-M23),"0"),1) -> 0
A24: 12 | B24: Trần Quốc | C24: Duy | D24: =IF('Mau A3'!C24='Mau A2 Duy'!E7,'Mau A2 Duy'!J35,0)+IF('Mau A3'!C24='Mau A1 Duy'!E7,'Mau A1 Duy'!J36,0) -> 534 | E24: =IF('Mau A3'!C24='Mau A2 Duy'!E7,'Mau A2 Duy'!K35,0)+IF('Mau A3'!C24='Mau A1 Duy'!E7,'Mau A1 Duy'!K36,0) -> 19.5 | F24: =IF('Mau A3'!C24='Mau A2 Duy'!E7,'Mau A2 Duy'!L35,0)+IF('Mau A3'!C24='Mau A1 Duy'!E7,'Mau A1 Duy'!L36,0) -> 0 | G24: =D24+E24+F24 -> 553.5 | H24: 260 | I24: =IF(G24>H24,G24-H24,"0") -> 293.5 | J24: =IF(G24<H24,(H24-G24),"0") -> 0 | K24: ='Mau B3'!H24 -> 0 | M24: 108.1 | N24: =ROUND(IF((I24-J24+K24+L24-M24)>0,(I24-J24+K24+L24-M24),"0"),1) -> 185.4 | O24: =ROUND(IF((I24-J24+K24+L24-M24)<0,-(I24-J24+K24+L24-M24),"0"),1) -> 0
A25: 13 | B25: Kiều Trung | C25: Tín | D25: =IF('Mau A3'!C25='Mau A2 Tín'!E7,'Mau A2 Tín'!J35,0)+IF('Mau A3'!C25='Mau A1 Tín'!E7,'Mau A1 Tín'!J22,0) -> 565 | E25: =IF('Mau A3'!C25='Mau A2 Tín'!E7,'Mau A2 Tín'!K35,0)+IF('Mau A3'!C25='Mau A1 Tín'!E7,'Mau A1 Tín'!K22,0) -> 0 | F25: =IF('Mau A3'!C25='Mau A2 Tín'!E7,'Mau A2 Tín'!L35,0)+IF('Mau A3'!C25='Mau A1 Tín'!E7,'Mau A1 Tín'!L22,0) -> 0 | G25: =D25+E25+F25 -> 565 | H25: 260 | I25: =IF(G25>H25,G25-H25,"0") -> 305 | J25: =IF(G25<H25,(H25-G25),"0") -> 0 | K25: ='Mau B3'!H25 -> 0 | M25: 106.3 | N25: =ROUND(IF((I25-J25+K25+L25-M25)>0,(I25-J25+K25+L25-M25),"0"),1) -> 198.7 | O25: =ROUND(IF((I25-J25+K25+L25-M25)<0,-(I25-J25+K25+L25-M25),"0"),1) -> 0
A26: 14 | B26: Hồ Văn | C26: Hóa | D26: =IF('Mau A3'!C26='Mau A2 Hóa'!E7,'Mau A2 Hóa'!J35,0)+IF('Mau A3'!C26='Mau A1 Hóa'!E7,'Mau A1 Hóa'!J35,0) -> 600.4 | E26: =IF('Mau A3'!C26='Mau A2 Hóa'!E7,'Mau A2 Hóa'!K35,0)+IF('Mau A3'!C26='Mau A1 Hóa'!E7,'Mau A1 Hóa'!K35,0) -> 19.5 | F26: =IF('Mau A3'!C26='Mau A2 Hóa'!E7,'Mau A2 Hóa'!L35,0)+IF('Mau A3'!C26='Mau A1 Hóa'!E7,'Mau A1 Hóa'!L35,0) -> 0 | G26: =D26+E26+F26 -> 619.9 | H26: 256.7 | I26: =IF(G26>H26,G26-H26,"0") -> 363.2 | J26: =IF(G26<H26,(H26-G26),"0") -> 0 | K26: ='Mau B3'!H26 -> 0 | M26: 89.8 | N26: =ROUND(IF((I26-J26+K26+L26-M26)>0,(I26-J26+K26+L26-M26),"0"),1) -> 273.4 | O26: =ROUND(IF((I26-J26+K26+L26-M26)<0,-(I26-J26+K26+L26-M26),"0"),1) -> 0
A27: 15 | B27: Hoàng | C27: Phúc Bảo | D27: =IF('Mau A3'!C27='Mau A2 P Bảo'!E7,'Mau A2 P Bảo'!J35,0)+IF('Mau A3'!C27='Mau A1 P Bảo'!E7,'Mau A1 P Bảo'!J35,0) -> 392.3 | E27: =IF('Mau A3'!C27='Mau A2 P Bảo'!E7,'Mau A2 P Bảo'!K35,0)+IF('Mau A3'!C27='Mau A1 P Bảo'!E7,'Mau A1 P Bảo'!K35,0) -> 19.5 | F27: =IF('Mau A3'!C27='Mau A2 P Bảo'!E7,'Mau A2 P Bảo'!L35,0)+IF('Mau A3'!C27='Mau A1 P Bảo'!E7,'Mau A1 P Bảo'!L35,0) -> 0 | G27: =D27+E27+F27 -> 411.8 | H27: 130 | I27: =IF(G27>H27,G27-H27,"0") -> 281.8 | J27: =IF(G27<H27,(H27-G27),"0") -> 0 | K27: ='Mau B3'!H27 -> 0 | L27: 1.9 | N27: =ROUND(IF((I27-J27+K27+L27-M27)>0,(I27-J27+K27+L27-M27),"0"),1) -> 283.7 | O27: =ROUND(IF((I27-J27+K27+L27-M27)<0,-(I27-J27+K27+L27-M27),"0"),1) -> 0
A28: 16 | B28: Hà | C28: Quốc Bảo | D28: =IF('Mau A3'!C28='Mau A2 Q Bảo'!E7,'Mau A2 Q Bảo'!J36,0)+IF('Mau A3'!C28='Mau A1 Q Bảo'!E7,'Mau A1 Q Bảo'!J35,0) -> 370.6 | E28: =IF('Mau A3'!C28='Mau A2 Q Bảo'!E7,'Mau A2 Q Bảo'!K35,0)+IF('Mau A3'!C28='Mau A1 Q Bảo'!E7,'Mau A1 Q Bảo'!K35,0) -> 0 | F28: =IF('Mau A3'!C28='Mau A2 Q Bảo'!E7,'Mau A2 Q Bảo'!L36,0)+IF('Mau A3'!C28='Mau A1 Q Bảo'!E7,'Mau A1 Q Bảo'!L35,0) -> 0 | G28: =D28+E28+F28 -> 370.6 | H28: 130 | I28: =IF(G28>H28,G28-H28,"0") -> 240.6 | J28: =IF(G28<H28,(H28-G28),"0") -> 0 | K28: ='Mau B3'!H28 -> 0 | M28: 39.1 | N28: =ROUND(IF((I28-J28+K28+L28-M28)>0,(I28-J28+K28+L28-M28),"0"),1) -> 201.5 | O28: =ROUND(IF((I28-J28+K28+L28-M28)<0,-(I28-J28+K28+L28-M28),"0"),1) -> 0
A29: 17 | B29: Phạm Nguyễn Đức | C29: Trung | D29: =IF('Mau A3'!C29='Mau A2 Trung'!E7,'Mau A2 Trung'!J35,0)+IF('Mau A3'!C29='Mau A1 Trung'!E7,'Mau A1 Trung'!J37,0) -> 543.6 | E29: =IF('Mau A3'!C29='Mau A2 Trung'!E7,'Mau A2 Trung'!K35,0)+IF('Mau A3'!C29='Mau A1 Trung'!E7,'Mau A1 Trung'!K37,0) -> 39 | F29: =IF('Mau A3'!C29='Mau A2 Trung'!E7,'Mau A2 Trung'!L35,0)+IF('Mau A3'!C29='Mau A1 Trung'!E7,'Mau A1 Trung'!L37,0) -> 0 | G29: =D29+E29+F29 -> 582.6 | H29: 248.2 | I29: =IF(G29>H29,G29-H29,"0") -> 334.4 | J29: =IF(G29<H29,(H29-G29),"0") -> 0 | K29: ='Mau B3'!H29 -> 0 | M29: 47.5 | N29: =ROUND(IF((I29-J29+K29+L29-M29)>0,(I29-J29+K29+L29-M29),"0"),1) -> 286.9 | O29: =ROUND(IF((I29-J29+K29+L29-M29)<0,-(I29-J29+K29+L29-M29),"0"),1) -> 0
A30: 18 | B30: Nguyễn Thanh | C30: Hùng | D30: =IF('Mau A3'!C30='Mau A2 T Hùng'!E7,'Mau A2 T Hùng'!J35,0)+IF('Mau A3'!C30='Mau A1 T Hùng'!E7,'Mau A1 T Hùng'!J35,0) -> 591.7 | E30: =IF('Mau A3'!C30='Mau A2 T Hùng'!E7,'Mau A2 T Hùng'!K35,0)+IF('Mau A3'!C30='Mau A1 T Hùng'!E7,'Mau A1 T Hùng'!K35,0) -> 0 | F30: =IF('Mau A3'!C30='Mau A2 T Hùng'!E7,'Mau A2 T Hùng'!L35,0)+IF('Mau A3'!C30='Mau A1 T Hùng'!E7,'Mau A1 T Hùng'!L35,0) -> 0 | G30: =D30+E30+F30 -> 591.7 | H30: 248.2 | I30: =IF(G30>H30,G30-H30,"0") -> 343.5 | J30: =IF(G30<H30,(H30-G30),"0") -> 0 | K30: ='Mau B3'!H30 -> 0 | M30: 96.6 | N30: =ROUND(IF((I30-J30+K30+L30-M30)>0,(I30-J30+K30+L30-M30),"0"),1) -> 246.9 | O30: =ROUND(IF((I30-J30+K30+L30-M30)<0,-(I30-J30+K30+L30-M30),"0"),1) -> 0
A31: 19 | G31: =D31+E31+F31 -> 0 | I31: =IF(G31>H31,G31-H31,"0") -> 0 | J31: =IF(G31<H31,(H31-G31),"0") -> 0 | K31: ='Mau B3'!H31 -> 0 | N31: =ROUND(IF((I31-J31+K31+L31-M31)>0,(I31-J31+K31+L31-M31),"0"),1) -> 0 | O31: =ROUND(IF((I31-J31+K31+L31-M31)<0,-(I31-J31+K31+L31-M31),"0"),1) -> 0
A32: 20 | G32: =D32+E32+F32 -> 0 | I32: =IF(G32>H32,G32-H32,"0") -> 0 | J32: =IF(G32<H32,(H32-G32),"0") -> 0 | K32: ='Mau B3'!H32 -> 0 | N32: =ROUND(IF((I32-J32+K32+L32-M32)>0,(I32-J32+K32+L32-M32),"0"),1) -> 0 | O32: =ROUND(IF((I32-J32+K32+L32-M32)<0,-(I32-J32+K32+L32-M32),"0"),1) -> 0
A33: 21 | G33: =D33+E33+F33 -> 0 | I33: =IF(G33>H33,G33-H33,"0") -> 0 | J33: =IF(G33<H33,(H33-G33),"0") -> 0 | K33: ='Mau B3'!H33 -> 0 | N33: =ROUND(IF((I33-J33+K33+L33-M33)>0,(I33-J33+K33+L33-M33),"0"),1) -> 0 | O33: =ROUND(IF((I33-J33+K33+L33-M33)<0,-(I33-J33+K33+L33-M33),"0"),1) -> 0
A34: 22 | G34: =D34+E34+F34 -> 0 | I34: =IF(G34>H34,G34-H34,"0") -> 0 | J34: =IF(G34<H34,(H34-G34),"0") -> 0 | K34: ='Mau B3'!H34 -> 0 | N34: =ROUND(IF((I34-J34+K34+L34-M34)>0,(I34-J34+K34+L34-M34),"0"),1) -> 0 | O34: =ROUND(IF((I34-J34+K34+L34-M34)<0,-(I34-J34+K34+L34-M34),"0"),1) -> 0
A35: 23 | G35: =D35+E35+F35 -> 0 | I35: =IF(G35>H35,G35-H35,"0") -> 0 | J35: =IF(G35<H35,(H35-G35),"0") -> 0 | K35: ='Mau B3'!H35 -> 0 | N35: =ROUND(IF((I35-J35+K35+L35-M35)>0,(I35-J35+K35+L35-M35),"0"),1) -> 0 | O35: =ROUND(IF((I35-J35+K35+L35-M35)<0,-(I35-J35+K35+L35-M35),"0"),1) -> 0
A36: 24 | G36: =D36+E36+F36 -> 0 | I36: =IF(G36>H36,G36-H36,"0") -> 0 | J36: =IF(G36<H36,(H36-G36),"0") -> 0 | K36: ='Mau B3'!H36 -> 0 | N36: =ROUND(IF((I36-J36+K36+L36-M36)>0,(I36-J36+K36+L36-M36),"0"),1) -> 0 | O36: =ROUND(IF((I36-J36+K36+L36-M36)<0,-(I36-J36+K36+L36-M36),"0"),1) -> 0
A37: 25 | G37: =D37+E37+F37 -> 0 | I37: =IF(G37>H37,G37-H37,"0") -> 0 | J37: =IF(G37<H37,(H37-G37),"0") -> 0 | K37: ='Mau B3'!H37 -> 0 | N37: =ROUND(IF((I37-J37+K37+L37-M37)>0,(I37-J37+K37+L37-M37),"0"),1) -> 0 | O37: =ROUND(IF((I37-J37+K37+L37-M37)<0,-(I37-J37+K37+L37-M37),"0"),1) -> 0
A38: 26 | G38: =D38+E38+F38 -> 0 | I38: =IF(G38>H38,G38-H38,"0") -> 0 | J38: =IF(G38<H38,(H38-G38),"0") -> 0 | K38: ='Mau B3'!H38 -> 0 | N38: =ROUND(IF((I38-J38+K38+L38-M38)>0,(I38-J38+K38+L38-M38),"0"),1) -> 0 | O38: =ROUND(IF((I38-J38+K38+L38-M38)<0,-(I38-J38+K38+L38-M38),"0"),1) -> 0
A39: 27 | G39: =D39+E39+F39 -> 0 | I39: =IF(G39>H39,G39-H39,"0") -> 0 | J39: =IF(G39<H39,(H39-G39),"0") -> 0 | K39: ='Mau B3'!H39 -> 0 | N39: =ROUND(IF((I39-J39+K39+L39-M39)>0,(I39-J39+K39+L39-M39),"0"),1) -> 0 | O39: =ROUND(IF((I39-J39+K39+L39-M39)<0,-(I39-J39+K39+L39-M39),"0"),1) -> 0
A40: 28 | G40: =D40+E40+F40 -> 0 | I40: =IF(G40>H40,G40-H40,"0") -> 0 | J40: =IF(G40<H40,(H40-G40),"0") -> 0 | K40: ='Mau B3'!H40 -> 0 | N40: =ROUND(IF((I40-J40+K40+L40-M40)>0,(I40-J40+K40+L40-M40),"0"),1) -> 0 | O40: =ROUND(IF((I40-J40+K40+L40-M40)<0,-(I40-J40+K40+L40-M40),"0"),1) -> 0
A41: 29 | G41: =D41+E41+F41 -> 0 | I41: =IF(G41>H41,G41-H41,"0") -> 0 | J41: =IF(G41<H41,(H41-G41),"0") -> 0 | K41: ='Mau B3'!H41 -> 0 | N41: =ROUND(IF((I41-J41+K41+L41-M41)>0,(I41-J41+K41+L41-M41),"0"),1) -> 0 | O41: =ROUND(IF((I41-J41+K41+L41-M41)<0,-(I41-J41+K41+L41-M41),"0"),1) -> 0
A42: 30 | G42: =D42+E42+F42 -> 0 | I42: =IF(G42>H42,G42-H42,"0") -> 0 | J42: =IF(G42<H42,(H42-G42),"0") -> 0 | K42: ='Mau B3'!H42 -> 0 | N42: =ROUND(IF((I42-J42+K42+L42-M42)>0,(I42-J42+K42+L42-M42),"0"),1) -> 0 | O42: =ROUND(IF((I42-J42+K42+L42-M42)<0,-(I42-J42+K42+L42-M42),"0"),1) -> 0
... A62: 50 | G62: =D62+E62+F62 -> 0 | I62: =IF(G62>H62,G62-H62,"0") -> 0 | J62: =IF(G62<H62,(H62-G62),"0") -> 0 | K62: ='Mau B3'!H62 -> 0 | N62: =ROUND(IF((I62-J62+K62+L62-M62)>0,(I62-J62+K62+L62-M62),"0"),1) -> 0 | O62: =ROUND(IF((I62-J62+K62+L62-M62)<0,-(I62-J62+K62+L62-M62),"0"),1) -> 0
A63: TỔNG CỘNG | D63: =SUM(D13:D62) -> 8465.9 | E63: =SUM(E13:E62) -> 588 | F63: =SUM(F13:F62) -> 41.9 | G63: =SUM(G13:G62) -> 9095.8 | H63: =SUM(H13:H62) -> 4439.8 | I63: =SUM(I13:I62) -> 4656 | J63: =SUM(J13:J62) -> 0 | K63: =SUM(K13:K62) -> 0 | L63: =ROUND(SUM(L13:L62),1) -> 653.3 | M63: =ROUND(SUM(M13:M62),1) -> 918.8 | N63: =ROUND(SUM(N13:N62),1) -> 4466.9 | O63: =ROUND(SUM(O13:O62),1) -> 76.4
B64: Cách tính: Cột (6) = cột (3) + cột (4) + cột (5). | H64: Cột (8) hoặc cột (9) = cột (6) - cột (7). | M64: Cột (10) = cột (7) mẫu B3
B65: Cột (13) hoặc cột (14) = cột (8)- cột (9)+ cột (10)+ cột (11) - cột (12).
N67: Ngày tháng năm 2014
A68: HIỆU TRƯỞNG | C68: TRƯỞNG PHÒNG ĐÀO TẠO | G68: TRƯỞNG P. KHCN&QHQT | K68: TRƯỞNG P. TC-HC-TH | N68: TRƯỞNG KHOA

Sheet Mau B1.1
J1: Mẫu B1. 1
A2: ỦY BAN NHÂN DÂN TP.HCM | E2: CỘNG HÒA XÃ HỘI CHỦ NGHĨA VIỆT NAM
A3: TRƯỜNG CAO ĐẲNG KỸ THUẬT LÝ TỰ TRỌNG | E3: Độc lập - Tự do - Hạnh phúc
A5: BẢNG TỔNG HỢP NGHE THỜI SỰ HỌC TẬP CHÍNH TRỊ VÀ AN NINH QUỐC PHÒNG
A6: NĂM HỌC 2013 - 2014
A7: KHOA: ……………………………………..
A9: TT | B9: HỌ VÀ TÊN GIÁO VIÊN | D9: THỜI GIAN THAM DỰ | I9: TỔNG SỐ GIỜ ĐƯỢC TÍNH | J9: GHI CHÚ
D10: 41538 | E10: 41544 | F10: 41706 | G10: 41723 | H10: 41775
A11: 1 | B11: ='[1]Mau A3'!B13 -> Nguyễn Ngọc | C11: ='Mau A3'!C13 -> Phương | D11: X | E11: X | F11: X | G11: X | H11: X | I11: =COUNTIF(D11:H11,"X")*4 -> 20
A12: 2 | B12: ='[1]Mau A3'!B14 -> Võ Đắc | C12: ='Mau A3'!C14 -> Thịnh | D12: X | E12: X | F12: X | G12: X | H12: X | I12: =COUNTIF(D12:H12,"X")*4 -> 20
A13: 3 | B13: ='[1]Mau A3'!B15 -> Nguyễn | C13: ='Mau A3'!C15 -> Anh Tuấn | D13: X | E13: X | F13: X | G13: X | H13: X | I13: =COUNTIF(D13:H13,"X")*4 -> 20
A14: 4 | B14: ='[1]Mau A3'!B16 -> Nguyễn Hữu | C14: ='Mau A3'!C16 -> Mạnh | D14: X | E14: X | F14: X | G14: X | H14: X | I14: =COUNTIF(D14:H14,"X")*4 -> 20
A15: 5 | B15: ='[1]Mau A3'!B17 -> Nguyễn Thành | C15: ='Mau A3'!C17 -> Đức | D15: X | E15: X | F15: X | G15: X | H15: X | I15: =COUNTIF(D15:H15,"X")*4 -> 20
A16: 6 | B16: ='[1]Mau A3'!B18 -> Nguyễn Minh | C16: ='Mau A3'!C18 -> Thái | D16: X | E16: X | F16: X | G16: X | H16: X | I16: =COUNTIF(D16:H16,"X")*4 -> 20
A17: 7 | B17: ='[1]Mau A3'!B19 -> Phan Anh | C17: ='Mau A3'!C19 -> Tuấn Kiệt | D17: X | E17: X | F17: X | G17: X | H17: X | I17: =COUNTIF(D17:H17,"X")*4 -> 20
A18: 8 | B18: ='[1]Mau A3'!B20 -> Trần | C18: ='Mau A3'!C20 -> Minh Tuấn | D18: X | E18: X | F18: X | G18: X | H18: X | I18: =COUNTIF(D18:H18,"X")*4 -> 20
A19: 9 | B19: ='[1]Mau A3'!B21 -> Đặng Thái | C19: ='Mau A3'!C21 -> Sơn | D19: X | E19: X | F19: X | G19: X | H19: X | I19: =COUNTIF(D19:H19,"X")*4 -> 20
A20: 10 | B20: ='[1]Mau A3'!B22 -> Triệu Phú | C20: ='Mau A3'!C22 -> Nguyên | D20: X | E20: X | F20: X | G20: X | H20: X | I20: =COUNTIF(D20:H20,"X")*4 -> 20
A21: 11 | B21: ='[1]Mau A3'!B23 -> Nguyễn Thanh | C21: ='Mau A3'!C23 -> Bình | D21: X | E21: X | F21: X | G21: X | H21: X | I21: =COUNTIF(D21:H21,"X")*4 -> 20
A22: 12 | B22: ='[1]Mau A3'!B24 -> Trần Quốc | C22: ='Mau A3'!C24 -> Duy | D22: X | E22: X | F22: X | G22: X | H22: X | I22: =COUNTIF(D22:H22,"X")*4 -> 20
... A28: 18 | B28: ='[1]Mau A3'!B30 -> Nguyễn Thanh | C28: ='Mau A3'!C30 -> Hùng | D28: X | E28: X | F28: X | G28: X | H28: X | I28: =COUNTIF(D28:H28,"X")*4 -> 20
A29: 19 | D29: X | E29: X | F29: X | G29: X | H29: X | I29: =COUNTIF(D29:H29,"X")*4 -> 20
A30: 20 | D30: X | E30: X | F30: X | G30: X | H30: X | I30: =COUNTIF(D30:H30,"X")*4 -> 20
A31: 21 | D31: X | E31: X | F31: X | G31: X | H31: X | I31: =COUNTIF(D31:H31,"X")*4 -> 20
A32: 22 | D32: X | E32: X | F32: X | G32: X | H32: X | I32: =COUNTIF(D32:H32,"X")*4 -> 20
A33: 23 | D33: X | E33: X | F33: X | G33: X | H33: X | I33: =COUNTIF(D33:H33,"X")*4 -> 20
A34: 24 | D34: X | E34: X | F34: X | G34: X | H34: X | I34: =COUNTIF(D34:H34,"X")*4 -> 20
A35: 25 | D35: X | E35: X | F35: X | G35: X | H35: X | I35: =COUNTIF(D35:H35,"X")*4 -> 20
A36: 26 | D36: X | E36: X | F36: X | G36: X | H36: X | I36: =COUNTIF(D36:H36,"X")*4 -> 20
A37: 27 | D37: X | E37: X | F37: X | G37: X | H37: X | I37: =COUNTIF(D37:H37,"X")*4 -> 20
A38: 28 | D38: X | E38: X | F38: X | G38: X | H38: X | I38: =COUNTIF(D38:H38,"X")*4 -> 20
A39: 29 | D39: X | E39: X | F39: X | G39: X | H39: X | I39: =COUNTIF(D39:H39,"X")*4 -> 20
A40: 30 | D40: X | E40: X | F40: X | G40: X | H40: X | I40: =COUNTIF(D40:H40,"X")*4 -> 20
... A60: 50 | D60: X | E60: X | F60: X | G60: X | H60: X | I60: =COUNTIF(D60:H60,"X")*4 -> 20
F62: Tp.HCM, Ngày tháng năm 2014
C63: Trưởng Khoa | F63: Người lập biểu

Sheet Mau B1.2
J1: Mẫu B1. 2
A2: ỦY BAN NHÂN DÂN TP.HCM | E2: CỘNG HÒA XÃ HỘI CHỦ NGHĨA VIỆT NAM
A3: TRƯỜNG CAO ĐẲNG KỸ THUẬT LÝ TỰ TRỌNG | E3: Độc lập - Tự do - Hạnh phúc
A5: BẢNG TỔNG HỢP THAM QUAN THỰC TẾ
A6: NĂM HỌC 2013 - 2014
A7: KHOA: ………………………….
A9: TT | B9: HỌ VÀ TÊN GIÁO VIÊN | D9: THỜI GIAN THAM DỰ | I9: TỔNG SỐ GIỜ ĐƯỢC TÍNH | J9: GHI CHÚ
A11: 1 | B11: ='Mau A3'!B13 -> Nguyễn Ngọc | C11: ='Mau A3'!C13 -> Phương | D11: X | I11: =COUNTIF(D11:H11,"X")*4 -> 4
A12: 2 | B12: ='Mau A3'!B14 -> Võ Đắc | C12: ='Mau A3'!C14 -> Thịnh | E12: X | G12: X | I12: =COUNTIF(D12:H12,"X")*4 -> 8
A13: 3 | B13: ='Mau A3'!B15 -> Nguyễn | C13: ='Mau A3'!C15 -> Anh Tuấn | I13: =COUNTIF(D13:H13,"X")*4 -> 0
A14: 4 | B14: ='Mau A3'!B16 -> Nguyễn Hữu | C14: ='Mau A3'!C16 -> Mạnh | E14: X | G14: X | I14: =COUNTIF(D14:H14,"X")*4 -> 8
A15: 5 | B15: ='Mau A3'!B17 -> Nguyễn Thành | C15: ='Mau A3'!C17 -> Đức | I15: =COUNTIF(D15:H15,"X")*4 -> 0
A16: 6 | B16: ='Mau A3'!B18 -> Nguyễn Minh | C16: ='Mau A3'!C18 -> Thái | E16: X | G16: X | I16: =COUNTIF(D16:H16,"X")*4 -> 8
A17: 7 | B17: ='Mau A3'!B19 -> Phan Anh | C17: ='Mau A3'!C19 -> Tuấn Kiệt | I17: =COUNTIF(D17:H17,"X")*4 -> 0
A18: 8 | B18: ='Mau A3'!B20 -> Trần | C18: ='Mau A3'!C20 -> Minh Tuấn | I18: =COUNTIF(D18:H18,"X")*4 -> 0
A19: 9 | B19: ='Mau A3'!B21 -> Đặng Thái | C19: ='Mau A3'!C21 -> Sơn | I19: =COUNTIF(D19:H19,"X")*4 -> 0
A20: 10 | B20: ='Mau A3'!B22 -> Triệu Phú | C20: ='Mau A3'!C22 -> Nguyên | I20: =COUNTIF(D20:H20,"X")*4 -> 0
A21: 11 | B21: ='Mau A3'!B23 -> Nguyễn Thái | C21: ='Mau A3'!C23 -> Bình | I21: =COUNTIF(D21:H21,"X")*4 -> 0
A22: 12 | B22: ='Mau A3'!B24 -> Trần Quốc | C22: ='Mau A3'!C24 -> Duy | I22: =COUNTIF(D22:H22,"X")*4 -> 0
A23: 13 | B23: ='Mau A3'!B25 -> Kiều Trung | C23: ='Mau A3'!C25 -> Tín | I23: =COUNTIF(D23:H23,"X")*4 -> 0
A24: 14 | B24: ='Mau A3'!B26 -> Hồ Văn | C24: ='Mau A3'!C26 -> Hóa | I24: =COUNTIF(D24:H24,"X")*4 -> 0
A25: 15 | B25: ='Mau A3'!B27 -> Hoàng | C25: ='Mau A3'!C27 -> Phúc Bảo | I25: =COUNTIF(D25:H25,"X")*4 -> 0
A26: 16 | B26: ='Mau A3'!B28 -> Hà | C26: ='Mau A3'!C28 -> Quốc Bảo | I26: =COUNTIF(D26:H26,"X")*4 -> 0
A27: 17 | B27: ='Mau A3'!B29 -> Phạm Nguyễn Đức | C27: ='Mau A3'!C29 -> Trung | I27: =COUNTIF(D27:H27,"X")*4 -> 0
A28: 18 | B28: ='Mau A3'!B30 -> Nguyễn Thanh | C28: ='Mau A3'!C30 -> Hùng | I28: =COUNTIF(D28:H28,"X")*4 -> 0
A29: 19 | I29: =COUNTIF(D29:H29,"X")*4 -> 0
A30: 20 | I30: =COUNTIF(D30:H30,"X")*4 -> 0
A31: 21 | I31: =COUNTIF(D31:H31,"X")*4 -> 0
A32: 22 | I32: =COUNTIF(D32:H32,"X")*4 -> 0
A33: 23 | I33: =COUNTIF(D33:H33,"X")*4 -> 0
A34: 24 | I34: =COUNTIF(D34:H34,"X")*4 -> 0
A35: 25 | I35: =COUNTIF(D35:H35,"X")*4 -> 0
A36: 26 | I36: =COUNTIF(D36:H36,"X")*4 -> 0
A37: 27 | I37: =COUNTIF(D37:H37,"X")*4 -> 0
A38: 28 | I38: =COUNTIF(D38:H38,"X")*4 -> 0
A39: 29 | I39: =COUNTIF(D39:H39,"X")*4 -> 0
A40: 30 | I40: =COUNTIF(D40:H40,"X")*4 -> 0
... A60: 50 | I60: =COUNTIF(D60:H60,"X")*4 -> 0
B62: Minh chứng nộp kèm: Kế hoạch được Hiệu trưởng duyệt và danh sách tham dự thực tế. | F62: Tp.HCM, Ngày tháng năm 2014
C63: Trưởng Khoa | F63: Người lập biểu

Sheet Mau B1.3.1
P1: Mẫu B1.3. 1
A2: ỦY BAN NHÂN DÂN TP.HCM | K2: CỘNG HÒA XÃ HỘI CHỦ NGHĨA VIỆT NAM
A3: TRƯỜNG CAO ĐẲNG KỸ THUẬT LÝ TỰ TRỌNG | K3: Độc lập - Tự do - Hạnh phúc
A5: BẢNG TỔNG HỢP HỌP VỀ CÔNG TÁC CHUYÊN MÔN ĐỊNH KỲ
A6: NĂM HỌC 2013 - 2014
A7: KHOA: ………………………………
A9: TT | B9: HỌ VÀ TÊN GIÁO VIÊN | D9: HỌP VỀ CÔNG TÁC CHUYÊN MÔN ĐỊNH KỲ | P9: TỔNG SỐ GIỜ ĐƯỢC TÍNH
D10: T9/ 2013 | E10: T10 | F10: T11 | G10: T12 | H10: T01/ 2014 | I10: T02 | J10: T 3 | K10: T4 | L10: T5 | M10: T 6 | N10: T 7 | O10: T 8
A11: 1 | B11: ='Mau A3'!B13 -> Nguyễn Ngọc | C11: ='Mau A3'!C13 -> Phương | D11: X | E11: X | F11: x | P11: =COUNTIF(D11:O11,"X")*4 -> 12
A12: 2 | B12: ='Mau A3'!B14 -> Võ Đắc | C12: ='Mau A3'!C14 -> Thịnh | P12: =COUNTIF(D12:O12,"X")*4 -> 0
A13: 3 | B13: ='Mau A3'!B15 -> Nguyễn | C13: ='Mau A3'!C15 -> Anh Tuấn | P13: =COUNTIF(D13:O13,"X")*4 -> 0
A14: 4 | B14: ='Mau A3'!B16 -> Nguyễn Hữu | C14: ='Mau A3'!C16 -> Mạnh | P14: =COUNTIF(D14:O14,"X")*4 -> 0
A15: 5 | B15: ='Mau A3'!B17 -> Nguyễn Thành | C15: ='Mau A3'!C17 -> Đức | P15: =COUNTIF(D15:O15,"X")*4 -> 0
A16: 6 | B16: ='Mau A3'!B18 -> Nguyễn Minh | C16: ='Mau A3'!C18 -> Thái | P16: =COUNTIF(D16:O16,"X")*4 -> 0
A17: 7 | B17: ='Mau A3'!B19 -> Phan Anh | C17: ='Mau A3'!C19 -> Tuấn Kiệt | P17: =COUNTIF(D17:O17,"X")*4 -> 0
A18: 8 | B18: ='Mau A3'!B20 -> Trần | C18: ='Mau A3'!C20 -> Minh Tuấn | P18: =COUNTIF(D18:O18,"X")*4 -> 0
A19: 9 | B19: ='Mau A3'!B21 -> Đặng Thái | C19: ='Mau A3'!C21 -> Sơn | P19: =COUNTIF(D19:O19,"X")*4 -> 0
A20: 10 | B20: ='Mau A3'!B22 -> Triệu Phú | C20: ='Mau A3'!C22 -> Nguyên | P20: =COUNTIF(D20:O20,"X")*4 -> 0
A21: 11 | B21: ='Mau A3'!B23 -> Nguyễn Thái | C21: ='Mau A3'!C23 -> Bình | D21: X | E21: X | P21: =COUNTIF(D21:O21,"X")*4 -> 8
A22: 12 | B22: ='Mau A3'!B24 -> Trần Quốc | C22: ='Mau A3'!C24 -> Duy | P22: =COUNTIF(D22:O22,"X")*4 -> 0
A23: 13 | B23: ='Mau A3'!B25 -> Kiều Trung | C23: ='Mau A3'!C25 -> Tín | P23: =COUNTIF(D23:O23,"X")*4 -> 0
A24: 14 | B24: ='Mau A3'!B26 -> Hồ Văn | C24: ='Mau A3'!C26 -> Hóa | P24: =COUNTIF(D24:O24,"X")*4 -> 0
A25: 15 | B25: ='Mau A3'!B27 -> Hoàng | C25: ='Mau A3'!C27 -> Phúc Bảo | P25: =COUNTIF(D25:O25,"X")*4 -> 0
A26: 16 | B26: ='Mau A3'!B28 -> Hà | C26: ='Mau A3'!C28 -> Quốc Bảo | P26: =COUNTIF(D26:O26,"X")*4 -> 0
A27: 17 | B27: ='Mau A3'!B29 -> Phạm Nguyễn Đức | C27: ='Mau A3'!C29 -> Trung | D27: X | E27: X | P27: =COUNTIF(D27:O27,"X")*4 -> 8
A28: 18 | B28: ='Mau A3'!B30 -> Nguyễn Thanh | C28: ='Mau A3'!C30 -> Hùng | P28: =COUNTIF(D28:O28,"X")*4 -> 0
A29: 19 | P29: =COUNTIF(D29:O29,"X")*4 -> 0
A30: 20 | P30: =COUNTIF(D30:O30,"X")*4 -> 0
A31: 21 | P31: =COUNTIF(D31:O31,"X")*4 -> 0
A32: 22 | P32: =COUNTIF(D32:O32,"X")*4 -> 0
A33: 23 | P33: =COUNTIF(D33:O33,"X")*4 -> 0
A34: 24 | P34: =COUNTIF(D34:O34,"X")*4 -> 0
A35: 25 | P35: =COUNTIF(D35:O35,"X")*4 -> 0
A36: 26 | P36: =COUNTIF(D36:O36,"X")*4 -> 0
A37: 27 | D37: X | E37: X | P37: =COUNTIF(D37:O37,"X")*4 -> 8
A38: 28 | P38: =COUNTIF(D38:O38,"X")*4 -> 0
A39: 29 | P39: =COUNTIF(D39:O39,"X")*4 -> 0
A40: 30 | P40: =COUNTIF(D40:O40,"X")*4 -> 0
A41: 31 | P41: =COUNTIF(D41:O41,"X")*4 -> 0
A42: 32 | P42: =COUNTIF(D42:O42,"X")*4 -> 0
A43: 33 | P43: =COUNTIF(D43:O43,"X")*4 -> 0
A44: 34 | P44: =COUNTIF(D44:O44,"X")*4 -> 0
A45: 35 | P45: =COUNTIF(D45:O45,"X")*4 -> 0
A46: 36 | P46: =COUNTIF(D46:O46,"X")*4 -> 0
A47: 37 | D47: X | E47: X | P47: =COUNTIF(D47:O47,"X")*4 -> 8
A48: 38 | P48: =COUNTIF(D48:O48,"X")*4 -> 0
A49: 39 | P49: =COUNTIF(D49:O49,"X")*4 -> 0
A50: 40 | P50: =COUNTIF(D50:O50,"X")*4 -> 0
A51: 41 | P51: =COUNTIF(D51:O51,"X")*4 -> 0
A52: 42 | P52: =COUNTIF(D52:O52,"X")*4 -> 0
A53: 43 | P53: =COUNTIF(D53:O53,"X")*4 -> 0
A54: 44 | P54: =COUNTIF(D54:O54,"X")*4 -> 0
A55: 45 | P55: =COUNTIF(D55:O55,"X")*4 -> 0
A56: 46 | P56: =COUNTIF(D56:O56,"X")*4 -> 0
A57: 47 | P57: =COUNTIF(D57:O57,"X")*4 -> 0
A58: 48 | P58: =COUNTIF(D58:O58,"X")*4 -> 0
A59: 49 | P59: =COUNTIF(D59:O59,"X")*4 -> 0
A60: 50 | P60: =COUNTIF(D60:O60,"X")*4 -> 0
B61: Minh chứng nộp kèm: Biên bản họp có danh sách GV dự họp thực tế. | M61: TP.HCM, Ngày tháng năm 2014
C62: Trưởng Khoa | M62: Người lập biểu

Sheet Mau B1.4
J1: Mẫu B1. 4
A2: ỦY BAN NHÂN DÂN TP.HCM | E2: CỘNG HÒA XÃ HỘI CHỦ NGHĨA VIỆT NAM
A3: TRƯỜNG CAO ĐẲNG KỸ THUẬT LÝ TỰ TRỌNG | E3: Độc lập - Tự do - Hạnh phúc
A5: BẢNG TỔNG HỢP BỒI DƯỠNG CHUYÊN MÔN
A6: NĂM HỌC 2013 - 2014
A7: KHOA: ………………………
A9: TT | B9: HỌ VÀ TÊN GIÁO VIÊN | D9: THỜI GIAN THAM DỰ | I9: TỔNG SỐ GIỜ ĐƯỢC TÍNH | J9: GHI CHÚ
A11: 1 | D11: X | I11: =COUNTIF(D11:H11,"X")*4 -> 4
A12: 2 | I12: =COUNTIF(D12:H12,"X")*4 -> 0
A13: 3 | I13: =COUNTIF(D13:H13,"X")*4 -> 0
A14: 4 | I14: =COUNTIF(D14:H14,"X")*4 -> 0
A15: 5 | I15: =COUNTIF(D15:H15,"X")*4 -> 0
A16: 6 | I16: =COUNTIF(D16:H16,"X")*4 -> 0
A17: 7 | I17: =COUNTIF(D17:H17,"X")*4 -> 0
A18: 8 | I18: =COUNTIF(D18:H18,"X")*4 -> 0
A19: 9 | I19: =COUNTIF(D19:H19,"X")*4 -> 0
A20: 10 | I20: =COUNTIF(D20:H20,"X")*4 -> 0
A21: 11 | I21: =COUNTIF(D21:H21,"X")*4 -> 0
A22: 12 | I22: =COUNTIF(D22:H22,"X")*4 -> 0
A23: 13 | I23: =COUNTIF(D23:H23,"X")*4 -> 0
... A60: 50 | I60: =COUNTIF(D60:H60,"X")*4 -> 0
B62: Minh chứng nộp kèm: Kế hoạch được Hiệu trưởng duyệt và danh sách tham dự thực tế. | F62: Tp.HCM, Ngày tháng năm 2014
C63: Trưởng Khoa | F63: Người lập biểu

Sheet Mau  B1.3.2
P1: Mẫu B1.3. 2
A2: ỦY BAN NHÂN DÂN TP.HCM | K2: CỘNG HÒA XÃ HỘI CHỦ NGHĨA VIỆT NAM
A3: TRƯỜNG CAO ĐẲNG KỸ THUẬT LÝ TỰ TRỌNG | K3: Độc lập - Tự do - Hạnh phúc
A5: BẢNG TỔNG HỢP HỌP VỀ CÔNG TÁC CHUYÊN MÔN ĐỘT XUẤT
A6: NĂM HỌC 2013 - 2014
A7: KHOA: ………………………………
A9: TT | B9: HỌ VÀ TÊN GIÁO VIÊN | D9: THỜI GIAN | F9: NỘI DUNG HỌP | N9: SỐ GIỜ ĐƯỢC TÍNH | P9: TỔNG SỐ GIỜ ĐƯỢC TÍNH
A10: 1 | N10: 4 | P10: =N10+N11+N12+N13 -> 16
N11: 4
N12: 4
N13: 4
A14: 2 | P14: =N14+N15+N16+N17 -> 0
A18: 3 | P18: =N18+N19+N20+N21 -> 0
A22: 4 | P22: =N22+N23+N24+N25 -> 0
A26: 5 | P26: =N26+N27+N28+N29 -> 0
A30: 6 | P30: =N30+N31+N32+N33 -> 0
A34: 7 | P34: =N34+N35+N36+N37 -> 0
A38: 8 | P38: =N38+N39+N40+N41 -> 0
A42: 9 | P42: =N42+N43+N44+N45 -> 0
A46: 10 | P46: =N46+N47+N48+N49 -> 0
A50: 11 | P50: =N50+N51+N52+N53 -> 0
A54: 12 | P54: =N54+N55+N56+N57 -> 0
A58: 13 | P58: =N58+N59+N60+N61 -> 0
... A206: 50 | P206: =N206+N207+N208+N209 -> 0
B210: Minh chứng nộp kèm: Biên bản họp có danh sách GV dự họp thực tế.
N211: TP.HCM, Ngày tháng năm 2014
C212: Hiệu trưởng | H212: Trưởng Khoa | N212: Người lập biểu

Sheet Mau B1.5
I1: Mẫu B1. 5
A2: ỦY BAN NHÂN DÂN TP.HCM | G2: CỘNG HÒA XÃ HỘI CHỦ NGHĨA VIỆT NAM
A3: TRƯỜNG CAO ĐẲNG KỸ THUẬT LÝ TỰ TRỌNG | G3: Độc lập - Tự do - Hạnh phúc
A5: BẢNG TỔNG HỢP DỰ GIỜ ĐỊNH KỲ, ĐỘT XUẤT
A6: NĂM HỌC 2013 - 2014
A7: KHOA: …………………….
A9: TT | B9: HỌ VÀ TÊN GIÁO VIÊN | D9: Số phiếu chấm dự giờ | E9: Số giờ được tính dự giờ | F9: Họp góp ý cho bao nhiêu GV | G9: Số giờ được tính họp góp ý | H9: Tổng cộng số giờ được tính | I9: Ghi chú
A10: (1) | B10: (2) | D10: (3) | E10: (4) | F10: (5) | G10: (6) | H10: (7) | I10: (8)
A11: 1 | B11: NGUYỄN NGỌC | C11: NHẬP | D11: 4 | E11: =D11*4 -> 16 | F11: 3 | G11: =F11*4 -> 12 | H11: =E11+G11 -> 28
A12: 2 | B12: TRẦN VĂN | C12: CHÍNH | E12: =D12*4 -> 0 | G12: =F12*4 -> 0 | H12: =E12+G12 -> 0
A13: 3 | B13: VÕ ĐẮC | C13: XÁC | E13: =D13*4 -> 0 | G13: =F13*4 -> 0 | H13: =E13+G13 -> 0
A14: 4 | B14: LÊ HỒNG | C14: THANH | E14: =D14*4 -> 0 | G14: =F14*4 -> 0 | H14: =E14+G14 -> 0
A15: 5 | B15: HOÀNG CÔNG | C15: TOÁN | E15: =D15*4 -> 0 | G15: =F15*4 -> 0 | H15: =E15+G15 -> 0
A16: 6 | B16: TRƯƠNG THỊ | C16: NHANH | E16: =D16*4 -> 0 | G16: =F16*4 -> 0 | H16: =E16+G16 -> 0
A17: 7 | E17: =D17*4 -> 0 | G17: =F17*4 -> 0 | H17: =E17+G17 -> 0
A18: 8 | E18: =D18*4 -> 0 | G18: =F18*4 -> 0 | H18: =E18+G18 -> 0
A19: 9 | E19: =D19*4 -> 0 | G19: =F19*4 -> 0 | H19: =E19+G19 -> 0
A20: 10 | E20: =D20*4 -> 0 | G20: =F20*4 -> 0 | H20: =E20+G20 -> 0
A21: 11 | E21: =D21*4 -> 0 | G21: =F21*4 -> 0 | H21: =E21+G21 -> 0
A22: 12 | E22: =D22*4 -> 0 | G22: =F22*4 -> 0 | H22: =E22+G22 -> 0
A23: 13 | E23: =D23*4 -> 0 | G23: =F23*4 -> 0 | H23: =E23+G23 -> 0
A24: 14 | E24: =D24*4 -> 0 | G24: =F24*4 -> 0 | H24: =E24+G24 -> 0
A25: 15 | E25: =D25*4 -> 0 | G25: =F25*4 -> 0 | H25: =E25+G25 -> 0
A26: 16 | E26: =D26*4 -> 0 | G26: =F26*4 -> 0 | H26: =E26+G26 -> 0
A27: 17 | E27: =D27*4 -> 0 | G27: =F27*4 -> 0 | H27: =E27+G27 -> 0
A28: 18 | E28: =D28*4 -> 0 | G28: =F28*4 -> 0 | H28: =E28+G28 -> 0
... A60: 50 | E60: =D60*4 -> 0 | G60: =F60*4 -> 0 | H60: =E60+G60 -> 0
B62: Minh chứng nộp kèm:
B63: 1/ Phiếu dự giờ và sắp xếp theo số lượng GV đi dự.
B64: 2/ Biên bản họp góp ý có danh sách GV dự họp thực tế.
G65: Tp.HCM, ngày tháng năm 2014
C66: Trưởng Khoa | G66: Người lập biểu

Sheet Mau B1. 6
I1: Mẫu B1. 6
A2: ỦY BAN NHÂN DÂN TP.HCM | F2: CỘNG HÒA XÃ HỘI CHỦ NGHĨA VIỆT NAM
A3: TRƯỜNG CAO ĐẲNG KỸ THUẬT LÝ TỰ TRỌNG | F3: Độc lập - Tự do - Hạnh phúc
A5: BẢNG TỔNG HỢP KIỂM TRA, CHẤM ĐIỂM HỒ SƠ CHUYÊN MÔN
A6: NĂM HỌC 2013 - 2014
A7: KHOA: Động Lực
A9: TT | B9: HỌ VÀ TÊN GIÁO VIÊN | D9: Tổ bộ môn được phân công kiểm tra, chấm điểm | E9: Số GV trong tổ kiểm tra, chấm điểm | F9: Số GV được kiểm tra, chấm điểm của tổ | G9: Số giờ được tính | H9: Tổng số giờ được tính | I9: Ghi chú
A10: (1) | B10: (2) | D10: (3) | E10: (4) | F10: (5) | G10: (6) | H10: (7) | I10: (8)
A11: 1 | B11: Võ Đắc | C11: Thịnh | D11: Động cơ Dầu | E11: 4 | G11: =ROUND((F11*4)/E11,1) -> 0 | H11: =G11+G12 -> 0 | I11: 2 học kỳ
D12: Gầm ô tô | E12: 2 | G12: =ROUND((F12*4)/E12,1) -> 0
A13: 2 | B13: Nguyễn | C13: Anh Tuấn | D13: Động cơ Dầu | E13: 4 | G13: =ROUND((F13*4)/E13,1) -> 0 | H13: =G13+G14 -> 0 | I13: 2 học kỳ
D14: Gầm ô tô | E14: 2 | G14: =ROUND((F14*4)/E14,1) -> 0
A15: 3 | B15: Nguyễn Hữu | C15: Mạnh | D15: Động cơ Xăng | E15: 2 | G15: =ROUND((F15*4)/E15,1) -> 0 | H15: =G15+G16 -> 0 | I15: 2 học kỳ
D16: Điện ô tô | E16: 4 | G16: =ROUND((F16*4)/E16,1) -> 0
A17: 4 | E17: 4 | G17: =ROUND((F17*4)/E17,1) -> 0 | H17: =G17+G18 -> 0 | I17: 2 học kỳ
E18: 4 | G18: =ROUND((F18*4)/E18,1) -> 0
A19: 5 | E19: 4 | G19: =ROUND((F19*4)/E19,1) -> 0 | H19: =G19+G20 -> 0
E20: 4 | G20: =ROUND((F20*4)/E20,1) -> 0
A21: 6 | E21: 4 | G21: =ROUND((F21*4)/E21,1) -> 0 | H21: =G21+G22 -> 0
E22: 4 | G22: =ROUND((F22*4)/E22,1) -> 0
A23: 7 | E23: 4 | G23: =ROUND((F23*4)/E23,1) -> 0 | H23: =G23+G24 -> 0
E24: 4 | G24: =ROUND((F24*4)/E24,1) -> 0
A25: 8 | E25: 4 | G25: =ROUND((F25*4)/E25,1) -> 0 | H25: =G25+G26 -> 0
E26: 4 | G26: =ROUND((F26*4)/E26,1) -> 0
A27: 9 | E27: 4 | G27: =ROUND((F27*4)/E27,1) -> 0 | H27: =G27+G28 -> 0
E28: 4 | G28: =ROUND((F28*4)/E28,1) -> 0
A29: 10 | E29: 4 | G29: =ROUND((F29*4)/E29,1) -> 0 | H29: =G29+G30 -> 0
E30: 4 | G30: =ROUND((F30*4)/E30,1) -> 0
A31: 11 | E31: 4 | G31: =ROUND((F31*4)/E31,1) -> 0 | H31: =G31+G32 -> 0
E32: 4 | G32: =ROUND((F32*4)/E32,1) -> 0
A33: 12 | E33: 4 | G33: =ROUND((F33*4)/E33,1) -> 0 | H33: =G33+G34 -> 0
E34: 4 | G34: =ROUND((F34*4)/E34,1) -> 0
A35: 13 | E35: 4 | G35: =ROUND((F35*4)/E35,1) -> 0 | H35: =G35+G36 -> 0
E36: 4 | G36: =ROUND((F36*4)/E36,1) -> 0
A37: 14 | E37: 4 | G37: =ROUND((F37*4)/E37,1) -> 0 | H37: =G37+G38 -> 0
E38: 4 | G38: =ROUND((F38*4)/E38,1) -> 0
A39: 15 | E39: 4 | G39: =ROUND((F39*4)/E39,1) -> 0 | H39: =G39+G40 -> 0
E40: 4 | G40: =ROUND((F40*4)/E40,1) -> 0
A41: 16 | E41: 4 | G41: =ROUND((F41*4)/E41,1) -> 0 | H41: =G41+G42 -> 0
E42: 4 | G42: =ROUND((F42*4)/E42,1) -> 0
A43: 17 | E43: 4 | G43: =ROUND((F43*4)/E43,1) -> 0 | H43: =G43+G44 -> 0
E44: 4 | G44: =ROUND((F44*4)/E44,1) -> 0
A45: 18 | E45: 4 | G45: =ROUND((F45*4)/E45,1) -> 0 | H45: =G45+G46 -> 0
E46: 4 | G46: =ROUND((F46*4)/E46,1) -> 0
A47: 19 | E47: 4 | G47: =ROUND((F47*4)/E47,1) -> 0 | H47: =G47+G48 -> 0
E48: 4 | G48: =ROUND((F48*4)/E48,1) -> 0
A49: 20 | E49: 4 | G49: =ROUND((F49*4)/E49,1) -> 0 | H49: =G49+G50 -> 0
E50: 4 | G50: =ROUND((F50*4)/E50,1) -> 0
A51: 21 | E51: 4 | G51: =ROUND((F51*4)/E51,1) -> 0 | H51: =G51+G52 -> 0
E52: 4 | G52: =ROUND((F52*4)/E52,1) -> 0
A53: 22 | E53: 4 | G53: =ROUND((F53*4)/E53,1) -> 0 | H53: =G53+G54 -> 0
E54: 4 | G54: =ROUND((F54*4)/E54,1) -> 0
A55: 23 | E55: 4 | G55: =ROUND((F55*4)/E55,1) -> 0 | H55: =G55+G56 -> 0
E56: 4 | G56: =ROUND((F56*4)/E56,1) -> 0
A57: 24 | E57: 4 | G57: =ROUND((F57*4)/E57,1) -> 0 | H57: =G57+G58 -> 0
E58: 4 | G58: =ROUND((F58*4)/E58,1) -> 0
A59: 25 | E59: 4 | G59: =ROUND((F59*4)/E59,1) -> 0 | H59: =G59+G60 -> 0
E60: 4 | G60: =ROUND((F60*4)/E60,1) -> 0
A61: 26 | E61: 4 | G61: =ROUND((F61*4)/E61,1) -> 0 | H61: =G61+G62 -> 0
E62: 4 | G62: =ROUND((F62*4)/E62,1) -> 0
A63: 27 | E63: 4 | G63: =ROUND((F63*4)/E63,1) -> 0 | H63: =G63+G64 -> 0
E64: 4 | G64: =ROUND((F64*4)/E64,1) -> 0
A65: 28 | E65: 4 | G65: =ROUND((F65*4)/E65,1) -> 0 | H65: =G65+G66 -> 0
E66: 4 | G66: =ROUND((F66*4)/E66,1) -> 0
A67: 29 | E67: 4 | G67: =ROUND((F67*4)/E67,1) -> 0 | H67: =G67+G68 -> 0
E68: 4 | G68: =ROUND((F68*4)/E68,1) -> 0
A69: 30 | E69: 4 | G69: =ROUND((F69*4)/E69,1) -> 0 | H69: =G69+G70 -> 0
E70: 4 | G70: =ROUND((F70*4)/E70,1) -> 0
A71: 31 | E71: 4 | G71: =ROUND((F71*4)/E71,1) -> 0 | H71: =G71+G72 -> 0
E72: 4 | G72: =ROUND((F72*4)/E72,1) -> 0
A73: 32 | E73: 4 | G73: =ROUND((F73*4)/E73,1) -> 0 | H73: =G73+G74 -> 0
E74: 4 | G74: =ROUND((F74*4)/E74,1) -> 0
A75: 33 | E75: 4 | G75: =ROUND((F75*4)/E75,1) -> 0 | H75: =G75+G76 -> 0
E76: 4 | G76: =ROUND((F76*4)/E76,1) -> 0
A77: 34 | E77: 4 | G77: =ROUND((F77*4)/E77,1) -> 0 | H77: =G77+G78 -> 0
E78: 4 | G78: =ROUND((F78*4)/E78,1) -> 0
A79: 35 | E79: 4 | G79: =ROUND((F79*4)/E79,1) -> 0 | H79: =G79+G80 -> 0
E80: 4 | G80: =ROUND((F80*4)/E80,1) -> 0
A81: 36 | B81: Nguyễn Hữu | C81: Mạnh | E81: 4 | G81: =ROUND((F81*4)/E81,1) -> 0 | H81: =G81+G82 -> 0
E82: 4 | G82: =ROUND((F82*4)/E82,1) -> 0
A83: 4 | B83: Phan Anh | C83: Tuấn Kiệt | D83: Động cơ Xăng | E83: 2 | G83: =ROUND((F83*4)/E83,1) -> 0 | H83: =G83+G84 -> 0 | I83: 2 học kỳ
D84: Điện ô tô | E84: 4 | G84: =ROUND((F84*4)/E84,1) -> 0
A85: 5 | B85: Triệu Phú | C85: Nguyên | D85: Động cơ Dầu | E85: 4 | G85: =ROUND((F85*4)/E85,1) -> 0 | H85: =G85+G86 -> 0 | I85: 2 học kỳ
D86: Điện ô tô | E86: 4 | G86: =ROUND((F86*4)/E86,1) -> 0
A87: 6 | B87: Nguyễn Ngọc | C87: Phương | D87: Động cơ Dầu | E87: 4 | G87: =ROUND((F87*4)/E87,1) -> 0 | H87: =G87+G88 -> 0 | I87: 2 học kỳ
D88: Điện ô tô | E88: 4 | G88: =ROUND((F88*4)/E88,1) -> 0
A89: 40 | G89: =ROUND((F89*4)/E89,1) -> #DIV/0! | H89: =G89+G90 -> #DIV/0!
G90: =ROUND((F90*4)/E90,1) -> #DIV/0!
B91: 1/ Tính theo thông báo số 134/TB-LTT ngày 24/02/2014.
B92: Cột (6) = (cột (5) x 4) / cột 4
B93: 2/ Minh chứng nộp kèm: Kế hoạch phân công kiểm tra, chấm điểm theo tổ. | G93: Tp.HCM, Ngày tháng năm 2014
C94: Trưởng Khoa | G94: Người lập biểu

Sheet Mau B1.7
G1: Mẫu B1. 7
A2: ỦY BAN NHÂN DÂN TP.HCM | E2: CỘNG HÒA XÃ HỘI CHỦ NGHĨA VIỆT NAM
A3: TRƯỜNG CAO ĐẲNG KỸ THUẬT LÝ TỰ TRỌNG | E3: Độc lập - Tự do - Hạnh phúc
A5: BẢNG TỔNG HỢP CÁC CÔNG VIỆC KHÁC (NẾU CÓ)
A6: NĂM HỌC 2013 - 2014
A7: KHOA: ………………………….
A9: TT | B9: Họ và tên GV | D9: Nội dung công việc | E9: Số giờ được tính | F9: Tổng số gờ được tính | G9: Ghi chú
A10: 1 | E10: 8 | F10: =E10+E11 -> 23
E11: 15
A12: 2 | F12: =E12+E13 -> 0
A14: 3 | F14: =E14+E15 -> 0
A16: 4 | F16: =E16+E17 -> 0
A18: 5 | F18: =E18+E19 -> 0
A20: 6 | F20: =E20+E21 -> 0
A22: 7 | F22: =E22+E23 -> 0
A24: 8 | F24: =E24+E25 -> 0
A26: 9 | F26: =E26+E27 -> 0
A28: 10 | F28: =E28+E29 -> 0
A30: 11 | F30: =E30+E31 -> 0
A32: 12 | F32: =E32+E33 -> 0
A34: 13 | F34: =E34+E35 -> 0
... A38: 15 | F38: =E38+E39 -> 0
B40: Minh chứng nộp kèm: Văn bản được Hiệu trưởng duyệt.
E41: Tp.HCM, Ngày tháng năm 2014
C42: Trưởng Khoa | E42: Người lập biểu

Sheet Mau B2
L1: Mẫu B2
A2: ỦY BAN NHÂN DÂN TP.HCM | J2: CỘNG HÒA XÃ HỘI CHỦ NGHĨA VIỆT NAM
A3: TRƯỜNG CAO ĐẲNG KỸ THUẬT LÝ TỰ TRỌNG | J3: Độc lập - Tự do - Hạnh phúc
A6: BẢNG TỔNG HỢP CÁC MỤC KHỐI LƯỢNG CÔNG TÁC " HOẠT ĐỘNG CHUYÊN MÔN VÀ CÁC NHIỆM VỤ KHÁC" CỦA GIÁO VIÊN - GIẢNG VIÊN
A7: NĂM HỌC 2013 - 2014
A9: KHOA : ……………………………………………………………………………………...
A12: TT | B12: Họ và tên GV | D12: Mục 1 | E12: Mục 2 | F12: Mục 3 | G12: Mục 4 | H12: Mục 5 | I12: Mục 6 | J12: Mục 7 | K12: Tổng số giờ | L12: Ghi chú
A13: (1) | B13: (2) | D13: (3) | E13: (4) | F13: (5) | G13: (6) | H13: (7) | I13: (8) | J13: (9) | K13: (10) | L13: (11)
A14: 1 | B14: NGUYỄN NGỌC | C14: NHẬP | D14: ='Mau B1.1'!I11 -> 20 | E14: ='Mau B1.2'!I11 -> 4 | G14: ='Mau B1.4'!I11 -> 4 | H14: ='Mau B1.5'!H11 -> 28 | K14: =ROUND(D14+E14+F14+G14+H14+I14+J14,1) -> 56
A15: 2 | B15: TRẦN VĂN | C15: CHÍNH | D15: ='Mau B1.1'!I12 -> 20 | E15: ='Mau B1.2'!I12 -> 8 | G15: ='Mau B1.4'!I12 -> 0 | H15: ='Mau B1.5'!H12 -> 0 | K15: =ROUND(D15+E15+F15+G15+H15+I15+J15,1) -> 28
A16: 3 | B16: VÕ ĐẮC | C16: XÁC | D16: ='Mau B1.1'!I13 -> 20 | E16: ='Mau B1.2'!I13 -> 0 | G16: ='Mau B1.4'!I13 -> 0 | H16: ='Mau B1.5'!H13 -> 0 | K16: =ROUND(D16+E16+F16+G16+H16+I16+J16,1) -> 20
A17: 4 | B17: LÊ HỒNG | C17: THANH | D17: ='Mau B1.1'!I14 -> 20 | E17: ='Mau B1.2'!I14 -> 8 | G17: ='Mau B1.4'!I14 -> 0 | H17: ='Mau B1.5'!H14 -> 0 | K17: =ROUND(D17+E17+F17+G17+H17+I17+J17,1) -> 28
A18: 5 | B18: HOÀNG CÔNG | C18: TOÁN | D18: ='Mau B1.1'!I15 -> 20 | E18: ='Mau B1.2'!I15 -> 0 | G18: ='Mau B1.4'!I15 -> 0 | H18: ='Mau B1.5'!H15 -> 0 | K18: =ROUND(D18+E18+F18+G18+H18+I18+J18,1) -> 20
A19: 6 | B19: TRƯƠNG THỊ | C19: NHANH | D19: ='Mau B1.1'!I16 -> 20 | E19: ='Mau B1.2'!I59 -> 0 | G19: ='Mau B1.4'!I16 -> 0 | H19: ='Mau B1.5'!H16 -> 0 | K19: =ROUND(D19+E19+F19+G19+H19+I19+J19,1) -> 20
A20: 7 | D20: ='Mau B1.1'!I17 -> 20 | E20: ='Mau B1.2'!I17 -> 0 | G20: ='Mau B1.4'!I17 -> 0 | H20: ='Mau B1.5'!H17 -> 0 | K20: =ROUND(D20+E20+F20+G20+H20+I20+J20,1) -> 20
A21: 8 | D21: ='Mau B1.1'!I18 -> 20 | E21: ='Mau B1.2'!I18 -> 0 | G21: ='Mau B1.4'!I18 -> 0 | H21: ='Mau B1.5'!H18 -> 0 | K21: =ROUND(D21+E21+F21+G21+H21+I21+J21,1) -> 20
A22: 9 | D22: ='Mau B1.1'!I19 -> 20 | E22: ='Mau B1.2'!I19 -> 0 | G22: ='Mau B1.4'!I19 -> 0 | H22: ='Mau B1.5'!H19 -> 0 | K22: =ROUND(D22+E22+F22+G22+H22+I22+J22,1) -> 20
A23: 10 | D23: ='Mau B1.1'!I20 -> 20 | E23: ='Mau B1.2'!I20 -> 0 | G23: ='Mau B1.4'!I20 -> 0 | H23: ='Mau B1.5'!H20 -> 0 | K23: =ROUND(D23+E23+F23+G23+H23+I23+J23,1) -> 20
A24: 11 | D24: ='Mau B1.1'!I21 -> 20 | E24: ='Mau B1.2'!I64 -> 0 | G24: ='Mau B1.4'!I21 -> 0 | H24: ='Mau B1.5'!H21 -> 0 | K24: =ROUND(D24+E24+F24+G24+H24+I24+J24,1) -> 20
A25: 12 | D25: ='Mau B1.1'!I22 -> 20 | E25: ='Mau B1.2'!I22 -> 0 | G25: ='Mau B1.4'!I22 -> 0 | H25: ='Mau B1.5'!H22 -> 0 | K25: =ROUND(D25+E25+F25+G25+H25+I25+J25,1) -> 20
A26: 13 | D26: ='Mau B1.1'!I23 -> 20 | E26: ='Mau B1.2'!I23 -> 0 | G26: ='Mau B1.4'!I23 -> 0 | H26: ='Mau B1.5'!H23 -> 0 | K26: =ROUND(D26+E26+F26+G26+H26+I26+J26,1) -> 20
A27: 14 | D27: ='Mau B1.1'!I24 -> 20 | E27: ='Mau B1.2'!I24 -> 0 | G27: ='Mau B1.4'!I24 -> 0 | H27: ='Mau B1.5'!H24 -> 0 | K27: =ROUND(D27+E27+F27+G27+H27+I27+J27,1) -> 20
A28: 15 | D28: ='Mau B1.1'!I25 -> 20 | E28: ='Mau B1.2'!I25 -> 0 | G28: ='Mau B1.4'!I25 -> 0 | H28: ='Mau B1.5'!H25 -> 0 | K28: =ROUND(D28+E28+F28+G28+H28+I28+J28,1) -> 20
A29: 16 | D29: ='Mau B1.1'!I26 -> 20 | E29: ='Mau B1.2'!I69 -> 0 | G29: ='Mau B1.4'!I26 -> 0 | H29: ='Mau B1.5'!H26 -> 0 | K29: =ROUND(D29+E29+F29+G29+H29+I29+J29,1) -> 20
A30: 17 | D30: ='Mau B1.1'!I27 -> 20 | E30: ='Mau B1.2'!I27 -> 0 | G30: ='Mau B1.4'!I27 -> 0 | H30: ='Mau B1.5'!H27 -> 0 | K30: =ROUND(D30+E30+F30+G30+H30+I30+J30,1) -> 20
A31: 18 | D31: ='Mau B1.1'!I28 -> 20 | E31: ='Mau B1.2'!I28 -> 0 | G31: ='Mau B1.4'!I28 -> 0 | H31: ='Mau B1.5'!H28 -> 0 | K31: =ROUND(D31+E31+F31+G31+H31+I31+J31,1) -> 20
A32: 19 | D32: ='Mau B1.1'!I29 -> 20 | E32: ='Mau B1.2'!I29 -> 0 | G32: ='Mau B1.4'!I29 -> 0 | H32: ='Mau B1.5'!H29 -> 0 | K32: =ROUND(D32+E32+F32+G32+H32+I32+J32,1) -> 20
A33: 20 | D33: ='Mau B1.1'!I30 -> 20 | E33: ='Mau B1.2'!I30 -> 0 | G33: ='Mau B1.4'!I30 -> 0 | H33: ='Mau B1.5'!H30 -> 0 | K33: =ROUND(D33+E33+F33+G33+H33+I33+J33,1) -> 20
A34: 21 | D34: ='Mau B1.1'!I31 -> 20 | E34: ='Mau B1.2'!I74 -> 0 | G34: ='Mau B1.4'!I31 -> 0 | H34: ='Mau B1.5'!H31 -> 0 | K34: =ROUND(D34+E34+F34+G34+H34+I34+J34,1) -> 20
A35: 22 | D35: ='Mau B1.1'!I32 -> 20 | E35: ='Mau B1.2'!I32 -> 0 | G35: ='Mau B1.4'!I32 -> 0 | H35: ='Mau B1.5'!H32 -> 0 | K35: =ROUND(D35+E35+F35+G35+H35+I35+J35,1) -> 20
A36: 23 | D36: ='Mau B1.1'!I33 -> 20 | E36: ='Mau B1.2'!I33 -> 0 | G36: ='Mau B1.4'!I33 -> 0 | H36: ='Mau B1.5'!H33 -> 0 | K36: =ROUND(D36+E36+F36+G36+H36+I36+J36,1) -> 20
A37: 24 | D37: ='Mau B1.1'!I34 -> 20 | E37: ='Mau B1.2'!I34 -> 0 | G37: ='Mau B1.4'!I34 -> 0 | H37: ='Mau B1.5'!H34 -> 0 | K37: =ROUND(D37+E37+F37+G37+H37+I37+J37,1) -> 20
A38: 25 | D38: ='Mau B1.1'!I35 -> 20 | E38: ='Mau B1.2'!I35 -> 0 | G38: ='Mau B1.4'!I35 -> 0 | H38: ='Mau B1.5'!H35 -> 0 | K38: =ROUND(D38+E38+F38+G38+H38+I38+J38,1) -> 20
A39: 26 | D39: ='Mau B1.1'!I36 -> 20 | E39: ='Mau B1.2'!I79 -> 0 | G39: ='Mau B1.4'!I36 -> 0 | H39: ='Mau B1.5'!H36 -> 0 | K39: =ROUND(D39+E39+F39+G39+H39+I39+J39,1) -> 20
A40: 27 | D40: ='Mau B1.1'!I37 -> 20 | E40: ='Mau B1.2'!I37 -> 0 | G40: ='Mau B1.4'!I37 -> 0 | H40: ='Mau B1.5'!H37 -> 0 | K40: =ROUND(D40+E40+F40+G40+H40+I40+J40,1) -> 20
A41: 28 | D41: ='Mau B1.1'!I38 -> 20 | E41: ='Mau B1.2'!I38 -> 0 | G41: ='Mau B1.4'!I38 -> 0 | H41: ='Mau B1.5'!H38 -> 0 | K41: =ROUND(D41+E41+F41+G41+H41+I41+J41,1) -> 20
A42: 29 | D42: ='Mau B1.1'!I39 -> 20 | E42: ='Mau B1.2'!I39 -> 0 | G42: ='Mau B1.4'!I39 -> 0 | H42: ='Mau B1.5'!H39 -> 0 | K42: =ROUND(D42+E42+F42+G42+H42+I42+J42,1) -> 20
A43: 30 | D43: ='Mau B1.1'!I40 -> 20 | E43: ='Mau B1.2'!I40 -> 0 | G43: ='Mau B1.4'!I40 -> 0 | H43: ='Mau B1.5'!H40 -> 0 | K43: =ROUND(D43+E43+F43+G43+H43+I43+J43,1) -> 20
A44: 31 | D44: ='Mau B1.1'!I41 -> 20 | E44: ='Mau B1.2'!I84 -> 0 | G44: ='Mau B1.4'!I41 -> 0 | H44: ='Mau B1.5'!H41 -> 0 | K44: =ROUND(D44+E44+F44+G44+H44+I44+J44,1) -> 20
A45: 32 | D45: ='Mau B1.1'!I42 -> 20 | E45: ='Mau B1.2'!I42 -> 0 | G45: ='Mau B1.4'!I42 -> 0 | H45: ='Mau B1.5'!H42 -> 0 | K45: =ROUND(D45+E45+F45+G45+H45+I45+J45,1) -> 20
A46: 33 | D46: ='Mau B1.1'!I43 -> 20 | E46: ='Mau B1.2'!I43 -> 0 | G46: ='Mau B1.4'!I43 -> 0 | H46: ='Mau B1.5'!H43 -> 0 | K46: =ROUND(D46+E46+F46+G46+H46+I46+J46,1) -> 20
A47: 34 | D47: ='Mau B1.1'!I44 -> 20 | E47: ='Mau B1.2'!I44 -> 0 | G47: ='Mau B1.4'!I44 -> 0 | H47: ='Mau B1.5'!H44 -> 0 | K47: =ROUND(D47+E47+F47+G47+H47+I47+J47,1) -> 20
A48: 35 | D48: ='Mau B1.1'!I45 -> 20 | E48: ='Mau B1.2'!I45 -> 0 | G48: ='Mau B1.4'!I45 -> 0 | H48: ='Mau B1.5'!H45 -> 0 | K48: =ROUND(D48+E48+F48+G48+H48+I48+J48,1) -> 20
A49: 36 | D49: ='Mau B1.1'!I46 -> 20 | E49: ='Mau B1.2'!I89 -> 0 | G49: ='Mau B1.4'!I46 -> 0 | H49: ='Mau B1.5'!H46 -> 0 | K49: =ROUND(D49+E49+F49+G49+H49+I49+J49,1) -> 20
A50: 37 | D50: ='Mau B1.1'!I47 -> 20 | E50: ='Mau B1.2'!I47 -> 0 | G50: ='Mau B1.4'!I47 -> 0 | H50: ='Mau B1.5'!H47 -> 0 | K50: =ROUND(D50+E50+F50+G50+H50+I50+J50,1) -> 20
A51: 38 | D51: ='Mau B1.1'!I48 -> 20 | E51: ='Mau B1.2'!I48 -> 0 | G51: ='Mau B1.4'!I48 -> 0 | H51: ='Mau B1.5'!H48 -> 0 | K51: =ROUND(D51+E51+F51+G51+H51+I51+J51,1) -> 20
A52: 39 | D52: ='Mau B1.1'!I49 -> 20 | E52: ='Mau B1.2'!I49 -> 0 | G52: ='Mau B1.4'!I49 -> 0 | H52: ='Mau B1.5'!H49 -> 0 | K52: =ROUND(D52+E52+F52+G52+H52+I52+J52,1) -> 20
A53: 40 | D53: ='Mau B1.1'!I50 -> 20 | E53: ='Mau B1.2'!I50 -> 0 | G53: ='Mau B1.4'!I50 -> 0 | H53: ='Mau B1.5'!H50 -> 0 | K53: =ROUND(D53+E53+F53+G53+H53+I53+J53,1) -> 20
A54: 41 | D54: ='Mau B1.1'!I51 -> 20 | E54: ='Mau B1.2'!I94 -> 0 | G54: ='Mau B1.4'!I51 -> 0 | H54: ='Mau B1.5'!H51 -> 0 | K54: =ROUND(D54+E54+F54+G54+H54+I54+J54,1) -> 20
A55: 42 | D55: ='Mau B1.1'!I52 -> 20 | E55: ='Mau B1.2'!I52 -> 0 | G55: ='Mau B1.4'!I52 -> 0 | H55: ='Mau B1.5'!H52 -> 0 | K55: =ROUND(D55+E55+F55+G55+H55+I55+J55,1) -> 20
A56: 43 | D56: ='Mau B1.1'!I53 -> 20 | E56: ='Mau B1.2'!I53 -> 0 | G56: ='Mau B1.4'!I53 -> 0 | H56: ='Mau B1.5'!H53 -> 0 | K56: =ROUND(D56+E56+F56+G56+H56+I56+J56,1) -> 20
A57: 44 | D57: ='Mau B1.1'!I54 -> 20 | E57: ='Mau B1.2'!I54 -> 0 | G57: ='Mau B1.4'!I54 -> 0 | H57: ='Mau B1.5'!H54 -> 0 | K57: =ROUND(D57+E57+F57+G57+H57+I57+J57,1) -> 20
A58: 45 | D58: ='Mau B1.1'!I55 -> 20 | E58: ='Mau B1.2'!I55 -> 0 | G58: ='Mau B1.4'!I55 -> 0 | H58: ='Mau B1.5'!H55 -> 0 | K58: =ROUND(D58+E58+F58+G58+H58+I58+J58,1) -> 20
A59: 46 | D59: ='Mau B1.1'!I56 -> 20 | E59: ='Mau B1.2'!I99 -> 0 | G59: ='Mau B1.4'!I56 -> 0 | H59: ='Mau B1.5'!H56 -> 0 | K59: =ROUND(D59+E59+F59+G59+H59+I59+J59,1) -> 20
A60: 47 | D60: ='Mau B1.1'!I57 -> 20 | E60: ='Mau B1.2'!I57 -> 0 | G60: ='Mau B1.4'!I57 -> 0 | H60: ='Mau B1.5'!H57 -> 0 | K60: =ROUND(D60+E60+F60+G60+H60+I60+J60,1) -> 20
A61: 48 | D61: ='Mau B1.1'!I58 -> 20 | E61: ='Mau B1.2'!I58 -> 0 | G61: ='Mau B1.4'!I58 -> 0 | H61: ='Mau B1.5'!H58 -> 0 | K61: =ROUND(D61+E61+F61+G61+H61+I61+J61,1) -> 20
A62: 49 | D62: ='Mau B1.1'!I59 -> 20 | E62: ='Mau B1.2'!I59 -> 0 | G62: ='Mau B1.4'!I59 -> 0 | H62: ='Mau B1.5'!H59 -> 0 | K62: =ROUND(D62+E62+F62+G62+H62+I62+J62,1) -> 20
A63: 50 | D63: ='Mau B1.1'!I60 -> 20 | E63: ='Mau B1.2'!I60 -> 0 | G63: ='Mau B1.4'!I60 -> 0 | H63: ='Mau B1.5'!H60 -> 0 | K63: =ROUND(D63+E63+F63+G63+H63+I63+J63,1) -> 20
A64: TỔNG CỘNG | D64: =SUM(D14:D63) -> 1000 | E64: =SUM(E14:E63) -> 20 | F64: =SUM(F14:F63) -> 0 | G64: =SUM(G14:G63) -> 4 | H64: =SUM(H14:H63) -> 28 | I64: =SUM(I14:I63) -> 0 | J64: =SUM(J14:J63) -> 0 | K64: =SUM(K14:K63) -> 1052
B66: Cột (3): chuyển số liệu từ bảng B1.1 | J66: Tp. HCM, ngày ……. tháng …... năm 2014
B67: Cột (4): chuyển số liệu từ bảng B1.2 | J67: TRƯỞNG KHOA
B68: Cột (5): chuyển số liệu từ bảng B1.3.1 và B1.3.2
B69: Cột (6): chuyển số liệu từ bảng B1.4
B70: Cột (7): chuyển số liệu từ bảng B1.5
B71: Cột (8): chuyển số liệu từ bảng B1.6
B72: Cột (9): chuyển số liệu từ bảng B1.7

Sheet Mau B3
J1: Mẫu B3
A2: ỦY BAN NHÂN DÂN TP.HCM | H2: CỘNG HÒA XÃ HỘI CHỦ NGHĨA VIỆT NAM
A3: TRƯỜNG CAO ĐẲNG KỸ THUẬT LÝ TỰ TRỌNG | H3: Độc lập - Tự do - Hạnh phúc
A6: BẢNG TỔNG KẾT KHỐI LƯỢNG CÔNG TÁC " HOẠT ĐỘNG CHUYÊN MÔN VÀ CÁC NHIỆM VỤ KHÁC" CỦA GIÁO VIÊN - GIẢNG VIÊN
A7: NĂM HỌC 2013 - 2014
A8: KHOA : ……………………………………………………………………………………...
A10: TT | B10: Họ và Tên | D10: Tổng số giờ thực hiện cả năm | E10: Chuẩn giờ thực hiện quy định cả năm | F10: Tổng số giờ thực hiện thừa | G10: Tổng số giờ thực hiện thiếu | H10: Tổng số tiết quy đổi thừa | I10: Tổng số tiết quy đổi thiếu | J10: GHI CHÚ
A12: (1) | B12: (2) | D12: (3) | E12: (4) | F12: (5) | G12: (6) | H12: (7) | I12: (8) | J12: (9)
A13: 1 | B13: NGUYỄN NGỌC | C13: NHẬP | D13: ='Mau B2'!K14 -> 56 | E13: 360 | F13: =IF(D13>E13,D13-E13," ") | G13: =IF(D13<E13,E13-D13," ") -> 304 | H13: =ROUND(IF(D13>E13,IF(E13=360,F13/3.2,IF(E13=260,F13/2.8," ")),"0"),1) -> 0 | I13: =ROUND(IF(E13>D13,IF(E13=360,G13/3.2,IF(E13=260,G13/2.8," ")),"0"),1) -> 95 | J13: Giảng viên
A14: 2 | B14: TRẦN VĂN | C14: CHÍNH | D14: ='Mau B2'!K15 -> 28 | E14: 260 | F14: =IF(D14>E14,D14-E14," ") | G14: =IF(D14<E14,E14-D14," ") -> 232 | H14: =ROUND(IF(D14>E14,IF(E14=360,F14/3.2,IF(E14=260,F14/2.8," ")),"0"),1) -> 0 | I14: =ROUND(IF(E14>D14,IF(E14=360,G14/3.2,IF(E14=260,G14/2.8," ")),"0"),1) -> 82.9 | J14: Giảng viên chính
A15: 3 | B15: VÕ ĐẮC | C15: XÁC | D15: ='Mau B2'!K16 -> 20 | E15: 260 | F15: =IF(D15>E15,D15-E15," ") | G15: =IF(D15<E15,E15-D15," ") -> 240 | H15: =ROUND(IF(D15>E15,IF(E15=360,F15/3.2,IF(E15=260,F15/2.8," ")),"0"),1) -> 0 | I15: =ROUND(IF(E15>D15,IF(E15=360,G15/3.2,IF(E15=260,G15/2.8," ")),"0"),1) -> 85.7 | J15: "
A16: 4 | B16: LÊ HỒNG | C16: THANH | D16: ='Mau B2'!K17 -> 28 | E16: 360 | F16: =IF(D16>E16,D16-E16," ") | G16: =IF(D16<E16,E16-D16," ") -> 332 | H16: =ROUND(IF(D16>E16,IF(E16=360,F16/3.2,IF(E16=260,F16/2.8," ")),"0"),1) -> 0 | I16: =ROUND(IF(E16>D16,IF(E16=360,G16/3.2,IF(E16=260,G16/2.8," ")),"0"),1) -> 103.8 | J16: Giảng viên
A17: 5 | B17: HOÀNG CÔNG | C17: TOÁN | D17: ='Mau B2'!K18 -> 20 | E17: 260 | F17: =IF(D17>E17,D17-E17," ") | G17: =IF(D17<E17,E17-D17," ") -> 240 | H17: =ROUND(IF(D17>E17,IF(E17=360,F17/3.2,IF(E17=260,F17/2.8," ")),"0"),1) -> 0 | I17: =ROUND(IF(E17>D17,IF(E17=360,G17/3.2,IF(E17=260,G17/2.8," ")),"0"),1) -> 85.7 | J17: Giảng viên chính
A18: 6 | B18: TRƯƠNG THỊ | C18: NHANH | D18: ='Mau B2'!K19 -> 20 | E18: 360 | F18: =IF(D18>E18,D18-E18," ") | G18: =IF(D18<E18,E18-D18," ") -> 340 | H18: =ROUND(IF(D18>E18,IF(E18=360,F18/3.2,IF(E18=260,F18/2.8," ")),"0"),1) -> 0 | I18: =ROUND(IF(E18>D18,IF(E18=360,G18/3.2,IF(E18=260,G18/2.8," ")),"0"),1) -> 106.3 | J18: Giảng viên
A19: 7 | D19: ='Mau B2'!K20 -> 20 | E19: 260 | F19: =IF(D19>E19,D19-E19," ") | G19: =IF(D19<E19,E19-D19," ") -> 240 | H19: =ROUND(IF(D19>E19,IF(E19=360,F19/3.2,IF(E19=260,F19/2.8," ")),"0"),1) -> 0 | I19: =ROUND(IF(E19>D19,IF(E19=360,G19/3.2,IF(E19=260,G19/2.8," ")),"0"),1) -> 85.7
A20: 8 | D20: ='Mau B2'!K21 -> 20 | E20: 260 | F20: =IF(D20>E20,D20-E20," ") | G20: =IF(D20<E20,E20-D20," ") -> 240 | H20: =ROUND(IF(D20>E20,IF(E20=360,F20/3.2,IF(E20=260,F20/2.8," ")),"0"),1) -> 0 | I20: =ROUND(IF(E20>D20,IF(E20=360,G20/3.2,IF(E20=260,G20/2.8," ")),"0"),1) -> 85.7
A21: 9 | D21: ='Mau B2'!K22 -> 20 | E21: 360 | F21: =IF(D21>E21,D21-E21," ") | G21: =IF(D21<E21,E21-D21," ") -> 340 | H21: =ROUND(IF(D21>E21,IF(E21=360,F21/3.2,IF(E21=260,F21/2.8," ")),"0"),1) -> 0 | I21: =ROUND(IF(E21>D21,IF(E21=360,G21/3.2,IF(E21=260,G21/2.8," ")),"0"),1) -> 106.3
A22: 10 | D22: ='Mau B2'!K23 -> 20 | E22: 260 | F22: =IF(D22>E22,D22-E22," ") | G22: =IF(D22<E22,E22-D22," ") -> 240 | H22: =ROUND(IF(D22>E22,IF(E22=360,F22/3.2,IF(E22=260,F22/2.8," ")),"0"),1) -> 0 | I22: =ROUND(IF(E22>D22,IF(E22=360,G22/3.2,IF(E22=260,G22/2.8," ")),"0"),1) -> 85.7
A23: 11 | D23: ='Mau B2'!K24 -> 20 | E23: 360 | F23: =IF(D23>E23,D23-E23," ") | G23: =IF(D23<E23,E23-D23," ") -> 340 | H23: =ROUND(IF(D23>E23,IF(E23=360,F23/3.2,IF(E23=260,F23/2.8," ")),"0"),1) -> 0 | I23: =ROUND(IF(E23>D23,IF(E23=360,G23/3.2,IF(E23=260,G23/2.8," ")),"0"),1) -> 106.3
A24: 12 | D24: ='Mau B2'!K25 -> 20 | E24: 260 | F24: =IF(D24>E24,D24-E24," ") | G24: =IF(D24<E24,E24-D24," ") -> 240 | H24: =ROUND(IF(D24>E24,IF(E24=360,F24/3.2,IF(E24=260,F24/2.8," ")),"0"),1) -> 0 | I24: =ROUND(IF(E24>D24,IF(E24=360,G24/3.2,IF(E24=260,G24/2.8," ")),"0"),1) -> 85.7
A25: 13 | D25: ='Mau B2'!K26 -> 20 | E25: 260 | F25: =IF(D25>E25,D25-E25," ") | G25: =IF(D25<E25,E25-D25," ") -> 240 | H25: =ROUND(IF(D25>E25,IF(E25=360,F25/3.2,IF(E25=260,F25/2.8," ")),"0"),1) -> 0 | I25: =ROUND(IF(E25>D25,IF(E25=360,G25/3.2,IF(E25=260,G25/2.8," ")),"0"),1) -> 85.7
A26: 14 | D26: ='Mau B2'!K27 -> 20 | E26: 360 | F26: =IF(D26>E26,D26-E26," ") | G26: =IF(D26<E26,E26-D26," ") -> 340 | H26: =ROUND(IF(D26>E26,IF(E26=360,F26/3.2,IF(E26=260,F26/2.8," ")),"0"),1) -> 0 | I26: =ROUND(IF(E26>D26,IF(E26=360,G26/3.2,IF(E26=260,G26/2.8," ")),"0"),1) -> 106.3
