Workbook

Sheet Mau A2 P Bảo
N1: Mẫu A2
C2: ỦY BAN NHÂN DÂN TP.HCM | J2: CỘNG HÒA XÃ HỘI CHỦ NGHĨA VIỆT NAM
C3: TRƯỜNG CĐ KỸ THUẬT LÝ TỰ TRỌNG | J3: Độc lập - Tự do - Hạnh phúc
A5: BẢNG KÊ KHỐI LƯỢNG CÔNG TÁC GIẢNG DẠY CỦA GIÁO VIÊN - GIẢNG VIÊN
A6: TRONG HỌC KỲ 2 - NĂM HỌC 2013 - 2014
B7: Họ và tên giáo viên : | D7: Hoàng | E7: Phúc Bảo | H7: Tổ : | I7: Điện ô tô | L7: Khoa : | M7: Động Lực
M8: (Đơn vị tính : tiết)
A10: TT | B10: Từ ngày ……. tháng ….. đến ngày ……. tháng ….. | C10: Số tuần thực dạy | D10: Môn dạy | E10: Lớp dạy | J10: Thực hiện | N10: Ghi chú
F11: Thực Giảng dạy | K11: Kiêm nhiệm | L11: Khối lượng công tác cộng thêm | M11: Tổng thực hiện
F12: Chưa nhân hệ số | H12: Tổng hệ số | J12: Quy đổi và đã nhân hệ số
F13: LT | G13: TH | H13: LT | I13: TH
A14: (1) | B14: (2) | C14: (3) | D14: (4) | E14: (5) | F14: (6) | G14: (7) | H14: (8) | I14: (9) | J14: (10) | K14: (11) | L14: (12) | M14: (13) | N14: (14)
A15: 1 | B15: 13/2-5/4/2014 | C15: 9 | D15: TT điện ô tô 2 | E15: 11CĐ Ô7 (N2) | G15: 90 | I15: 1 | J15: =ROUND(IF(F15>0,F15*H15,"0")+IF(G15>0,(G15/1.5)*I15,"0"),1) -> 60 | M15: =ROUND(J15+K15+L15,1) -> 60
A16: 2 | B16: 10/3-19/4/2014 | C16: 6 | D16: TTHT điện thân xe | E16: 12TC Ô | G16: 120 | I16: 1 | J16: =ROUND(IF(F16>0,F16*H16,"0")+IF(G16>0,(G16/1.5)*I16,"0"),1) -> 80 | M16: =ROUND(J16+K16+L16,1) -> 80
A17: 3 | D17: GVCN lớp 12CĐ Ô2 | J17: =ROUND(IF(F17>0,F17*H17,"0")+IF(G17>0,(G17/1.5)*I17,"0"),1) -> 0 | K17: =15%*130 -> 19.5 | M17: =ROUND(J17+K17+L17,1) -> 19.5
A18: 4 | D18: TT động cơ 1 | E18: 12CĐ Ô2 | G18: 6 | I18: 1 | J18: =ROUND(IF(F18>0,F18*H18,"0")+IF(G18>0,(G18/1.5)*I18,"0"),1) -> 4 | M18: =ROUND(J18+K18+L18,1) -> 4 | N18: Dạy thay thầy Nguyên ngày 22/5
D19: TT động cơ 1 | E19: 12CĐ Ô2 N1 | G19: 90 | I19: 1 | J19: =ROUND(IF(F19>0,F19*H19,"0")+IF(G19>0,(G19/1.5)*I19,"0"),1) -> 60 | M19: =ROUND(J19+K19+L19,1) -> 60
A20: 6 | J20: =ROUND(IF(F20>0,F20*H20,"0")+IF(G20>0,(G20/1.5)*I20,"0"),1) -> 0 | M20: =ROUND(J20+K20+L20,1) -> 0
A21: 7 | J21: =ROUND(IF(F21>0,F21*H21,"0")+IF(G21>0,(G21/1.5)*I21,"0"),1) -> 0 | M21: =ROUND(J21+K21+L21,1) -> 0
A22: 8 | J22: =ROUND(IF(F22>0,F22*H22,"0")+IF(G22>0,(G22/1.5)*I22,"0"),1) -> 0 | M22: =ROUND(J22+K22+L22,1) -> 0
A23: 9 | J23: =ROUND(IF(F23>0,F23*H23,"0")+IF(G23>0,(G23/1.5)*I23,"0"),1) -> 0 | M23: =ROUND(J23+K23+L23,1) -> 0
A24: 10 | J24: =ROUND(IF(F24>0,F24*H24,"0")+IF(G24>0,(G24/1.5)*I24,"0"),1) -> 0 | M24: =ROUND(J24+K24+L24,1) -> 0
A25: 11 | J25: =ROUND(IF(F25>0,F25*H25,"0")+IF(G25>0,(G25/1.5)*I25,"0"),1) -> 0 | M25: =ROUND(J25+K25+L25,1) -> 0
A26: 12 | J26: =ROUND(IF(F26>0,F26*H26,"0")+IF(G26>0,(G26/1.5)*I26,"0"),1) -> 0 | M26: =ROUND(J26+K26+L26,1) -> 0
A27: 13 | J27: =ROUND(IF(F27>0,F27*H27,"0")+IF(G27>0,(G27/1.5)*I27,"0"),1) -> 0 | M27: =ROUND(J27+K27+L27,1) -> 0
A28: 14 | J28: =ROUND(IF(F28>0,F28*H28,"0")+IF(G28>0,(G28/1.5)*I28,"0"),1) -> 0 | M28: =ROUND(J28+K28+L28,1) -> 0
A29: 15 | J29: =ROUND(IF(F29>0,F29*H29,"0")+IF(G29>0,(G29/1.5)*I29,"0"),1) -> 0 | M29: =ROUND(J29+K29+L29,1) -> 0
A30: 16 | J30: =ROUND(IF(F30>0,F30*H30,"0")+IF(G30>0,(G30/1.5)*I30,"0"),1) -> 0 | M30: =ROUND(J30+K30+L30,1) -> 0
A31: 17 | J31: =ROUND(IF(F31>0,F31*H31,"0")+IF(G31>0,(G31/1.5)*I31,"0"),1) -> 0 | M31: =ROUND(J31+K31+L31,1) -> 0
... A34: 20 | J34: =ROUND(IF(F34>0,F34*H34,"0")+IF(G34>0,(G34/1.5)*I34,"0"),1) -> 0 | M34: =ROUND(J34+K34+L34,1) -> 0
A35: TỔNG CỘNG (theo tiết) | F35: =SUM(F15:F34) -> 0 | G35: =SUM(G15:G34) -> 306 | J35: =SUM(J15:J34) -> 204 | K35: =SUM(K15:K34) -> 19.5 | L35: =SUM(L15:L34) -> 0 | M35: =SUM(M15:M34) -> 223.5
M36: Ngày ……. tháng …... năm 2014
C37: TRƯỞNG KHOA | H37: TRƯỞNG TỔ | M37: GV
B43: NGUYỄN NGỌC PHƯƠNG | F43: TRIỆU PHÚ NGUYÊN | L43: HOÀNG PHÚC BẢO

Sheet Mau A1 P Bảo
N1: Mẫu A1
C2: ỦY BAN NHÂN DÂN TP.HCM | J2: CỘNG HÒA XÃ HỘI CHỦ NGHĨA VIỆT NAM
C3: TRƯỜNG CĐ KỸ THUẬT LÝ TỰ TRỌNG | J3: Độc lập - Tự do - Hạnh phúc
A5: BẢNG KÊ KHỐI LƯỢNG CÔNG TÁC GIẢNG DẠY CỦA GIÁO VIÊN - GIẢNG VIÊN
A6: TRONG HỌC KỲ 1 - NĂM HỌC 2013 - 2014
B7: Họ và tên giáo viên : | D7: Hoàng | E7: Phúc Bảo | H7: Tổ : | I7: Động cơ xăng | L7: Khoa : | M7: Động Lực
M8: (Đơn vị tính : tiết)
A10: TT | B10: Từ ngày ……. tháng ….. đến ngày ……. tháng ….. | C10: Số tuần thực dạy | D10: Môn dạy | E10: Lớp dạy | J10: Thực hiện | N10: Ghi chú
F11: Thực Giảng dạy | K11: Kiêm nhiệm | L11: Khối lượng công tác cộng thêm | M11: Tổng thực hiện
F12: Chưa nhân hệ số | H12: Tổng hệ số | J12: Quy đổi và đã nhân hệ số
F13: LT | G13: TH | H13: LT | I13: TH
A14: (1) | B14: (2) | C14: (3) | D14: (4) | E14: (5) | F14: (6) | G14: (7) | H14: (8) | I14: (9) | J14: (10) | K14: (11) | L14: (12) | M14: (13) | N14: (14)
A15: 1 | B15: 9/9-21/12/2013 | C15: 15 | D15: TT đcơ xăng | E15: 11CĐÔ1 (N1) | G15: 90 | I15: 1 | J15: =ROUND(IF(F15>0,F15*H15,"0")+IF(G15>0,(G15/1.5)*I15,"0"),1) -> 60 | M15: =ROUND(J15+K15+L15,1) -> 60
A16: 2 | B16: 9/9-21/12/2013 | C16: 15 | D16: TT đcơ xăng | E16: 11CĐÔ6 (N1) | G16: 90 | I16: 1 | J16: =ROUND(IF(F16>0,F16*H16,"0")+IF(G16>0,(G16/1.5)*I16,"0"),1) -> 60 | M16: =ROUND(J16+K16+L16,1) -> 60
A17: 3 | B17: 23/9-14/12/2013 | C17: 12 | D17: TT đcơ đốt trong | E17: 12TCÔ (N2) | G17: 90 | I17: 1 | J17: =ROUND(IF(F17>0,F17*H17,"0")+IF(G17>0,(G17/1.5)*I17,"0"),1) -> 60 | M17: =ROUND(J17+K17+L17,1) -> 60
A18: 4 | D18: Ô tô 1 | E18: 11CĐ Ô5 | F18: 5 | H18: 1 | J18: =ROUND(IF(F18>0,F18*H18,"0")+IF(G18>0,(G18/1.5)*I18,"0"),1) -> 5 | M18: =ROUND(J18+K18+L18,1) -> 5 | N18: Dạy thay thầy Kiệt ngày 13/12
A19: 5 | D19: TT đcơ đốt trong | E19: 12TC Ô(N1) | G19: 5 | I19: 1 | J19: =ROUND(IF(F19>0,F19*H19,"0")+IF(G19>0,(G19/1.5)*I19,"0"),1) -> 3.3 | M19: =ROUND(J19+K19+L19,1) -> 3.3 | N19: Dạy thay thầy Nguyên ngày 28/12
A20: 6 | J20: =ROUND(IF(F20>0,F20*H20,"0")+IF(G20>0,(G20/1.5)*I20,"0"),1) -> 0 | M20: =ROUND(J20+K20+L20,1) -> 0
A21: 7 | J21: =ROUND(IF(F21>0,F21*H21,"0")+IF(G21>0,(G21/1.5)*I21,"0"),1) -> 0 | M21: =ROUND(J21+K21+L21,1) -> 0
A22: 8 | J22: =ROUND(IF(F22>0,F22*H22,"0")+IF(G22>0,(G22/1.5)*I22,"0"),1) -> 0 | M22: =ROUND(J22+K22+L22,1) -> 0
A23: 9 | J23: =ROUND(IF(F23>0,F23*H23,"0")+IF(G23>0,(G23/1.5)*I23,"0"),1) -> 0 | M23: =ROUND(J23+K23+L23,1) -> 0
A24: 10 | J24: =ROUND(IF(F24>0,F24*H24,"0")+IF(G24>0,(G24/1.5)*I24,"0"),1) -> 0 | M24: =ROUND(J24+K24+L24,1) -> 0
A25: 11 | J25: =ROUND(IF(F25>0,F25*H25,"0")+IF(G25>0,(G25/1.5)*I25,"0"),1) -> 0 | M25: =ROUND(J25+K25+L25,1) -> 0
A26: 12 | J26: =ROUND(IF(F26>0,F26*H26,"0")+IF(G26>0,(G26/1.5)*I26,"0"),1) -> 0 | M26: =ROUND(J26+K26+L26,1) -> 0
A27: 13 | J27: =ROUND(IF(F27>0,F27*H27,"0")+IF(G27>0,(G27/1.5)*I27,"0"),1) -> 0 | M27: =ROUND(J27+K27+L27,1) -> 0
A28: 14 | J28: =ROUND(IF(F28>0,F28*H28,"0")+IF(G28>0,(G28/1.5)*I28,"0"),1) -> 0 | M28: =ROUND(J28+K28+L28,1) -> 0
A29: 15 | J29: =ROUND(IF(F29>0,F29*H29,"0")+IF(G29>0,(G29/1.5)*I29,"0"),1) -> 0 | M29: =ROUND(J29+K29+L29,1) -> 0
A30: 16 | J30: =ROUND(IF(F30>0,F30*H30,"0")+IF(G30>0,(G30/1.5)*I30,"0"),1) -> 0 | M30: =ROUND(J30+K30+L30,1) -> 0
A31: 17 | J31: =ROUND(IF(F31>0,F31*H31,"0")+IF(G31>0,(G31/1.5)*I31,"0"),1) -> 0 | M31: =ROUND(J31+K31+L31,1) -> 0
... A34: 20 | J34: =ROUND(IF(F34>0,F34*H34,"0")+IF(G34>0,(G34/1.5)*I34,"0"),1) -> 0 | M34: =ROUND(J34+K34+L34,1) -> 0
A35: TỔNG CỘNG (theo tiết) | F35: =SUM(F15:F34) -> 5 | G35: =SUM(G15:G34) -> 275 | J35: =SUM(J15:J34) -> 188.3 | K35: =SUM(K15:K34) -> 0 | L35: =SUM(L15:L34) -> 0 | M35: =SUM(M15:M34) -> 188.3
M36: Ngày ……. tháng …... năm 2014
C37: TRƯỞNG KHOA | H37: TRƯỞNG TỔ | M37: GV
B43: NGUYỄN NGỌC PHƯƠNG | F43: TRIỆU PHÚ NGUYÊN | L43: HOÀNG PHÚC BẢO

Sheet Mau A2 Đức
N1: Mẫu A2
C2: ỦY BAN NHÂN DÂN TP.HCM | J2: CỘNG HÒA XÃ HỘI CHỦ NGHĨA VIỆT NAM
C3: TRƯỜNG CĐ KỸ THUẬT LÝ TỰ TRỌNG | J3: Độc lập - Tự do - Hạnh phúc
A5: BẢNG KÊ KHỐI LƯỢNG CÔNG TÁC GIẢNG DẠY CỦA GIÁO VIÊN - GIẢNG VIÊN
A6: TRONG HỌC KỲ 2 - NĂM HỌC 2013 - 2014
B7: Họ và tên giáo viên : | D7: Nguyễn Thành | E7: Đức | H7: Tổ : | I7: Điện Ô tô | L7: Khoa : | M7: Động Lực
M8: (Đơn vị tính : tiết)
A10: TT | B10: Từ ngày ……. tháng ….. đến ngày ……. tháng ….. | C10: Số tuần thực dạy | D10: Môn dạy | E10: Lớp dạy | J10: Thực hiện | N10: Ghi chú
F11: Thực Giảng dạy | K11: Kiêm nhiệm | L11: Khối lượng công tác cộng thêm | M11: Tổng thực hiện
F12: Chưa nhân hệ số | H12: Tổng hệ số | J12: Quy đổi và đã nhân hệ số
F13: LT | G13: TH | H13: LT | I13: TH
A14: (1) | B14: (2) | C14: (3) | D14: (4) | E14: (5) | F14: (6) | G14: (7) | H14: (8) | I14: (9) | J14: (10) | K14: (11) | L14: (12) | M14: (13) | N14: (14)
A15: 1 | B15: 13/1/2014-5/4/2014 | C15: 9 | D15: Thực tập điện ô tô 2 | E15: 11CĐ Ô2 (N1) | G15: 90 | I15: 1 | J15: =ROUND(IF('Mau A1 Đức'!F15>0,'Mau A1 Đức'!F15*'Mau A1 Đức'!H15,"0")+IF('Mau A1 Đức'!G15>0,('Mau A1 Đức'!G15/1.5)*'Mau A1 Đức'!I15,"0"),1) -> 60 | M15: =ROUND(J15+K15+L15,1) -> 60
A16: 2 | B16: 13/1/2014-5/4/2014 | C16: 9 | D16: Thực tập điện ô tô 2 | E16: 11CĐ Ô5 (N2) | G16: 90 | I16: 1 | J16: =ROUND(IF('Mau A1 Đức'!F16>0,'Mau A1 Đức'!F16*'Mau A1 Đức'!H16,"0")+IF('Mau A1 Đức'!G16>0,('Mau A1 Đức'!G16/1.5)*'Mau A1 Đức'!I16,"0"),1) -> 60 | M16: =ROUND(J16+K16+L16,1) -> 60
A17: 3 | D17: Ôn thi TN khóa 12TC Ô | F17: 10 | H17: 1 | J17: =ROUND(IF(F17>0,F17*H17,"0")+IF(G17>0,(G17/1.5)*I17,"0"),1) -> 10 | M17: =ROUND(J17+K17+L17,1) -> 10
A18: 4 | J18: =ROUND(IF(F18>0,F18*H18,"0")+IF(G18>0,(G18/1.5)*I18,"0"),1) -> 0 | M18: =ROUND(J18+K18+L18,1) -> 0
J19: =ROUND(IF(F19>0,F19*H19,"0")+IF(G19>0,(G19/1.5)*I19,"0"),1) -> 0 | M19: =ROUND(J19+K19+L19,1) -> 0
A20: 6 | J20: =ROUND(IF(F20>0,F20*H20,"0")+IF(G20>0,(G20/1.5)*I20,"0"),1) -> 0 | M20: =ROUND(J20+K20+L20,1) -> 0
A21: 7 | J21: =ROUND(IF(F21>0,F21*H21,"0")+IF(G21>0,(G21/1.5)*I21,"0"),1) -> 0 | M21: =ROUND(J21+K21+L21,1) -> 0
A22: 8 | J22: =ROUND(IF(F22>0,F22*H22,"0")+IF(G22>0,(G22/1.5)*I22,"0"),1) -> 0 | M22: =ROUND(J22+K22+L22,1) -> 0
A23: 9 | J23: =ROUND(IF(F23>0,F23*H23,"0")+IF(G23>0,(G23/1.5)*I23,"0"),1) -> 0 | M23: =ROUND(J23+K23+L23,1) -> 0
A24: 10 | J24: =ROUND(IF(F24>0,F24*H24,"0")+IF(G24>0,(G24/1.5)*I24,"0"),1) -> 0 | M24: =ROUND(J24+K24+L24,1) -> 0
A25: 11 | J25: =ROUND(IF(F25>0,F25*H25,"0")+IF(G25>0,(G25/1.5)*I25,"0"),1) -> 0 | M25: =ROUND(J25+K25+L25,1) -> 0
A26: 12 | J26: =ROUND(IF(F26>0,F26*H26,"0")+IF(G26>0,(G26/1.5)*I26,"0"),1) -> 0 | M26: =ROUND(J26+K26+L26,1) -> 0
A27: 13 | J27: =ROUND(IF(F27>0,F27*H27,"0")+IF(G27>0,(G27/1.5)*I27,"0"),1) -> 0 | M27: =ROUND(J27+K27+L27,1) -> 0
A28: 14 | J28: =ROUND(IF(F28>0,F28*H28,"0")+IF(G28>0,(G28/1.5)*I28,"0"),1) -> 0 | M28: =ROUND(J28+K28+L28,1) -> 0
A29: 15 | J29: =ROUND(IF(F29>0,F29*H29,"0")+IF(G29>0,(G29/1.5)*I29,"0"),1) -> 0 | M29: =ROUND(J29+K29+L29,1) -> 0
A30: 16 | J30: =ROUND(IF(F30>0,F30*H30,"0")+IF(G30>0,(G30/1.5)*I30,"0"),1) -> 0 | M30: =ROUND(J30+K30+L30,1) -> 0
A31: 17 | J31: =ROUND(IF(F31>0,F31*H31,"0")+IF(G31>0,(G31/1.5)*I31,"0"),1) -> 0 | M31: =ROUND(J31+K31+L31,1) -> 0
... A34: 20 | J34: =ROUND(IF(F34>0,F34*H34,"0")+IF(G34>0,(G34/1.5)*I34,"0"),1) -> 0 | M34: =ROUND(J34+K34+L34,1) -> 0
A35: TỔNG CỘNG (theo tiết) | F35: =SUM(F20:F34) -> 0 | G35: =SUM(G15:G34) -> 180 | J35: =SUM(J15:J34) -> 130 | K35: =SUM(K15:K34) -> 0 | L35: =SUM(L15:L34) -> 0 | M35: =SUM(M15:M34) -> 130
M39: Ngày ……. tháng …... năm 2014
C40: TRƯỞNG KHOA | H40: TRƯỞNG TỔ | M40: GV
B46: NGUYỄN NGỌC PHƯƠNG | F46: NGUYỄN ANH TUẤN | L46: NGUYỄN THÀNH ĐỨC

Sheet Mau A1 Đức
N1: Mẫu A1
C2: ỦY BAN NHÂN DÂN TP.HCM | J2: CỘNG HÒA XÃ HỘI CHỦ NGHĨA VIỆT NAM
C3: TRƯỜNG CĐ KỸ THUẬT LÝ TỰ TRỌNG | J3: Độc lập - Tự do - Hạnh phúc
A5: BẢNG KÊ KHỐI LƯỢNG CÔNG TÁC GIẢNG DẠY CỦA GIÁO VIÊN - GIẢNG VIÊN
A6: TRONG HỌC KỲ 1 - NĂM HỌC 2013 - 2014
B7: Họ và tên giáo viên : | D7: Nguyễn Thành | E7: Đức | H7: Tổ : | I7: Điện ô tô | L7: Khoa : | M7: Động Lực
M8: (Đơn vị tính : tiết)
A10: TT | B10: Từ ngày ……. tháng ….. đến ngày ……. tháng ….. | C10: Số tuần thực dạy | D10: Môn dạy | E10: Lớp dạy | J10: Thực hiện | N10: Ghi chú
F11: Thực Giảng dạy | K11: Kiêm nhiệm | L11: Khối lượng công tác cộng thêm | M11: Tổng thực hiện
F12: Chưa nhân hệ số | H12: Tổng hệ số | J12: Quy đổi và đã nhân hệ số
F13: LT | G13: TH | H13: LT | I13: TH
A14: (1) | B14: (2) | C14: (3) | D14: (4) | E14: (5) | F14: (6) | G14: (7) | H14: (8) | I14: (9) | J14: (10) | K14: (11) | L14: (12) | M14: (13) | N14: (14)
A15: 1 | B15: 9/9-21/12/2013 | C15: 15 | D15: TT điện ô tô 1 | E15: 11CĐ Ô2(N1) | G15: 90 | I15: 1 | J15: =ROUND(IF(F15>0,F15*H15,"0")+IF(G15>0,(G15/1.5)*I15,"0"),1) -> 60 | M15: =ROUND(J15+K15+L15,1) -> 60
A16: 2 | B16: 9/9-21/12/2013 | C16: 15 | D16: TT điện ô tô 1 | E16: 11CĐ Ô5(N2) | G16: 90 | I16: 1 | J16: =ROUND(IF(F16>0,F16*H16,"0")+IF(G16>0,(G16/1.5)*I16,"0"),1) -> 60 | M16: =ROUND(J16+K16+L16,1) -> 60
A17: 3 | B17: 9/9-21/12/2013 | C17: 15 | D17: TT điện ô tô 1 | E17: 11CĐ Ô7(N1) | G17: 90 | I17: 1 | J17: =ROUND(IF(F17>0,F17*H17,"0")+IF(G17>0,(G17/1.5)*I17,"0"),1) -> 60 | M17: =ROUND(J17+K17+L17,1) -> 60
A18: 4 | B18: 9/9-21/12/2013 | C18: 15 | D18: TT động cơ xăng | E18: 11CĐ Ô7 (N2) | G18: 90 | I18: 1 | J18: =ROUND(IF(F18>0,F18*H18,"0")+IF(G18>0,(G18/1.5)*I18,"0"),1) -> 60 | M18: =ROUND(J18+K18+L18,1) -> 60
A19: 5 | B19: 9/9-21/12/2013 | C19: 15 | D19: HT điện và điện tử ô tô | E19: 11CĐ Ô5 | F19: 75 | H19: 1 | J19: =ROUND(IF(F19>0,F19*H19,"0")+IF(G19>0,(G19/1.5)*I19,"0"),1) -> 75 | M19: =ROUND(J19+K19+L19,1) -> 75
A20: 6 | D20: TT kỹ thuật lái xe | E20: 13CĐ Ô3(N2) | G20: 5 | I20: 1.2 | J20: =ROUND(IF(F20>0,F20*H20,"0")+IF(G20>0,(G20/1.5)*I20,"0"),1) -> 4 | M20: =ROUND(J20+K20+L20,1) -> 4 | N20: Dạy thay thầy Nguyên 5t ngày 28/12
A21: 7 | D21: Ô tô 1 | E21: 11CĐ Ô6 | F21: 5 | H21: 1 | J21: =ROUND(IF(F21>0,F21*H21,"0")+IF(G21>0,(G21/1.5)*I21,"0"),1) -> 5 | M21: =ROUND(J21+K21+L21,1) -> 5 | N21: Dạy thay thầy Tín ngày 13/9
A22: 8 | J22: =ROUND(IF(F22>0,F22*H22,"0")+IF(G22>0,(G22/1.5)*I22,"0"),1) -> 0 | M22: =ROUND(J22+K22+L22,1) -> 0
A23: 9 | J23: =ROUND(IF(F23>0,F23*H23,"0")+IF(G23>0,(G23/1.5)*I23,"0"),1) -> 0 | M23: =ROUND(J23+K23+L23,1) -> 0
A24: 10 | J24: =ROUND(IF(F24>0,F24*H24,"0")+IF(G24>0,(G24/1.5)*I24,"0"),1) -> 0 | M24: =ROUND(J24+K24+L24,1) -> 0
A25: 11 | J25: =ROUND(IF(F25>0,F25*H25,"0")+IF(G25>0,(G25/1.5)*I25,"0"),1) -> 0 | M25: =ROUND(J25+K25+L25,1) -> 0
A26: 12 | J26: =ROUND(IF(F26>0,F26*H26,"0")+IF(G26>0,(G26/1.5)*I26,"0"),1) -> 0 | M26: =ROUND(J26+K26+L26,1) -> 0
A27: 13 | J27: =ROUND(IF(F27>0,F27*H27,"0")+IF(G27>0,(G27/1.5)*I27,"0"),1) -> 0 | M27: =ROUND(J27+K27+L27,1) -> 0
A28: 14 | J28: =ROUND(IF(F28>0,F28*H28,"0")+IF(G28>0,(G28/1.5)*I28,"0"),1) -> 0 | M28: =ROUND(J28+K28+L28,1) -> 0
A29: 15 | J29: =ROUND(IF(F29>0,F29*H29,"0")+IF(G29>0,(G29/1.5)*I29,"0"),1) -> 0 | M29: =ROUND(J29+K29+L29,1) -> 0
A30: 16 | J30: =ROUND(IF(F30>0,F30*H30,"0")+IF(G30>0,(G30/1.5)*I30,"0"),1) -> 0 | M30: =ROUND(J30+K30+L30,1) -> 0
A31: 17 | J31: =ROUND(IF(F31>0,F31*H31,"0")+IF(G31>0,(G31/1.5)*I31,"0"),1) -> 0 | M31: =ROUND(J31+K31+L31,1) -> 0
A32: 18 | J32: =ROUND(IF(F32>0,F32*H32,"0")+IF(G32>0,(G32/1.5)*I32,"0"),1) -> 0 | M32: =ROUND(J32+K32+L32,1) -> 0
A33: 19 | J33: =ROUND(IF(F33>0,F33*H33,"0")+IF(G33>0,(G33/1.5)*I33,"0"),1) -> 0 | M33: =ROUND(J33+K33+L33,1) -> 0
A34: 20 | J34: =ROUND(IF(F34>0,F34*H34,"0")+IF(G34>0,(G34/1.5)*I34,"0"),1) -> 0 | M34: =ROUND(J34+K34+L34,1) -> 0
A35: TỔNG CỘNG (theo tiết) | F35: =SUM(F15:F34) -> 80 | G35: =SUM(G15:G34) -> 365 | J35: =SUM(J15:J34) -> 324 | K35: =SUM(K15:K34) -> 0 | L35: =SUM(L15:L34) -> 0 | M35: =SUM(M15:M34) -> 324
M36: Ngày ……. tháng …... năm 2014
C37: TRƯỞNG KHOA | H37: TRƯỞNG TỔ | M37: GV
B44: NGUYỄN NGỌC PHƯƠNG | F44: NGUYỄN ANH TUẤN | L44: NGUYỄN THÀNH ĐỨC

Sheet Mau A2 Mạnh
N1: Mẫu A2
C2: ỦY BAN NHÂN DÂN TP.HCM | J2: CỘNG HÒA XÃ HỘI CHỦ NGHĨA VIỆT NAM
C3: TRƯỜNG CĐ KỸ THUẬT LÝ TỰ TRỌNG | J3: Độc lập - Tự do - Hạnh phúc
A5: BẢNG KÊ KHỐI LƯỢNG CÔNG TÁC GIẢNG DẠY CỦA GIÁO VIÊN - GIẢNG VIÊN
A6: TRONG HỌC KỲ 2 - NĂM HỌC 2013 - 2014
B7: Họ và tên giáo viên : | D7: Nguyễn Hữu | E7: Mạnh | H7: Tổ : | I7: Gầm | L7: Khoa : | M7: Động Lực
M8: (Đơn vị tính : tiết)
A10: TT | B10: Từ ngày ……. tháng ….. đến ngày ……. tháng ….. | C10: Số tuần thực dạy | D10: Môn dạy | E10: Lớp dạy | J10: Thực hiện | N10: Ghi chú
F11: Thực Giảng dạy | K11: Kiêm nhiệm | L11: Khối lượng công tác cộng thêm | M11: Tổng thực hiện
F12: Chưa nhân hệ số | H12: Tổng hệ số | J12: Quy đổi và đã nhân hệ số
F13: LT | G13: TH | H13: LT | I13: TH
A14: (1) | B14: (2) | C14: (3) | D14: (4) | E14: (5) | F14: (6) | G14: (7) | H14: (8) | I14: (9) | J14: (10) | K14: (11) | L14: (12) | M14: (13) | N14: (14)
A15: 1 | B15: 13/1/2014-5/4/2014 | C15: 9 | D15: Thực tập ô tô 2 | E15: 11CĐ Ô2 (N1) | G15: 80 | I15: 1 | J15: =ROUND(IF(F15>0,F15*H15,"0")+IF(G15>0,(G15/1.5)*I15,"0"),1) -> 53.3 | M15: =ROUND(J15+K15+L15,1) -> 53.3 | N15: Thấy Hóa dạy thay 10 tiết ngày 28,29/3
A16: 2 | B16: 13/1/2014-5/4/2014 | C16: 9 | D16: Thực tập ô tô 2 | E16: 11CĐ Ô2 (N2) | G16: 80 | I16: 1 | J16: =ROUND(IF(F16>0,F16*H16,"0")+IF(G16>0,(G16/1.5)*I16,"0"),1) -> 53.3 | M16: =ROUND(J16+K16+L16,1) -> 53.3 | N16: Thấy Hóa dạy thay 10 tiết ngày 28,29/3
A17: 3 | B17: 13/1/2014-5/4/2014 | C17: 9 | D17: Thực tập ô tô 2 | E17: 11CĐ Ô3 (N1) | G17: 85 | I17: 1 | J17: =ROUND(IF(F17>0,F17*H17,"0")+IF(G17>0,(G17/1.5)*I17,"0"),1) -> 56.7 | M17: =ROUND(J17+K17+L17,1) -> 56.7 | N17: Thầy Hùng dạy thay 5 tiết ngày 4/1/14
A18: 4 | B18: 13/1/2014-5/4/2014 | C18: 9 | D18: Thực tập ô tô 2 | E18: 11CĐ Ô3 (N2) | G18: 85 | I18: 1 | J18: =ROUND(IF(F18>0,F18*H18,"0")+IF(G18>0,(G18/1.5)*I18,"0"),1) -> 56.7 | M18: =ROUND(J18+K18+L18,1) -> 56.7 | N18: Thầy Hùng dạy thay 5 tiết ngày 4/1/14
A19: 5 | D19: Tổ trưởng | J19: =ROUND(IF(F19>0,F19*H19,"0")+IF(G19>0,(G19/1.5)*I19,"0"),1) -> 0 | K19: =20%*130 -> 26 | M19: =ROUND(J19+K19+L19,1) -> 26
A20: 6 | D20: Ôn thi TN khóa 11CDO và 12LTO | F20: 25 | H20: 1 | J20: =ROUND(IF(F20>0,F20*H20,"0")+IF(G20>0,(G20/1.5)*I20,"0"),1) -> 25 | M20: =ROUND(J20+K20+L20,1) -> 25
A21: 7 | J21: =ROUND(IF(F21>0,F21*H21,"0")+IF(G21>0,(G21/1.5)*I21,"0"),1) -> 0 | M21: =ROUND(J21+K21+L21,1) -> 0
A22: 8 | J22: =ROUND(IF(F22>0,F22*H22,"0")+IF(G22>0,(G22/1.5)*I22,"0"),1) -> 0 | M22: =ROUND(J22+K22+L22,1) -> 0
A23: 9 | J23: =ROUND(IF(F23>0,F23*H23,"0")+IF(G23>0,(G23/1.5)*I23,"0"),1) -> 0 | M23: =ROUND(J23+K23+L23,1) -> 0
A24: 10 | J24: =ROUND(IF(F24>0,F24*H24,"0")+IF(G24>0,(G24/1.5)*I24,"0"),1) -> 0 | M24: =ROUND(J24+K24+L24,1) -> 0
A25: 11 | J25: =ROUND(IF(F25>0,F25*H25,"0")+IF(G25>0,(G25/1.5)*I25,"0"),1) -> 0 | M25: =ROUND(J25+K25+L25,1) -> 0
A26: 12 | J26: =ROUND(IF(F26>0,F26*H26,"0")+IF(G26>0,(G26/1.5)*I26,"0"),1) -> 0 | M26: =ROUND(J26+K26+L26,1) -> 0
A27: 13 | J27: =ROUND(IF(F27>0,F27*H27,"0")+IF(G27>0,(G27/1.5)*I27,"0"),1) -> 0 | M27: =ROUND(J27+K27+L27,1) -> 0
A28: 14 | J28: =ROUND(IF(F28>0,F28*H28,"0")+IF(G28>0,(G28/1.5)*I28,"0"),1) -> 0 | M28: =ROUND(J28+K28+L28,1) -> 0
A29: 15 | J29: =ROUND(IF(F29>0,F29*H29,"0")+IF(G29>0,(G29/1.5)*I29,"0"),1) -> 0 | M29: =ROUND(J29+K29+L29,1) -> 0
A30: 16 | J30: =ROUND(IF(F30>0,F30*H30,"0")+IF(G30>0,(G30/1.5)*I30,"0"),1) -> 0 | M30: =ROUND(J30+K30+L30,1) -> 0
A31: 17 | J31: =ROUND(IF(F31>0,F31*H31,"0")+IF(G31>0,(G31/1.5)*I31,"0"),1) -> 0 | M31: =ROUND(J31+K31+L31,1) -> 0
A32: 18 | J32: =ROUND(IF(F32>0,F32*H32,"0")+IF(G32>0,(G32/1.5)*I32,"0"),1) -> 0 | M32: =ROUND(J32+K32+L32,1) -> 0
... A34: 20 | J34: =ROUND(IF(F34>0,F34*H34,"0")+IF(G34>0,(G34/1.5)*I34,"0"),1) -> 0 | M34: =ROUND(J34+K34+L34,1) -> 0
A35: TỔNG CỘNG (theo tiết) | F35: =SUM(F15:F34) -> 25 | G35: =SUM(G15:G34) -> 330 | J35: =SUM(J15:J34) -> 245 | K35: =SUM(K15:K34) -> 26 | L35: =SUM(L15:L34) -> 0 | M35: =SUM(M15:M34) -> 271
M39: Ngày ……. tháng …... năm 2014
C40: TRƯỞNG KHOA | H40: TRƯỞNG TỔ | M40: GV
B44: NGUYỄN NGỌC PHƯƠNG | F44: NGUYỄN HỮU MẠNH | L44: NGUYỄN HỮU MẠNH

Sheet Mau A1 Mạnh
N1: Mẫu A1
C2: ỦY BAN NHÂN DÂN TP.HCM | J2: CỘNG HÒA XÃ HỘI CHỦ NGHĨA VIỆT NAM
C3: TRƯỜNG CĐ KỸ THUẬT LÝ TỰ TRỌNG | J3: Độc lập - Tự do - Hạnh phúc
A5: BẢNG KÊ KHỐI LƯỢNG CÔNG TÁC GIẢNG DẠY CỦA GIÁO VIÊN - GIẢNG VIÊN
A6: TRONG HỌC KỲ 1 - NĂM HỌC 2013 - 2014
B7: Họ và tên giáo viên : | D7: Nguyễn Hữu | E7: Mạnh | H7: Tổ : | I7: Gầm Ô Tô | L7: Khoa : | M7: Động Lực
M8: (Đơn vị tính : tiết)
A10: TT | B10: Từ ngày ……. tháng ….. đến ngày ……. tháng ….. | C10: Số tuần thực dạy | D10: Môn dạy | E10: Lớp dạy | J10: Thực hiện | N10: Ghi chú
F11: Thực Giảng dạy | K11: Kiêm nhiệm | L11: Khối lượng công tác cộng thêm | M11: Tổng thực hiện
F12: Chưa nhân hệ số | H12: Tổng hệ số | J12: Quy đổi và đã nhân hệ số
F13: LT | G13: TH | H13: LT | I13: TH
A14: (1) | B14: (2) | C14: (3) | D14: (4) | E14: (5) | F14: (6) | G14: (7) | H14: (8) | I14: (9) | J14: (10) | K14: (11) | L14: (12) | M14: (13) | N14: (14)
A15: 1 | B15: 9/9-21/12/2013 | C15: 15 | D15: TT ô tô 1 | E15: 11CĐ Ô3(N1) | G15: 84 | I15: 1 | J15: =ROUND(IF(F15>0,F15*H15,"0")+IF(G15>0,(G15/1.5)*I15,"0"),1) -> 56 | M15: =ROUND(J15+K15+L15,1) -> 56 | N15: Thấy Hóa dạy thay tôi 6 tiết ngày 16/9
A16: 2 | B16: 9/9-21/12/2013 | C16: 15 | D16: TT ô tô 1 | E16: 11CĐ Ô3(N2) | G16: 84 | I16: 1 | J16: =ROUND(IF(F16>0,F16*H16,"0")+IF(G16>0,(G16/1.5)*I16,"0"),1) -> 56 | M16: =ROUND(J16+K16+L16,1) -> 56 | N16: Thấy Hùng dạy thay tôi 6 tiết ngày 16/9
A17: 3 | B17: 9/9-21/12/2013 | C17: 15 | D17: Ô tô 2 | E17: 11CĐ Ô3 | F17: 28 | H17: 1 | J17: =ROUND(IF(F17>0,F17*H17,"0")+IF(G17>0,(G17/1.5)*I17,"0"),1) -> 28 | M17: =ROUND(J17+K17+L17,1) -> 28 | N17: Thấy Bình dạy thay tôi 2 tiết ngày 17/9
A18: 4 | B18: 14/10-22/2/2014 | C18: 15 | D18: Đồ án kết cấu ô tô | E18: 12TC Ô | F18: 60 | H18: 1 | J18: =ROUND(IF(F18>0,F18*H18,"0")+IF(G18>0,(G18/1.5)*I18,"0"),1) -> 60 | M18: =ROUND(J18+K18+L18,1) -> 60
A19: 5 | D19: Tổ trưởng | K19: =20%*130 -> 26 | M19: =ROUND(J19+K19+L19,1) -> 26
A20: 6
A21: 7 | J21: =ROUND(IF(F21>0,F21*H21,"0")+IF(G21>0,(G21/1.5)*I21,"0"),1) -> 0 | M21: =ROUND(J21+K21+L21,1) -> 0
A22: 8 | J22: =ROUND(IF(F22>0,F22*H22,"0")+IF(G22>0,(G22/1.5)*I22,"0"),1) -> 0 | M22: =ROUND(J22+K22+L22,1) -> 0
A23: 9 | J23: =ROUND(IF(F23>0,F23*H23,"0")+IF(G23>0,(G23/1.5)*I23,"0"),1) -> 0 | M23: =ROUND(J23+K23+L23,1) -> 0
A24: 10 | J24: =ROUND(IF(F24>0,F24*H24,"0")+IF(G24>0,(G24/1.5)*I24,"0"),1) -> 0 | M24: =ROUND(J24+K24+L24,1) -> 0
A25: 11 | J25: =ROUND(IF(F25>0,F25*H25,"0")+IF(G25>0,(G25/1.5)*I25,"0"),1) -> 0 | M25: =ROUND(J25+K25+L25,1) -> 0
A26: 12 | J26: =ROUND(IF(F26>0,F26*H26,"0")+IF(G26>0,(G26/1.5)*I26,"0"),1) -> 0 | M26: =ROUND(J26+K26+L26,1) -> 0
A27: 13 | J27: =ROUND(IF(F27>0,F27*H27,"0")+IF(G27>0,(G27/1.5)*I27,"0"),1) -> 0 | M27: =ROUND(J27+K27+L27,1) -> 0
A28: 14 | J28: =ROUND(IF(F28>0,F28*H28,"0")+IF(G28>0,(G28/1.5)*I28,"0"),1) -> 0 | M28: =ROUND(J28+K28+L28,1) -> 0
A29: 15 | J29: =ROUND(IF(F29>0,F29*H29,"0")+IF(G29>0,(G29/1.5)*I29,"0"),1) -> 0 | M29: =ROUND(J29+K29+L29,1) -> 0
A30: 16 | J30: =ROUND(IF(F30>0,F30*H30,"0")+IF(G30>0,(G30/1.5)*I30,"0"),1) -> 0 | M30: =ROUND(J30+K30+L30,1) -> 0
A31: 17 | J31: =ROUND(IF(F31>0,F31*H31,"0")+IF(G31>0,(G31/1.5)*I31,"0"),1) -> 0 | M31: =ROUND(J31+K31+L31,1) -> 0
A32: 18 | J32: =ROUND(IF(F32>0,F32*H32,"0")+IF(G32>0,(G32/1.5)*I32,"0"),1) -> 0 | M32: =ROUND(J32+K32+L32,1) -> 0
... A34: 20 | J34: =ROUND(IF(F34>0,F34*H34,"0")+IF(G34>0,(G34/1.5)*I34,"0"),1) -> 0 | M34: =ROUND(J34+K34+L34,1) -> 0
A35: TỔNG CỘNG (theo tiết) | F35: =SUM(F15:F34) -> 88 | G35: =SUM(G15:G34) -> 168 | J35: =SUM(J15:J34) -> 200 | K35: =SUM(K15:K34) -> 26 | L35: =SUM(L15:L34) -> 0 | M35: =SUM(M15:M34) -> 226
M36: Ngày ……. tháng …... năm 2014
C37: TRƯỞNG KHOA | H37: TRƯỞNG TỔ | M37: GV
B43: NGUYỄN NGỌC PHƯƠNG | F43: NGUYỄN HỮU MẠNH | L43: NGUYỄN HỮU MẠNH

Sheet Mau A2 Bình
N1: Mẫu A2
C2: ỦY BAN NHÂN DÂN TP.HCM | J2: CỘNG HÒA XÃ HỘI CHỦ NGHĨA VIỆT NAM
C3: TRƯỜNG CĐ KỸ THUẬT LÝ TỰ TRỌNG | J3: Độc lập - Tự do - Hạnh phúc
A5: BẢNG KÊ KHỐI LƯỢNG CÔNG TÁC GIẢNG DẠY CỦA GIÁO VIÊN - GIẢNG VIÊN
A6: TRONG HỌC KỲ 2 - NĂM HỌC 2013 - 2014
B7: Họ và tên giáo viên : | D7: Nguyễn Thái | E7: Bình | H7: Tổ : | I7: Gầm | L7: Khoa : | M7: Động Lực
M8: (Đơn vị tính : tiết)
A10: TT | B10: Từ ngày ……. tháng ….. đến ngày ……. tháng ….. | C10: Số tuần thực dạy | D10: Môn dạy | E10: Lớp dạy | J10: Thực hiện | N10: Ghi chú
F11: Thực Giảng dạy | K11: Kiêm nhiệm | L11: Khối lượng công tác cộng thêm | M11: Tổng thực hiện
F12: Chưa nhân hệ số | H12: Tổng hệ số | J12: Quy đổi và đã nhân hệ số
F13: LT | G13: TH | H13: LT | I13: TH
A14: (1) | B14: (2) | C14: (3) | D14: (4) | E14: (5) | F14: (6) | G14: (7) | H14: (8) | I14: (9) | J14: (10) | K14: (11) | L14: (12) | M14: (13) | N14: (14)
A15: 1 | B15: 13/1-5/4/2014 | C15: 9 | D15: Thực tập ô tô 2 | E15: 11CĐ Ô7 (N1) | G15: 90 | I15: 1 | J15: =ROUND(IF(F15>0,F15*H15,"0")+IF(G15>0,(G15/1.5)*I15,"0"),1) -> 60 | M15: =ROUND(J15+K15+L15,1) -> 60
A16: 2 | B16: 13/1/2013-5/4/2014 | C16: 9 | D16: Thực tập ô tô 2 | E16: 11CĐ Ô7 (N2) | G16: 90 | I16: 1 | J16: =ROUND(IF(F16>0,F16*H16,"0")+IF(G16>0,(G16/1.5)*I16,"0"),1) -> 60 | M16: =ROUND(J16+K16+L16,1) -> 60
A17: 3 | B17: 10/3/2013-26/4/2014 | C17: 7 | D17: Thực tập kết cấu ô tô | E17: 12TC Ô (N2) | G17: 90 | I17: 1 | J17: =ROUND(IF(F17>0,F17*H17,"0")+IF(G17>0,(G17/1.5)*I17,"0"),1) -> 60 | M17: =ROUND(J17+K17+L17,1) -> 60
A18: 4 | B18: 10/2/2014-24/5/2014 | C18: 15 | D18: Lý thuyết ô tô | E18: 12LT Ô | F18: 30 | H18: 1 | J18: =ROUND(IF(F18>0,F18*H18,"0")+IF(G18>0,(G18/1.5)*I18,"0"),1) -> 30 | M18: =ROUND(J18+K18+L18,1) -> 30
A19: 5 | B19: 10/2/2014-24/5/2014 | C19: 15 | D19: Thực tập ô tô | E19: 12LT Ô | G19: 90 | I19: 1 | J19: =ROUND(IF(F19>0,F19*H19,"0")+IF(G19>0,(G19/1.5)*I19,"0"),1) -> 60 | M19: =ROUND(J19+K19+L19,1) -> 60
A20: 6 | B20: 31/4/2014-26/7/2014 | C20: 17 | D20: Lý thuyết ô tô | E20: 13TC Ô1,2 | F20: 45 | H20: 1.5 | J20: =ROUND(IF(F20>0,F20*H20,"0")+IF(G20>0,(G20/1.5)*I20,"0"),1) -> 67.5 | M20: =ROUND(J20+K20+L20,1) -> 67.5 | N20: lớp ghép
A21: 7 | D21: GVCN lớp 11CĐ Ô7 | J21: =ROUND(IF(F21>0,F21*H21,"0")+IF(G21>0,(G21/1.5)*I21,"0"),1) -> 0 | K21: =15%*130 -> 19.5 | M21: =ROUND(J21+K21+L21,1) -> 19.5
A22: 8 | D22: Ôn thi TN khóa 11CD Ô | F22: 20 | H22: 1 | J22: =ROUND(IF(F22>0,F22*H22,"0")+IF(G22>0,(G22/1.5)*I22,"0"),1) -> 20 | M22: =ROUND(J22+K22+L22,1) -> 20
A23: 9 | D23: Ôn thi TN khóa 12TC Ô | G23: 5 | I23: 1.5 | J23: =ROUND(IF(F23>0,F23*H23,"0")+IF(G23>0,(G23/1.5)*I23,"0"),1) -> 5 | M23: =ROUND(J23+K23+L23,1) -> 5
A24: 10 | J24: =ROUND(IF(F24>0,F24*H24,"0")+IF(G24>0,(G24/1.5)*I24,"0"),1) -> 0 | M24: =ROUND(J24+K24+L24,1) -> 0
A25: 11 | J25: =ROUND(IF(F25>0,F25*H25,"0")+IF(G25>0,(G25/1.5)*I25,"0"),1) -> 0 | M25: =ROUND(J25+K25+L25,1) -> 0
A26: 12 | J26: =ROUND(IF(F26>0,F26*H26,"0")+IF(G26>0,(G26/1.5)*I26,"0"),1) -> 0 | M26: =ROUND(J26+K26+L26,1) -> 0
A27: 13 | J27: =ROUND(IF(F27>0,F27*H27,"0")+IF(G27>0,(G27/1.5)*I27,"0"),1) -> 0 | M27: =ROUND(J27+K27+L27,1) -> 0
A28: 14 | J28: =ROUND(IF(F28>0,F28*H28,"0")+IF(G28>0,(G28/1.5)*I28,"0"),1) -> 0 | M28: =ROUND(J28+K28+L28,1) -> 0
A29: 15 | J29: =ROUND(IF(F29>0,F29*H29,"0")+IF(G29>0,(G29/1.5)*I29,"0"),1) -> 0 | M29: =ROUND(J29+K29+L29,1) -> 0
A30: 16 | J30: =ROUND(IF(F30>0,F30*H30,"0")+IF(G30>0,(G30/1.5)*I30,"0"),1) -> 0 | M30: =ROUND(J30+K30+L30,1) -> 0
A31: 17 | J31: =ROUND(IF(F31>0,F31*H31,"0")+IF(G31>0,(G31/1.5)*I31,"0"),1) -> 0 | M31: =ROUND(J31+K31+L31,1) -> 0
A32: 18 | J32: =ROUND(IF(F32>0,F32*H32,"0")+IF(G32>0,(G32/1.5)*I32,"0"),1) -> 0 | M32: =ROUND(J32+K32+L32,1) -> 0
A33: 19 | J33: =ROUND(IF(F33>0,F33*H33,"0")+IF(G33>0,(G33/1.5)*I33,"0"),1) -> 0 | M33: =ROUND(J33+K33+L33,1) -> 0
A34: 20 | J34: =ROUND(IF(F34>0,F34*H34,"0")+IF(G34>0,(G34/1.5)*I34,"0"),1) -> 0 | M34: =ROUND(J34+K34+L34,1) -> 0
A35: TỔNG CỘNG (theo tiết) | F35: =SUM(F15:F34) -> 95 | G35: =SUM(G15:G34) -> 365 | J35: =SUM(J15:J34) -> 362.5 | K35: =SUM(K15:K34) -> 19.5 | L35: =SUM(L15:L34) -> 0 | M35: =SUM(M15:M34) -> 382
B36: CÁCH TÍNH: | C36: Cột (6), (7): Nhập đúng số tiết thực dạy
C37: Cột (8), (9): Tổng hệ số = 1+ (Hệ số thứ nhất - 1 + Hệ số thứ hai - 1 + … -1), không kể hệ số quy đổi TH sang tiết chuẩn
C38: Cột (12): Khối lượng công tác cộng thêm (nếu có) theo điều 16 Quy định 1863.
M39: Ngày ……. tháng …... năm 2014
C40: TRƯỞNG KHOA | H40: TRƯỞNG TỔ | M40: GV
B44: NGUYỄN NGỌC PHƯƠNG | F44: NGUYỄN HỮU MẠNH | L44: NGUYỄN THÁI BÌNH

Sheet Mau A1 Bình
N1: Mẫu A1
C2: ỦY BAN NHÂN DÂN TP.HCM | J2: CỘNG HÒA XÃ HỘI CHỦ NGHĨA VIỆT NAM
C3: TRƯỜNG CĐ KỸ THUẬT LÝ TỰ TRỌNG | J3: Độc lập - Tự do - Hạnh phúc
A5: BẢNG KÊ KHỐI LƯỢNG CÔNG TÁC GIẢNG DẠY CỦA GIÁO VIÊN - GIẢNG VIÊN
A6: TRONG HỌC KỲ 1 - NĂM HỌC 2013 - 2014
B7: Họ và tên giáo viên : | D7: Nguyễn Thái | E7: Bình | H7: Tổ : | I7: Gầm Ô Tô | L7: Khoa : | M7: Động Lực
M8: (Đơn vị tính : tiết)
A10: TT | B10: Từ ngày ……. tháng ….. đến ngày ……. tháng ….. | C10: Số tuần thực dạy | D10: Môn dạy | E10: Lớp dạy | J10: Thực hiện | N10: Ghi chú
F11: Thực Giảng dạy | K11: Kiêm nhiệm | L11: Khối lượng công tác cộng thêm | M11: Tổng thực hiện
F12: Chưa nhân hệ số | H12: Tổng hệ số | J12: Quy đổi và đã nhân hệ số
F13: LT | G13: TH | H13: LT | I13: TH
A14: (1) | B14: (2) | C14: (3) | D14: (4) | E14: (5) | F14: (6) | G14: (7) | H14: (8) | I14: (9) | J14: (10) | K14: (11) | L14: (12) | M14: (13) | N14: (14)
A15: 1 | B15: 9/9-21/12/2013 | C15: 15 | D15: TT ô tô 1 | E15: 11CĐÔ7(N2) | G15: 90 | I15: 1 | J15: =ROUND(IF(F15>0,F15*H15,"0")+IF(G15>0,(G15/1.5)*I15,"0"),1) -> 60 | M15: =ROUND(J15+K15+L15,1) -> 60
A16: 2 | B16: 14/10-21/12/2013 | C16: 10 | D16: TT ô tô 1 | E16: 11CĐÔ7(N1) | G16: 30 | I16: 1 | J16: =ROUND(IF(F16>0,F16*H16,"0")+IF(G16>0,(G16/1.5)*I16,"0"),1) -> 20 | M16: =ROUND(J16+K16+L16,1) -> 20
A17: 3 | B17: 14/10-21/12/2013 | C17: 10 | D17: TT ô tô 1 | E17: 11CĐÔ7(N2) | G17: 30 | I17: 1 | J17: =ROUND(IF(F17>0,F17*H17,"0")+IF(G17>0,(G17/1.5)*I17,"0"),1) -> 20 | M17: =ROUND(J17+K17+L17,1) -> 20
A18: 4 | B18: 9/9-21/12/2013 | C18: 15 | D18: Ô tô 2 | E18: 11CĐ Ô7 | F18: 30 | H18: 1 | J18: =ROUND(IF(F18>0,F18*H18,"0")+IF(G18>0,(G18/1.5)*I18,"0"),1) -> 30 | M18: =ROUND(J18+K18+L18,1) -> 30
A19: 5 | D19: TT kỹ thuật lái xe | E19: 13CĐÔ3(N1) | G19: 5 | I19: 1.3 | J19: =ROUND(IF(F19>0,F19*H19,"0")+IF(G19>0,(G19/1.5)*I19,"0"),1) -> 4.3 | M19: =ROUND(J19+K19+L19,1) -> 4.3 | N19: Dạy thay thầy Nguyên ngày 28/12
A20: 6 | D20: Ô tô 2 | E20: 11CĐ Ô3 | F20: 2 | H20: 1 | J20: =ROUND(IF(F20>0,F20*H20,"0")+IF(G20>0,(G20/1.5)*I20,"0"),1) -> 2 | M20: =ROUND(J20+K20+L20,1) -> 2 | N20: Dạy thay thầy Mạnh ngày 17/9
A21: 7 | D21: GVCN lớp 11CĐ Ô7 | J21: =ROUND(IF(F21>0,F21*H21,"0")+IF(G21>0,(G21/1.5)*I21,"0"),1) -> 0 | K21: =15%*130 -> 19.5 | M21: =ROUND(J21+K21+L21,1) -> 19.5
A22: 8 | J22: =ROUND(IF(F22>0,F22*H22,"0")+IF(G22>0,(G22/1.5)*I22,"0"),1) -> 0 | M22: =ROUND(J22+K22+L22,1) -> 0
A23: 9 | J23: =ROUND(IF(F23>0,F23*H23,"0")+IF(G23>0,(G23/1.5)*I23,"0"),1) -> 0 | M23: =ROUND(J23+K23+L23,1) -> 0
A24: 10 | J24: =ROUND(IF(F24>0,F24*H24,"0")+IF(G24>0,(G24/1.5)*I24,"0"),1) -> 0 | M24: =ROUND(J24+K24+L24,1) -> 0
A25: 11 | J25: =ROUND(IF(F25>0,F25*H25,"0")+IF(G25>0,(G25/1.5)*I25,"0"),1) -> 0 | M25: =ROUND(J25+K25+L25,1) -> 0
A26: 12 | J26: =ROUND(IF(F26>0,F26*H26,"0")+IF(G26>0,(G26/1.5)*I26,"0"),1) -> 0 | M26: =ROUND(J26+K26+L26,1) -> 0
A27: 13 | J27: =ROUND(IF(F27>0,F27*H27,"0")+IF(G27>0,(G27/1.5)*I27,"0"),1) -> 0 | M27: =ROUND(J27+K27+L27,1) -> 0
A28: 14 | J28: =ROUND(IF(F28>0,F28*H28,"0")+IF(G28>0,(G28/1.5)*I28,"0"),1) -> 0 | M28: =ROUND(J28+K28+L28,1) -> 0
A29: 15 | J29: =ROUND(IF(F29>0,F29*H29,"0")+IF(G29>0,(G29/1.5)*I29,"0"),1) -> 0 | M29: =ROUND(J29+K29+L29,1) -> 0
A30: 16 | J30: =ROUND(IF(F30>0,F30*H30,"0")+IF(G30>0,(G30/1.5)*I30,"0"),1) -> 0 | M30: =ROUND(J30+K30+L30,1) -> 0
A31: 17 | J31: =ROUND(IF(F31>0,F31*H31,"0")+IF(G31>0,(G31/1.5)*I31,"0"),1) -> 0 | M31: =ROUND(J31+K31+L31,1) -> 0
A32: 18 | J32: =ROUND(IF(F32>0,F32*H32,"0")+IF(G32>0,(G32/1.5)*I32,"0"),1) -> 0 | M32: =ROUND(J32+K32+L32,1) -> 0
A33: 19 | J33: =ROUND(IF(F33>0,F33*H33,"0")+IF(G33>0,(G33/1.5)*I33,"0"),1) -> 0 | M33: =ROUND(J33+K33+L33,1) -> 0
A34: 20 | J34: =ROUND(IF(F34>0,F34*H34,"0")+IF(G34>0,(G34/1.5)*I34,"0"),1) -> 0 | M34: =ROUND(J34+K34+L34,1) -> 0
A35: TỔNG CỘNG (theo tiết) | F35: =SUM(F15:F34) -> 32 | G35: =SUM(G15:G34) -> 155 | J35: =SUM(J15:J34) -> 136.3 | K35: =SUM(K15:K34) -> 19.5 | L35: =SUM(L15:L34) -> 0 | M35: =SUM(M15:M34) -> 155.8
M36: Ngày ……. tháng …... năm 2014
C37: TRƯỞNG KHOA | H37: TRƯỞNG TỔ | M37: GV
B42: NGUYỄN NGỌC PHƯƠNG | F42: NGUYỄN HỮU MẠNH | L42: NGUYỄN THÁI BÌNH

Sheet Mau A2 Thái
N1: Mẫu A2
C2: ỦY BAN NHÂN DÂN TP.HCM | J2: CỘNG HÒA XÃ HỘI CHỦ NGHĨA VIỆT NAM
C3: TRƯỜNG CĐ KỸ THUẬT LÝ TỰ TRỌNG | J3: Độc lập - Tự do - Hạnh phúc
A5: BẢNG KÊ KHỐI LƯỢNG CÔNG TÁC GIẢNG DẠY CỦA GIÁO VIÊN - GIẢNG VIÊN
A6: TRONG HỌC KỲ 2 - NĂM HỌC 2013 - 2014
B7: Họ và tên giáo viên : | D7: Nguyễn Minh | E7: Thái | H7: Tổ : | I7: Động Cơ Dầu | L7: Khoa : | M7: Động Lực
M8: (Đơn vị tính : tiết)
A10: TT | B10: Từ ngày ……. tháng ….. đến ngày ……. tháng ….. | C10: Số tuần thực dạy | D10: Môn dạy | E10: Lớp dạy | J10: Thực hiện | N10: Ghi chú
F11: Thực Giảng dạy | K11: Kiêm nhiệm | L11: Khối lượng công tác cộng thêm | M11: Tổng thực hiện
F12: Chưa nhân hệ số | H12: Tổng hệ số | J12: Quy đổi và đã nhân hệ số
F13: LT | G13: TH | H13: LT | I13: TH
A14: (1) | B14: (2) | C14: (3) | D14: (4) | E14: (5) | F14: (6) | G14: (7) | H14: (8) | I14: (9) | J14: (10) | K14: (11) | L14: (12) | M14: (13) | N14: (14)
A15: 1 | B15: 13/1/2014-5/4/2014 | C15: 9 | D15: Thực tập động cơ diesel | E15: 11CĐ Ô4 (N1) | G15: 90 | I15: 1 | J15: =ROUND(IF(F15>0,F15*H15,"0")+IF(G15>0,(G15/1.5)*I15,"0"),1) -> 60 | M15: =ROUND(J15+K15+L15,1) -> 60
A16: 2 | B16: 13/1/2014-5/4/2014 | C16: 9 | D16: Thực tập động cơ diesel | E16: 11CĐ Ô4 (N2) | G16: 90 | I16: 1 | J16: =ROUND(IF(F16>0,F16*H16,"0")+IF(G16>0,(G16/1.5)*I16,"0"),1) -> 60 | M16: =ROUND(J16+K16+L16,1) -> 60
A17: 3 | B17: 13/1/2014-5/4/2014 | C17: 9 | D17: Thực tập động cơ diesel | E17: 11CĐ Ô6 (N1) | G17: 90 | I17: 1 | J17: =ROUND(IF(F17>0,F17*H17,"0")+IF(G17>0,(G17/1.5)*I17,"0"),1) -> 60 | M17: =ROUND(J17+K17+L17,1) -> 60
A18: 4 | B18: 13/1/2014-5/4/2014 | C18: 9 | D18: Thực tập động cơ diesel | E18: 11CĐ Ô6 (N2) | G18: 90 | I18: 1 | J18: =ROUND(IF(F18>0,F18*H18,"0")+IF(G18>0,(G18/1.5)*I18,"0"),1) -> 60 | M18: =ROUND(J18+K18+L18,1) -> 60
A19: 5 | D19: GVCN lớp 13CĐ Ô2 | J19: =ROUND(IF(F19>0,F19*H19,"0")+IF(G19>0,(G19/1.5)*I19,"0"),1) -> 0 | K19: =15%*130 -> 19.5 | M19: =ROUND(J19+K19+L19,1) -> 19.5
A20: 6 | D20: Ôn thi TN khóa 11CDO | F20: 20 | H20: 1 | J20: =ROUND(IF(F20>0,F20*H20,"0")+IF(G20>0,(G20/1.5)*I20,"0"),1) -> 20 | M20: =ROUND(J20+K20+L20,1) -> 20
A21: 7 | J21: =ROUND(IF(F21>0,F21*H21,"0")+IF(G21>0,(G21/1.5)*I21,"0"),1) -> 0 | M21: =ROUND(J21+K21+L21,1) -> 0
A22: 8 | J22: =ROUND(IF(F22>0,F22*H22,"0")+IF(G22>0,(G22/1.5)*I22,"0"),1) -> 0 | M22: =ROUND(J22+K22+L22,1) -> 0
A23: 9 | J23: =ROUND(IF(F23>0,F23*H23,"0")+IF(G23>0,(G23/1.5)*I23,"0"),1) -> 0 | M23: =ROUND(J23+K23+L23,1) -> 0
A24: 10 | J24: =ROUND(IF(F24>0,F24*H24,"0")+IF(G24>0,(G24/1.5)*I24,"0"),1) -> 0 | M24: =ROUND(J24+K24+L24,1) -> 0
A25: 11 | J25: =ROUND(IF(F25>0,F25*H25,"0")+IF(G25>0,(G25/1.5)*I25,"0"),1) -> 0 | M25: =ROUND(J25+K25+L25,1) -> 0
A26: 12 | J26: =ROUND(IF(F26>0,F26*H26,"0")+IF(G26>0,(G26/1.5)*I26,"0"),1) -> 0 | M26: =ROUND(J26+K26+L26,1) -> 0
A27: 13 | J27: =ROUND(IF(F27>0,F27*H27,"0")+IF(G27>0,(G27/1.5)*I27,"0"),1) -> 0 | M27: =ROUND(J27+K27+L27,1) -> 0
A28: 14 | J28: =ROUND(IF(F28>0,F28*H28,"0")+IF(G28>0,(G28/1.5)*I28,"0"),1) -> 0 | M28: =ROUND(J28+K28+L28,1) -> 0
A29: 15 | J29: =ROUND(IF(F29>0,F29*H29,"0")+IF(G29>0,(G29/1.5)*I29,"0"),1) -> 0 | M29: =ROUND(J29+K29+L29,1) -> 0
A30: 16 | J30: =ROUND(IF(F30>0,F30*H30,"0")+IF(G30>0,(G30/1.5)*I30,"0"),1) -> 0 | M30: =ROUND(J30+K30+L30,1) -> 0
A31: 17 | J31: =ROUND(IF(F31>0,F31*H31,"0")+IF(G31>0,(G31/1.5)*I31,"0"),1) -> 0 | M31: =ROUND(J31+K31+L31,1) -> 0
A32: 18 | J32: =ROUND(IF(F32>0,F32*H32,"0")+IF(G32>0,(G32/1.5)*I32,"0"),1) -> 0 | M32: =ROUND(J32+K32+L32,1) -> 0
... A34: 20 | J34: =ROUND(IF(F34>0,F34*H34,"0")+IF(G34>0,(G34/1.5)*I34,"0"),1) -> 0 | M34: =ROUND(J34+K34+L34,1) -> 0
A35: TỔNG CỘNG (theo tiết) | F35: =SUM(F15:F34) -> 20 | G35: =SUM(G15:G34) -> 360 | J35: =SUM(J15:J34) -> 260 | K35: =SUM(K15:K34) -> 19.5 | L35: =SUM(L15:L34) -> 0 | M35: =SUM(M15:M34) -> 279.5
B36: CÁCH TÍNH: | C36: Cột (6), (7): Nhập đúng số tiết thực dạy
C37: Cột (8), (9): Tổng hệ số = 1+ (Hệ số thứ nhất - 1 + Hệ số thứ hai - 1 + … -1), không kể hệ số quy đổi TH sang tiết chuẩn
C38: Cột (12): Khối lượng công tác cộng thêm (nếu có) theo điều 16 Quy định 1863.
M39: Ngày ……. tháng …... năm 2014
C40: TRƯỞNG KHOA | H40: TRƯỞNG TỔ | M40: GV
B46: NGUYỄN NGỌC PHƯƠNG | F46: PHAN ANH TUẤN KIỆT | L46: NGUYỄN MINH THÁI

Sheet Mau A1 Thái
N1: Mẫu A1
C2: ỦY BAN NHÂN DÂN TP.HCM | J2: CỘNG HÒA XÃ HỘI CHỦ NGHĨA VIỆT NAM
C3: TRƯỜNG CĐ KỸ THUẬT LÝ TỰ TRỌNG | J3: Độc lập - Tự do - Hạnh phúc
A5: BẢNG KÊ KHỐI LƯỢNG CÔNG TÁC GIẢNG DẠY CỦA GIÁO VIÊN - GIẢNG VIÊN
A6: TRONG HỌC KỲ 1 - NĂM HỌC 2014 - 2015
B7: Họ và tên giáo viên : | D7: Nguyễn Minh Thái | H7: Tổ : | I7: Động Cơ Dầu | L7: Khoa : | M7: Động Lực
M8: (Đơn vị tính : tiết)
A10: TT | B10: Từ ngày ……. tháng ….. đến ngày ……. tháng ….. | C10: Số tuần thực dạy | D10: Môn dạy | E10: Lớp dạy | J10: Thực hiện | N10: Ghi chú
F11: Thực Giảng dạy | K11: Kiêm nhiệm | L11: Khối lượng công tác cộng thêm | M11: Tổng thực hiện
F12: Chưa nhân hệ số | H12: Tổng hệ số | J12: Quy đổi và đã nhân hệ số
F13: LT | G13: TH | H13: LT | I13: TH
A14: (1) | B14: (2) | C14: (3) | D14: (4) | E14: (5) | F14: (6) | G14: (7) | H14: (8) | I14: (9) | J14: (10) | K14: (11) | L14: (12) | M14: (13) | N14: (14)
A15: 1 | B15: 8/9/14-20/12/14 | C15: 15 | D15: động cơ đốt trong | E15: 13CĐÔ2 | F15: 45 | H15: 1 | J15: =ROUND(IF(F15>0,F15*H15,"0")+IF(G15>0,(G15/1.5)*I15,"0"),1) -> 45 | M15: =ROUND(J15+K15+L15,1) -> 45
A16: 2 | B16: 8/9/14-20/12/14 | C16: 15 | D16: TT động cơ 2 | E16: 12CĐÔ1 | G16: 90 | I16: 1 | J16: =ROUND(IF(F16>0,F16*H16,"0")+IF(G16>0,(G16/1.5)*I16,"0"),1) -> 60 | M16: =ROUND(J16+K16+L16,1) -> 60
A17: 3 | B17: 15/9/14-27/12/14 | C17: 15 | D17: thực tập động cơ diesel | E17: 13TCÔ1 | G17: 60 | I17: 1 | J17: =ROUND(IF(F17>0,F17*H17,"0")+IF(G17>0,(G17/1.5)*I17,"0"),1) -> 40 | M17: =ROUND(J17+K17+L17,1) -> 40
A18: 4 | C18: 15 | D18: TT ô tô 1 | E18: 11CĐÔ4(N1) | J18: =ROUND(IF(F18>0,F18*H18,"0")+IF(G18>0,(G18/1.5)*I18,"0"),1) -> 0 | M18: =ROUND(J18+K18+L18,1) -> 0
A19: 5 | C19: 15 | D19: TT đcơ xăng | E19: 11CĐÔ4(N1) | J19: =ROUND(IF(F19>0,F19*H19,"0")+IF(G19>0,(G19/1.5)*I19,"0"),1) -> 0 | M19: =ROUND(J19+K19+L19,1) -> 0
A20: 6 | C20: 15 | D20: Ô tô 2 | E20: 11CĐÔ4 | J20: =ROUND(IF(F20>0,F20*H20,"0")+IF(G20>0,(G20/1.5)*I20,"0"),1) -> 0 | M20: =ROUND(J20+K20+L20,1) -> 0
A21: 7 | D21: TT kỹ thuật lái xe | E21: 13CĐÔ2(N1) | J21: =ROUND(IF(F21>0,F21*H21,"0")+IF(G21>0,(G21/1.5)*I21,"0"),1) -> 0 | M21: =ROUND(J21+K21+L21,1) -> 0
A22: 4 | B22: 15/9/14-11/10/14 | C22: 4 | D22: thực tập động cơ xăng | E22: 13TC-Ô2 (N2) | G22: 20 | I22: 1 | J22: =ROUND(IF(F22>0,F22*H22,"0")+IF(G22>0,(G22/1.5)*I22,"0"),1) -> 13.3
A23: 8 | D23: GVCN | E23: 13CĐÔ4 | J23: =ROUND(IF(F23>0,F23*H23,"0")+IF(G23>0,(G23/1.5)*I23,"0"),1) -> 0 | K23: =15%*130 -> 19.5 | M23: =ROUND(J23+K23+L23,1) -> 19.5
A24: 9 | D24: NMNCN ô tô | E24: 13CĐ Ô2 | J24: =ROUND(IF(F24>0,F24*H24,"0")+IF(G24>0,(G24/1.5)*I24,"0"),1) -> 0 | M24: =ROUND(J24+K24+L24,1) -> 0 | N24: Dạy thay thầy Phương ngày 21/10
A25: 8 | J25: =ROUND(IF(F25>0,F25*H25,"0")+IF(G25>0,(G25/1.5)*I25,"0"),1) -> 0 | M25: =ROUND(J25+K25+L25,1) -> 0
A26: 9 | J26: =ROUND(IF(F26>0,F26*H26,"0")+IF(G26>0,(G26/1.5)*I26,"0"),1) -> 0 | M26: =ROUND(J26+K26+L26,1) -> 0
A27: 10 | J27: =ROUND(IF(F27>0,F27*H27,"0")+IF(G27>0,(G27/1.5)*I27,"0"),1) -> 0 | M27: =ROUND(J27+K27+L27,1) -> 0
A28: 11 | J28: =ROUND(IF(F28>0,F28*H28,"0")+IF(G28>0,(G28/1.5)*I28,"0"),1) -> 0 | M28: =ROUND(J28+K28+L28,1) -> 0
A29: 12 | J29: =ROUND(IF(F29>0,F29*H29,"0")+IF(G29>0,(G29/1.5)*I29,"0"),1) -> 0 | M29: =ROUND(J29+K29+L29,1) -> 0
A30: 13 | J30: =ROUND(IF(F30>0,F30*H30,"0")+IF(G30>0,(G30/1.5)*I30,"0"),1) -> 0 | M30: =ROUND(J30+K30+L30,1) -> 0
A31: 14 | J31: =ROUND(IF(F31>0,F31*H31,"0")+IF(G31>0,(G31/1.5)*I31,"0"),1) -> 0 | M31: =ROUND(J31+K31+L31,1) -> 0
A32: 15 | J32: =ROUND(IF(F32>0,F32*H32,"0")+IF(G32>0,(G32/1.5)*I32,"0"),1) -> 0 | M32: =ROUND(J32+K32+L32,1) -> 0
A33: 16 | J33: =ROUND(IF(F33>0,F33*H33,"0")+IF(G33>0,(G33/1.5)*I33,"0"),1) -> 0 | M33: =ROUND(J33+K33+L33,1) -> 0
A34: 17 | J34: =ROUND(IF(F34>0,F34*H34,"0")+IF(G34>0,(G34/1.5)*I34,"0"),1) -> 0 | M34: =ROUND(J34+K34+L34,1) -> 0
A35: 18 | J35: =ROUND(IF(F35>0,F35*H35,"0")+IF(G35>0,(G35/1.5)*I35,"0"),1) -> 0 | M35: =ROUND(J35+K35+L35,1) -> 0
A36: 19 | J36: =ROUND(IF(F36>0,F36*H36,"0")+IF(G36>0,(G36/1.5)*I36,"0"),1) -> 0 | M36: =ROUND(J36+K36+L36,1) -> 0
A37: 20 | J37: =ROUND(IF(F37>0,F37*H37,"0")+IF(G37>0,(G37/1.5)*I37,"0"),1) -> 0 | M37: =ROUND(J37+K37+L37,1) -> 0
A38: TỔNG CỘNG (theo tiết) | F38: =SUM(F15:F37) -> 45 | G38: =SUM(G15:G37) -> 170 | J38: =SUM(J15:J37) -> 158.3 | K38: =SUM(K15:K37) -> 19.5 | L38: =SUM(L15:L37) -> 0 | M38: =SUM(M15:M37) -> 164.5
K39: Ngày 12 tháng 01 năm 2015
C40: TRƯỞNG KHOA | H40: TRƯỞNG TỔ | M40: GV
B45: NGUYỄN NGỌC PHƯƠNG | F45: PHAN ANH TUẤN KIỆT | L45: NGUYỄN MINH THÁI

Sheet Mau A2 Thịnh
N1: Mẫu A2
C2: ỦY BAN NHÂN DÂN TP.HCM | J2: CỘNG HÒA XÃ HỘI CHỦ NGHĨA VIỆT NAM
C3: TRƯỜNG CĐ KỸ THUẬT LÝ TỰ TRỌNG | J3: Độc lập - Tự do - Hạnh phúc
A5: BẢNG KÊ KHỐI LƯỢNG CÔNG TÁC GIẢNG DẠY CỦA GIÁO VIÊN - GIẢNG VIÊN
A6: TRONG HỌC KỲ 2 - NĂM HỌC 2013 - 2014
B7: Họ và tên giáo viên : | D7: Võ Đắc | E7: Thịnh | H7: Tổ : | I7: Động Cơ Dầu | L7: Khoa : | M7: Động Lực
M8: (Đơn vị tính : tiết)
A10: TT | B10: Từ ngày ……. tháng ….. đến ngày ……. tháng ….. | C10: Số tuần thực dạy | D10: Môn dạy | E10: Lớp dạy | J10: Thực hiện | N10: Ghi chú
F11: Thực Giảng dạy | K11: Kiêm nhiệm | L11: Khối lượng công tác cộng thêm | M11: Tổng thực hiện
F12: Chưa nhân hệ số | H12: Tổng hệ số | J12: Quy đổi và đã nhân hệ số
F13: LT | G13: TH | H13: LT | I13: TH
A14: (1) | B14: (2) | C14: (3) | D14: (4) | E14: (5) | F14: (6) | G14: (7) | H14: (8) | I14: (9) | J14: (10) | K14: (11) | L14: (12) | M14: (13) | N14: (14)
A15: 2 | B15: 13/1/2013-5/4/2014 | C15: 9 | D15: Thực tập động cơ diesel | E15: 11CĐ Ô1 (N1) | G15: 90 | I15: 1 | J15: =ROUND(IF(F15>0,F15*H15,"0")+IF(G15>0,(G15/1.5)*I15,"0"),1) -> 60 | M15: =ROUND(J15+K15+L15,1) -> 60
A16: 3 | B16: 13/1/2013-5/4/2014 | C16: 9 | D16: Thực tập động cơ diesel | E16: 11CĐ Ô1 (N2) | G16: 90 | I16: 1 | J16: =ROUND(IF(F16>0,F16*H16,"0")+IF(G16>0,(G16/1.5)*I16,"0"),1) -> 60 | M16: =ROUND(J16+K16+L16,1) -> 60
A17: 4 | B17: 13/1/2013-5/4/2014 | C17: 9 | D17: Thực tập động cơ diesel | E17: 11CĐ Ô3 (N1) | G17: 90 | I17: 1 | J17: =ROUND(IF(F17>0,F17*H17,"0")+IF(G17>0,(G17/1.5)*I17,"0"),1) -> 60 | M17: =ROUND(J17+K17+L17,1) -> 60
A18: 5 | D18: Phó khoa | J18: =ROUND(IF(F18>0,F18*H18,"0")+IF(G18>0,(G18/1.5)*I18,"0"),1) -> 0 | K18: =25%*145 -> 36.25 | M18: =ROUND(J18+K18+L18,1) -> 36.3
A19: 6 | D19: Ôn thi TN khóa 11CDO | F19: 20 | H19: 1 | J19: =ROUND(IF(F19>0,F19*H19,"0")+IF(G19>0,(G19/1.5)*I19,"0"),1) -> 20 | M19: =ROUND(J19+K19+L19,1) -> 20
A20: 7 | J20: =ROUND(IF(F20>0,F20*H20,"0")+IF(G20>0,(G20/1.5)*I20,"0"),1) -> 0 | M20: =ROUND(J20+K20+L20,1) -> 0
A21: 8 | J21: =ROUND(IF(F21>0,F21*H21,"0")+IF(G21>0,(G21/1.5)*I21,"0"),1) -> 0 | M21: =ROUND(J21+K21+L21,1) -> 0
A22: 9 | J22: =ROUND(IF(F22>0,F22*H22,"0")+IF(G22>0,(G22/1.5)*I22,"0"),1) -> 0 | M22: =ROUND(J22+K22+L22,1) -> 0
A23: 10 | J23: =ROUND(IF(F23>0,F23*H23,"0")+IF(G23>0,(G23/1.5)*I23,"0"),1) -> 0 | M23: =ROUND(J23+K23+L23,1) -> 0
A24: 11 | J24: =ROUND(IF(F24>0,F24*H24,"0")+IF(G24>0,(G24/1.5)*I24,"0"),1) -> 0 | M24: =ROUND(J24+K24+L24,1) -> 0
A25: 12 | J25: =ROUND(IF(F25>0,F25*H25,"0")+IF(G25>0,(G25/1.5)*I25,"0"),1) -> 0 | M25: =ROUND(J25+K25+L25,1) -> 0
A26: 13 | J26: =ROUND(IF(F26>0,F26*H26,"0")+IF(G26>0,(G26/1.5)*I26,"0"),1) -> 0 | M26: =ROUND(J26+K26+L26,1) -> 0
A27: 14 | J27: =ROUND(IF(F27>0,F27*H27,"0")+IF(G27>0,(G27/1.5)*I27,"0"),1) -> 0 | M27: =ROUND(J27+K27+L27,1) -> 0
A28: 15 | J28: =ROUND(IF(F28>0,F28*H28,"0")+IF(G28>0,(G28/1.5)*I28,"0"),1) -> 0 | M28: =ROUND(J28+K28+L28,1) -> 0
A29: 16 | J29: =ROUND(IF(F29>0,F29*H29,"0")+IF(G29>0,(G29/1.5)*I29,"0"),1) -> 0 | M29: =ROUND(J29+K29+L29,1) -> 0
A30: 17 | J30: =ROUND(IF(F30>0,F30*H30,"0")+IF(G30>0,(G30/1.5)*I30,"0"),1) -> 0 | M30: =ROUND(J30+K30+L30,1) -> 0
A31: 18 | J31: =ROUND(IF(F31>0,F31*H31,"0")+IF(G31>0,(G31/1.5)*I31,"0"),1) -> 0 | M31: =ROUND(J31+K31+L31,1) -> 0
... A33: 20 | J33: =ROUND(IF(F33>0,F33*H33,"0")+IF(G33>0,(G33/1.5)*I33,"0"),1) -> 0 | M33: =ROUND(J33+K33+L33,1) -> 0
A34: TỔNG CỘNG (theo tiết) | F34: =SUM(F15:F33) -> 20 | G34: =SUM(G15:G33) -> 270 | J34: =SUM(J15:J33) -> 200 | K34: =SUM(K15:K33) -> 36.25 | L34: =SUM(L15:L33) -> 0 | M34: =SUM(M15:M33) -> 236.3
M38: Ngày ……. tháng …... năm 2014
C39: TRƯỞNG KHOA | H39: TRƯỞNG TỔ | L39: GV
B45: NGUYỄN NGỌC PHƯƠNG | F45: TRIỆU PHÚ NGUYÊN | L45: VÕ ĐẮC THỊNH

Sheet Mau A1 Thịnh
N1: Mẫu A1
C2: ỦY BAN NHÂN DÂN TP.HCM | J2: CỘNG HÒA XÃ HỘI CHỦ NGHĨA VIỆT NAM
C3: TRƯỜNG CĐ KỸ THUẬT LÝ TỰ TRỌNG | J3: Độc lập - Tự do - Hạnh phúc
A5: BẢNG KÊ KHỐI LƯỢNG CÔNG TÁC GIẢNG DẠY CỦA GIÁO VIÊN - GIẢNG VIÊN
A6: TRONG HỌC KỲ 1 - NĂM HỌC 2013 - 2014
B7: Họ và tên giáo viên : | D7: Võ Đắc | E7: Thịnh | H7: Tổ : | I7: Động Cơ Xăng | L7: Khoa : | M7: Động Lực
M8: (Đơn vị tính : tiết)
A10: TT | B10: Từ ngày ……. tháng ….. đến ngày ……. tháng ….. | C10: Số tuần thực dạy | D10: Môn dạy | E10: Lớp dạy | J10: Thực hiện | N10: Ghi chú
F11: Thực Giảng dạy | K11: Kiêm nhiệm | L11: Khối lượng công tác cộng thêm | M11: Tổng thực hiện
F12: Chưa nhân hệ số | H12: Tổng hệ số | J12: Quy đổi và đã nhân hệ số
F13: LT | G13: TH | H13: LT | I13: TH
A14: (1) | B14: (2) | C14: (3) | D14: (4) | E14: (5) | F14: (6) | G14: (7) | H14: (8) | I14: (9) | J14: (10) | K14: (11) | L14: (12) | M14: (13) | N14: (14)
A15: 1 | B15: 9/9-21/12/2013 | C15: 15 | D15: Ô tô 1 | E15: 11CĐ Ô1 | F15: 75 | H15: 1 | J15: =ROUND(IF(F15>0,F15*H15,"0")+IF(G15>0,(G15/1.5)*I15,"0"),1) -> 75 | M15: =ROUND(J15+K15+L15,1) -> 75
A16: 2 | B16: 9/9-21/12/2013 | C16: 15 | D16: Ô tô 2 | E16: 11CĐ Ô1 | F16: 28 | H16: 1 | J16: =ROUND(IF(F16>0,F16*H16,"0")+IF(G16>0,(G16/1.5)*I16,"0"),1) -> 28 | L16: 2 | M16: =ROUND(J16+K16+L16,1) -> 30 | N16: Thầy Hóa dạy thay 2 tiết ngày 30/10
A17: 3 | B17: 9/9-21/12/2013 | C17: 15 | D17: TT ô tô 1 | E17: 11CĐÔ1(N2) | G17: 27 | I17: 1 | J17: =ROUND(IF(F17>0,F17*H17,"0")+IF(G17>0,(G17/1.5)*I17,"0"),1) -> 18 | L17: 2 | M17: =ROUND(J17+K17+L17,1) -> 20 | N17: Thầy Hóa dạy thay 3 tiết ngày 30/10
A18: 4 | B18: 9/9-21/12/2013 | C18: 15 | D18: TT điện ô tô 1 | E18: 11CĐÔ1(N2) | G18: 90 | I18: 1 | J18: =ROUND(IF(F18>0,F18*H18,"0")+IF(G18>0,(G18/1.5)*I18,"0"),1) -> 60 | M18: =ROUND(J18+K18+L18,1) -> 60
A19: 5 | B19: 9/9-21/12/2013 | C19: 15 | D19: TT điện ô tô 1 | E19: 11CĐÔ4(N2) | G19: 90 | I19: 1 | J19: =ROUND(IF(F19>0,F19*H19,"0")+IF(G19>0,(G19/1.5)*I19,"0"),1) -> 60 | M19: =ROUND(J19+K19+L19,1) -> 60
A20: 6 | B20: 23/9-22/12/2014 | C20: 12 | D20: TT động cơ diesel | E20: 12TC Ô | G20: 60 | I20: 1 | J20: =ROUND(IF(F20>0,F20*H20,"0")+IF(G20>0,(G20/1.5)*I20,"0"),1) -> 40 | M20: =ROUND(J20+K20+L20,1) -> 40
A21: 7 | B21: 23/9-22/12/2014 | C21: 12 | D21: Điều hòa không khí trên ô tô | E21: 12TC Ô | F21: 30 | H21: 1 | J21: =ROUND(IF(F21>0,F21*H21,"0")+IF(G21>0,(G21/1.5)*I21,"0"),1) -> 30 | M21: =ROUND(J21+K21+L21,1) -> 30
A22: 8 | B22: 14/10-15/2/2013 | C22: 15 | D22: NMNCN ô tô | E22: 13CĐ Ô5 | F22: 30 | H22: 1.3 | J22: =ROUND(IF(F22>0,F22*H22,"0")+IF(G22>0,(G22/1.5)*I22,"0"),1) -> 39 | M22: =ROUND(J22+K22+L22,1) -> 39
A23: 9 | D23: Phó khoa | K23: =25%*145 -> 36.25 | M23: =ROUND(J23+K23+L23,1) -> 36.3
A24: 12 | J24: =ROUND(IF(F24>0,F24*H24,"0")+IF(G24>0,(G24/1.5)*I24,"0"),1) -> 0 | M24: =ROUND(J24+K24+L24,1) -> 0
A25: 13 | J25: =ROUND(IF(F25>0,F25*H25,"0")+IF(G25>0,(G25/1.5)*I25,"0"),1) -> 0 | M25: =ROUND(J25+K25+L25,1) -> 0
A26: 14 | J26: =ROUND(IF(F26>0,F26*H26,"0")+IF(G26>0,(G26/1.5)*I26,"0"),1) -> 0 | M26: =ROUND(J26+K26+L26,1) -> 0
A27: 15 | J27: =ROUND(IF(F27>0,F27*H27,"0")+IF(G27>0,(G27/1.5)*I27,"0"),1) -> 0 | M27: =ROUND(J27+K27+L27,1) -> 0
A28: 16 | J28: =ROUND(IF(F28>0,F28*H28,"0")+IF(G28>0,(G28/1.5)*I28,"0"),1) -> 0 | M28: =ROUND(J28+K28+L28,1) -> 0
A29: 17 | J29: =ROUND(IF(F29>0,F29*H29,"0")+IF(G29>0,(G29/1.5)*I29,"0"),1) -> 0 | M29: =ROUND(J29+K29+L29,1) -> 0
A30: 18 | J30: =ROUND(IF(F30>0,F30*H30,"0")+IF(G30>0,(G30/1.5)*I30,"0"),1) -> 0 | M30: =ROUND(J30+K30+L30,1) -> 0
A31: 19 | J31: =ROUND(IF(F31>0,F31*H31,"0")+IF(G31>0,(G31/1.5)*I31,"0"),1) -> 0 | M31: =ROUND(J31+K31+L31,1) -> 0
A32: TỔNG CỘNG (theo tiết) | F32: =SUM(F15:F31) -> 163 | G32: =SUM(G15:G31) -> 267 | J32: =SUM(J15:J31) -> 350 | K32: =SUM(K15:K31) -> 36.25 | L32: =SUM(L15:L31) -> 4 | M32: =SUM(M15:M31) -> 390.3
B33: CÁCH TÍNH: | C33: Cột (6), (7): Nhập đúng số tiết thực dạy
C34: Cột (8), (9): Tổng hệ số = 1+ (Hệ số thứ nhất - 1 + Hệ số thứ hai - 1 + … -1), không kể hệ số quy đổi TH sang tiết chuẩn
C35: Cột (12): Khối lượng công tác cộng thêm (nếu có) theo điều 16 Quy định 1863.
M36: Ngày ……. tháng …... năm 2014
C37: TRƯỞNG KHOA | H37: TRƯỞNG TỔ | M37: GV
B42: NGUYỄN NGỌC PHƯƠNG | F42: TRIỆU PHÚ NGUYÊN | L42: VÕ ĐẮC THỊNH

Sheet Mau A2 Phương
N1: Mẫu A2
C2: ỦY BAN NHÂN DÂN TP.HCM | J2: CỘNG HÒA XÃ HỘI CHỦ NGHĨA VIỆT NAM
C3: TRƯỜNG CĐ KỸ THUẬT LÝ TỰ TRỌNG | J3: Độc lập - Tự do - Hạnh phúc
A5: BẢNG KÊ KHỐI LƯỢNG CÔNG TÁC GIẢNG DẠY CỦA GIÁO VIÊN - GIẢNG VIÊN
A6: TRONG HỌC KỲ 2 - NĂM HỌC 2013 - 2014
B7: Họ và tên giáo viên : | D7: Nguyễn Ngọc | E7: Phương | H7: Tổ : | I7: Động cơ Dầu | L7: Khoa : | M7: Động Lực
M8: (Đơn vị tính : tiết)
A10: TT | B10: Từ ngày ……. tháng ….. đến ngày ……. tháng ….. | C10: Số tuần thực dạy | D10: Môn dạy | E10: Lớp dạy | J10: Thực hiện | N10: Ghi chú
F11: Thực Giảng dạy | K11: Kiêm nhiệm | L11: Khối lượng công tác cộng thêm | M11: Tổng thực hiện
F12: Chưa nhân hệ số | H12: Tổng hệ số | J12: Quy đổi và đã nhân hệ số
F13: LT | G13: TH | H13: LT | I13: TH
A14: (1) | B14: (2) | C14: (3) | D14: (4) | E14: (5) | F14: (6) | G14: (7) | H14: (8) | I14: (9) | J14: (10) | K14: (11) | L14: (12) | M14: (13) | N14: (14)
A15: 1 | B15: 10/2-24/5/2014 | C15: 15 | D15: Ô tô sử dụng năng lương mới | E15: 12LT Ô | F15: 30 | H15: 1 | J15: =ROUND(IF(F15>0,F15*H15,"0")+IF(G15>0,(G15/1.5)*I15,"0"),1) -> 30 | M15: =ROUND(J15+K15+L15,1) -> 30
A16: 2 | B16: 10/2-24/5/2014 | C16: 15 | D16: Kiểm định và chẩn đoán kỹ thuật ô tô | E16: 12LT Ô | F16: 30 | H16: 1 | J16: =ROUND(IF(F16>0,F16*H16,"0")+IF(G16>0,(G16/1.5)*I16,"0"),1) -> 30 | M16: =ROUND(J16+K16+L16,1) -> 30
A17: 3 | D17: Trưởng khoa | J17: =ROUND(IF(F17>0,F17*H17,"0")+IF(G17>0,(G17/1.5)*I17,"0"),1) -> 0 | K17: =30%*155 -> 46.5 | M17: =ROUND(J17+K17+L17,1) -> 46.5
A18: 4 | J18: =ROUND(IF(F18>0,F18*H18,"0")+IF(G18>0,(G18/1.5)*I18,"0"),1) -> 0 | M18: =ROUND(J18+K18+L18,1) -> 0
A19: 5 | J19: =ROUND(IF(F19>0,F19*H19,"0")+IF(G19>0,(G19/1.5)*I19,"0"),1) -> 0 | M19: =ROUND(J19+K19+L19,1) -> 0
A20: 6 | J20: =ROUND(IF(F20>0,F20*H20,"0")+IF(G20>0,(G20/1.5)*I20,"0"),1) -> 0 | M20: =ROUND(J20+K20+L20,1) -> 0
A21: 7 | J21: =ROUND(IF(F21>0,F21*H21,"0")+IF(G21>0,(G21/1.5)*I21,"0"),1) -> 0 | M21: =ROUND(J21+K21+L21,1) -> 0
A22: 8 | J22: =ROUND(IF(F22>0,F22*H22,"0")+IF(G22>0,(G22/1.5)*I22,"0"),1) -> 0 | M22: =ROUND(J22+K22+L22,1) -> 0
A23: 9 | J23: =ROUND(IF(F23>0,F23*H23,"0")+IF(G23>0,(G23/1.5)*I23,"0"),1) -> 0 | M23: =ROUND(J23+K23+L23,1) -> 0
A24: 10 | J24: =ROUND(IF(F24>0,F24*H24,"0")+IF(G24>0,(G24/1.5)*I24,"0"),1) -> 0 | M24: =ROUND(J24+K24+L24,1) -> 0
A25: 11 | J25: =ROUND(IF(F25>0,F25*H25,"0")+IF(G25>0,(G25/1.5)*I25,"0"),1) -> 0 | M25: =ROUND(J25+K25+L25,1) -> 0
A26: 12 | J26: =ROUND(IF(F26>0,F26*H26,"0")+IF(G26>0,(G26/1.5)*I26,"0"),1) -> 0 | M26: =ROUND(J26+K26+L26,1) -> 0
A27: 13 | J27: =ROUND(IF(F27>0,F27*H27,"0")+IF(G27>0,(G27/1.5)*I27,"0"),1) -> 0 | M27: =ROUND(J27+K27+L27,1) -> 0
A28: 14 | J28: =ROUND(IF(F28>0,F28*H28,"0")+IF(G28>0,(G28/1.5)*I28,"0"),1) -> 0 | M28: =ROUND(J28+K28+L28,1) -> 0
A29: 15 | J29: =ROUND(IF(F29>0,F29*H29,"0")+IF(G29>0,(G29/1.5)*I29,"0"),1) -> 0 | M29: =ROUND(J29+K29+L29,1) -> 0
... A34: 20 | J34: =ROUND(IF(F34>0,F34*H34,"0")+IF(G34>0,(G34/1.5)*I34,"0"),1) -> 0 | M34: =ROUND(J34+K34+L34,1) -> 0
A35: TỔNG CỘNG (theo tiết) | F35: =SUM(F15:F34) -> 60 | G35: =SUM(G15:G34) -> 0 | J35: =SUM(J15:J34) -> 60 | K35: =SUM(K15:K34) -> 46.5 | L35: =SUM(L15:L34) -> 0 | M35: =SUM(M15:M34) -> 106.5
M39: Ngày ……. tháng …... năm 2014
C40: TRƯỞNG KHOA | H40: TRƯỞNG TỔ | M40: GV
B45: NGUYỄN NGỌC PHƯƠNG | F45: NGUYỄN ANH TUẤN KIỆT | L45: NGUYỄN NGỌC PHƯƠNG

Sheet Mau A1 Phương
N1: Mẫu A1
C2: ỦY BAN NHÂN DÂN TP.HCM | J2: CỘNG HÒA XÃ HỘI CHỦ NGHĨA VIỆT NAM
C3: TRƯỜNG CĐ KỸ THUẬT LÝ TỰ TRỌNG | J3: Độc lập - Tự do - Hạnh phúc
A5: BẢNG KÊ KHỐI LƯỢNG CÔNG TÁC GIẢNG DẠY CỦA GIÁO VIÊN - GIẢNG VIÊN
A6: TRONG HỌC KỲ 1 - NĂM HỌC 2013 - 2014
B7: Họ và tên giáo viên : | D7: Nguyễn Ngọc | E7: Phương | H7: Tổ : ………………………… | I7: Động cơ dầu | L7: Khoa : …………………………. | M7: Động Lực
M8: (Đơn vị tính : tiết)
A10: TT | B10: Từ ngày ……. tháng ….. đến ngày ……. tháng ….. | C10: Số tuần thực dạy | D10: Môn dạy | E10: Lớp dạy | J10: Thực hiện | N10: Ghi chú
F11: Thực Giảng dạy | K11: Kiêm nhiệm | L11: Khối lượng công tác cộng thêm | M11: Tổng thực hiện
F12: Chưa nhân hệ số | H12: Tổng hệ số | J12: Quy đổi và đã nhân hệ số
F13: LT | G13: TH | H13: LT | I13: TH
A14: (1) | B14: (2) | C14: (3) | D14: (4) | E14: (5) | F14: (6) | G14: (7) | H14: (8) | I14: (9) | J14: (10) | K14: (11) | L14: (12) | M14: (13) | N14: (14)
A15: 1 | B15: 14/10-21/12/13 | C15: 10 | D15: TT ô tô 1 | E15: 11CĐÔ3(N1) | G15: 27 | I15: 1 | J15: =ROUND(IF(F15>0,F15*H15,"0")+IF(G15>0,(G15/1.5)*I15,"0"),1) -> 18 | L15: 2 | M15: =ROUND(J15+K15+L15,1) -> 20 | N15: Thầy Trung dạy thay 3 tiết ngày 22/10
A16: 2 | B16: 9/9-21/12/2013 | C16: 15 | D16: PP nghiên cứu khoa học | E16: 12CĐ Ô2 | F16: 28 | H16: 1 | J16: =ROUND(IF(F16>0,F16*H16,"0")+IF(G16>0,(G16/1.5)*I16,"0"),1) -> 28 | L16: 2 | M16: =ROUND(J16+K16+L16,1) -> 30 | N16: Thầy Kiệt dạy thay 2 tiết ngày 23/10
A17: 3 | B17: 9/9-21/12/2013 | C17: 15 | D17: PP nghiên cứu khoa học | E17: 12CĐ Ô1 | F17: 28 | H17: 1 | J17: =ROUND(IF(F17>0,F17*H17,"0")+IF(G17>0,(G17/1.5)*I17,"0"),1) -> 28 | L17: 2 | M17: =ROUND(J17+K17+L17,1) -> 30 | N17: Thầy Kiệt dạy thay 2 tiết ngày 23/10
A18: 4 | B18: 9/9-21/12/2013 | C18: 15 | D18: PP nghiên cứu khoa học | E18: 12LT Ô | F18: 30 | H18: 1 | J18: =ROUND(IF(F18>0,F18*H18,"0")+IF(G18>0,(G18/1.5)*I18,"0"),1) -> 30 | M18: =ROUND(J18+K18+L18,1) -> 30
A19: 5 | B19: 9/9-21/12/2013 | C19: 15 | D19: NMNCN ô tô | E19: 12LT Ô | F19: 30 | H19: 1 | J19: =ROUND(IF(F19>0,F19*H19,"0")+IF(G19>0,(G19/1.5)*I19,"0"),1) -> 30 | M19: =ROUND(J19+K19+L19,1) -> 30
A20: 6 | B20: 14/10-22/2/2013 | C20: 14 | D20: NMNCN ô tô | E20: 13CĐ Ô1 | F20: 30 | H20: 1.3 | J20: =ROUND(IF(F20>0,F20*H20,"0")+IF(G20>0,(G20/1.5)*I20,"0"),1) -> 39 | M20: =ROUND(J20+K20+L20,1) -> 39
A21: 7 | B21: 14/10-22/2/2013 | C21: 14 | D21: NMNCN ô tô | E21: 13CĐ Ô2 | F21: 28 | H21: 1.3 | J21: =ROUND(IF(F21>0,F21*H21,"0")+IF(G21>0,(G21/1.5)*I21,"0"),1) -> 36.4 | L21: 2 | M21: =ROUND(J21+K21+L21,1) -> 38.4 | N21: Thầy Thái dạy thay 2 tiết ngày 21/10
A22: 8 | B22: 14/10-22/2/2014 | C22: 15 | D22: NMNCN ô tô | E22: 13CĐ Ô3 | F22: 30 | H22: 1.3 | J22: =ROUND(IF(F22>0,F22*H22,"0")+IF(G22>0,(G22/1.5)*I22,"0"),1) -> 39 | M22: =ROUND(J22+K22+L22,1) -> 39
A23: 9 | B23: 14/10-22/2/2014 | C23: 15 | D23: NMNCN ô tô | E23: 13CĐ Ô4 | F23: 28 | H23: 1.3 | J23: =ROUND(IF(F23>0,F23*H23,"0")+IF(G23>0,(G23/1.5)*I23,"0"),1) -> 36.4 | L23: 2 | M23: =ROUND(J23+K23+L23,1) -> 38.4 | N23: Thầy Trung dạy thay 2 tiết ngày 21/10
A24: 10 | B24: 14/10-23/11/13 | C24: 6 | D24: TT kỹ thuật lái xe | E24: 13CĐ Ô4(N2) | G24: 30 | I24: 1.2 | J24: =ROUND(IF(F24>0,F24*H24,"0")+IF(G24>0,(G24/1.5)*I24,"0"),1) -> 24 | M24: =ROUND(J24+K24+L24,1) -> 24
A25: 11 | D25: Trưởng khoa | J25: =ROUND(IF(F25>0,F25*H25,"0")+IF(G25>0,(G25/1.5)*I25,"0"),1) -> 0 | K25: =30%*155 -> 46.5 | M25: =ROUND(J25+K25+L25,1) -> 46.5
A26: 12 | J26: =ROUND(IF(F26>0,F26*H26,"0")+IF(G26>0,(G26/1.5)*I26,"0"),1) -> 0 | M26: =ROUND(J26+K26+L26,1) -> 0
A27: 13 | J27: =ROUND(IF(F27>0,F27*H27,"0")+IF(G27>0,(G27/1.5)*I27,"0"),1) -> 0 | M27: =ROUND(J27+K27+L27,1) -> 0
A28: 14 | J28: =ROUND(IF(F28>0,F28*H28,"0")+IF(G28>0,(G28/1.5)*I28,"0"),1) -> 0 | M28: =ROUND(J28+K28+L28,1) -> 0
A29: 15 | J29: =ROUND(IF(F29>0,F29*H29,"0")+IF(G29>0,(G29/1.5)*I29,"0"),1) -> 0 | M29: =ROUND(J29+K29+L29,1) -> 0
A30: 16 | J30: =ROUND(IF(F30>0,F30*H30,"0")+IF(G30>0,(G30/1.5)*I30,"0"),1) -> 0 | M30: =ROUND(J30+K30+L30,1) -> 0
A31: 17 | J31: =ROUND(IF(F31>0,F31*H31,"0")+IF(G31>0,(G31/1.5)*I31,"0"),1) -> 0 | M31: =ROUND(J31+K31+L31,1) -> 0
A32: 18 | J32: =ROUND(IF(F32>0,F32*H32,"0")+IF(G32>0,(G32/1.5)*I32,"0"),1) -> 0 | M32: =ROUND(J32+K32+L32,1) -> 0
A33: 19 | J33: =ROUND(IF(F33>0,F33*H33,"0")+IF(G33>0,(G33/1.5)*I33,"0"),1) -> 0 | M33: =ROUND(J33+K33+L33,1) -> 0
A34: 20 | J34: =ROUND(IF(F34>0,F34*H34,"0")+IF(G34>0,(G34/1.5)*I34,"0"),1) -> 0 | M34: =ROUND(J34+K34+L34,1) -> 0
A35: TỔNG CỘNG (theo tiết) | F35: =SUM(F15:F34) -> 232 | G35: =SUM(G15:G34) -> 57 | J35: =SUM(J15:J34) -> 308.8 | K35: =SUM(K15:K34) -> 46.5 | L35: =SUM(L15:L34) -> 10 | M35: =SUM(M15:M34) -> 365.3
B36: CÁCH TÍNH: | C36: Cột (6), (7): Nhập đúng số tiết thực dạy
C37: Cột (8), (9): Tổng hệ số = 1+ (Hệ số thứ nhất - 1 + Hệ số thứ hai - 1 + … -1), không kể hệ số quy đổi TH sang tiết chuẩn
C38: Cột (12): Khối lượng công tác cộng thêm (nếu có) theo điều 16 Quy định 1863.
M39: Ngày ……. tháng …... năm 2014
C40: TRƯỞNG KHOA | H40: TRƯỞNG TỔ | M40: GV
B44: NGUYỄN NGỌC PHƯƠNG | F44: NGUYỄN ANH TUẤN KIỆT | L44: NGUYỄN NGỌC PHƯƠNG

Sheet Mau A2 Q Bảo
N1: Mẫu A2
C2: ỦY BAN NHÂN DÂN TP.HCM | J2: CỘNG HÒA XÃ HỘI CHỦ NGHĨA VIỆT NAM
C3: TRƯỜNG CĐ KỸ THUẬT LÝ TỰ TRỌNG | J3: Độc lập - Tự do - Hạnh phúc
A5: BẢNG KÊ KHỐI LƯỢNG CÔNG TÁC GIẢNG DẠY CỦA GIÁO VIÊN - GIẢNG VIÊN
A6: TRONG HỌC KỲ 2 - NĂM HỌC 2013 - 2014
B7: Họ và tên giáo viên : | D7: Hà | E7: Quốc Bảo | H7: Tổ : | I7: Điện Ô tô | L7: Khoa : | M7: Động Lực
M8: (Đơn vị tính : tiết)
A10: TT | B10: Từ ngày ……. tháng ….. đến ngày ……. tháng ….. | C10: Số tuần thực dạy | D10: Môn dạy | E10: Lớp dạy | J10: Thực hiện | N10: Ghi chú
F11: Thực Giảng dạy | K11: Kiêm nhiệm | L11: Khối lượng công tác cộng thêm | M11: Tổng thực hiện
F12: Chưa nhân hệ số | H12: Tổng hệ số | J12: Quy đổi và đã nhân hệ số
F13: LT | G13: TH | H13: LT | I13: TH
A14: (1) | B14: (2) | C14: (3) | D14: (4) | E14: (5) | F14: (6) | G14: (7) | H14: (8) | I14: (9) | J14: (10) | K14: (11) | L14: (12) | M14: (13) | N14: (14)
A15: 1 | B15: 13/1/2013-5/4/2014 | C15: 9 | D15: Thực tập điện ô tô 2 | E15: 11CĐ Ô1 (N2) | G15: 90 | I15: 1 | J15: =ROUND(IF(F15>0,F15*H15,"0")+IF(G15>0,(G15/1.5)*I15,"0"),1) -> 60 | M15: =ROUND(J15+K15+L15,1) -> 60
A16: 2 | D16: Thực tập điện ô tô 2 | E16: 11CĐ Ô3 (N1) | G16: 50 | I16: 1 | J16: =ROUND(IF(F16>0,F16*H16,"0")+IF(G16>0,(G16/1.5)*I16,"0"),1) -> 33.3 | M16: =ROUND(J16+K16+L16,1) -> 33.3 | N16: Dạy thay thầy Thái Sơn bắt đầu từ tuần 26 ngày 3/3/14
A17: 3 | B17: 13/1/2013-5/4/2014 | C17: 9 | D17: Thực tập điện ô tô 2 | E17: 11CĐ Ô3 (N2) | G17: 90 | I17: 1 | J17: =ROUND(IF(F17>0,F17*H17,"0")+IF(G17>0,(G17/1.5)*I17,"0"),1) -> 60 | M17: =ROUND(J17+K17+L17,1) -> 60
A18: 4 | B18: 10/2/2014-24/5/2014 | C18: 15 | D18: Thực tập điện ô tô | E18: 12LT Ô | G18: 60 | I18: 1 | J18: =ROUND(IF(F18>0,F18*H18,"0")+IF(G18>0,(G18/1.5)*I18,"0"),1) -> 40 | M18: =ROUND(J18+K18+L18,1) -> 40
A19: 5 | D19: TTĐ Ô TÔ 2 | E19: 11CĐ Ô1 N1 | G19: 5 | I19: 1 | J19: =ROUND(IF(F19>0,F19*H19,"0")+IF(G19>0,(G19/1.5)*I19,"0"),1) -> 3.3 | M19: =ROUND(J19+K19+L19,1) -> 3.3 | N19: Dạy thay thầy A.Tuấn ngày 29/3 | P19: mn blll
A20: 6 | J20: =ROUND(IF(F20>0,F20*H20,"0")+IF(G20>0,(G20/1.5)*I20,"0"),1) -> 0 | M20: =ROUND(J20+K20+L20,1) -> 0
A21: 6 | J21: =ROUND(IF(F21>0,F21*H21,"0")+IF(G21>0,(G21/1.5)*I21,"0"),1) -> 0 | M21: =ROUND(J21+K21+L21,1) -> 0
A22: 7 | J22: =ROUND(IF(F22>0,F22*H22,"0")+IF(G22>0,(G22/1.5)*I22,"0"),1) -> 0 | M22: =ROUND(J22+K22+L22,1) -> 0
A23: 8 | J23: =ROUND(IF(F23>0,F23*H23,"0")+IF(G23>0,(G23/1.5)*I23,"0"),1) -> 0 | M23: =ROUND(J23+K23+L23,1) -> 0
A24: 9 | J24: =ROUND(IF(F24>0,F24*H24,"0")+IF(G24>0,(G24/1.5)*I24,"0"),1) -> 0 | M24: =ROUND(J24+K24+L24,1) -> 0
A25: 10 | J25: =ROUND(IF(F25>0,F25*H25,"0")+IF(G25>0,(G25/1.5)*I25,"0"),1) -> 0 | M25: =ROUND(J25+K25+L25,1) -> 0
A26: 11 | J26: =ROUND(IF(F26>0,F26*H26,"0")+IF(G26>0,(G26/1.5)*I26,"0"),1) -> 0 | M26: =ROUND(J26+K26+L26,1) -> 0
